Workbook

Sheet Economic Balance Point
B2: Inputs | F2: Natural Gas Calculator | L2: LP Gas Calculator
F4: T | G4: =J20 -> 30.727509 | H4: Economic Balance Point | L4: T | M4: =P20 -> #DIV/0! | N4: Economic Balance Point
B5: COP at 47F | D5: 3.75 | G5: =D5 -> 3.75 | H5: COP - 47 | M5: =D5 -> 3.75 | N5: COP - 47
B6: COP at 17F | D6: 2.6 | G6: =D6 -> 2.6 | H6: COP - 17 | M6: =D6 -> 2.6 | N6: COP - 17
B7: Nat Gas Cost/Therm | D7: 0.9 | F7: K | G7: =H14 -> 3412 | H7: BTU/KW | L7: K | M7: =N14 -> 3412 | N7: BTU/KW
B8: LP Gas Cost/Gal | D8: 0 | F8: F | G8: =D10 -> 0.8 | H8: Furnace Efficiency | L8: F | M8: =D10 -> 0.8 | N8: Furnace Efficiency
B9: Electric Cost/KW | D9: 0.12 | F9: E | G9: =D9 -> 0.12 | H9: Cost of Electricity ($/KWH) | L9: E | M9: =D9 -> 0.12 | N9: Cost of Electricity ($/KWH)
B10: Furnace Efficiency | D10: 0.8 | F10: C | G10: =D7 -> 0.9 | H10: Cost of Fossil Fuel ($/Unit) | L10: C | M10: =D8 -> 0 | N10: Cost of Fossil Fuel ($/Unit)
F11: B | G11: =H13 -> 100000 | H11: BTU/Unit of Fossil Fuel | L11: B | M11: =N13 -> 91500 | N11: BTU/Unit of Fossil Fuel
B13: Changeover Temperature from HP to Furnace | G13: NAT - BTU | H13: 100000 | I13: BFE | J13: =G11*G8*G9 -> 9600 | M13: LP - BTU | N13: 91500 | O13: BFE | P13: =M11*M8*M9 -> 8784
G14: ELEC - BTU | H14: 3412 | I14: CK | J14: =G10*G7 -> 3070.8 | M14: ELEC - BTU | N14: 3412 | O14: CK | P14: =M10*M7 -> 0
I15: BFE/CK | J15: =J13/J14 -> 3.1262212 | O15: BFE/CK | P15: =P13/P14 -> #DIV/0!
I16: COP47-(BFE/CK) | J16: =G5-J15 -> 0.62377882 | O16: COP47-(BFE/CK) | P16: =M5-P15 -> #DIV/0!
B17: Natural Gas | D17: =G4 -> 30.727509 | I17: COP47-COP17 | J17: =$G$5-$G$6 -> 1.15 | O17: COP47-COP17 | P17: =$G$5-$G$6 -> 1.15
I18: COP47-(BFE/CK)/COP47-COP17 | J18: =J16/J17 -> 0.54241637 | O18: COP47-(BFE/CK)/COP47-COP17 | P18: =P16/P17 -> #DIV/0!
B19: LP Gas | D19: =M4 -> #DIV/0! | I19: COP47-(BFE/CK)/COP47-COP18*30 | J19: =J18*30 -> 16.272491 | O19: COP47-(BFE/CK)/COP47-COP18*30 | P19: =P18*30 -> #DIV/0!
I20: Economic Balance Point | J20: =47-J19 -> 30.727509 | O20: Economic Balance Point | P20: =47-P19 -> #DIV/0!
B22: Instructions | G22: Legend
B23: Use the Yellow boxes above to input System Information and Fuel Costs. The Coefficient of Performance (47 and 17) is found in the Tech Guide for the respective Heat Pump. | G23: T | H23: Economic Balance Point | N23: Formula
G24: COP47 | H24: Heat Pump COP at 47F
G25: COP17 | H25: Heat Pump COP at 17F | L25: T =
G26: K | H26: 3413 BTU/KW
G27: F | H27: Furnace Efficiency (AFUE)
G28: E | H28: Cost of Electricity ($/KW)
G29: C | H29: Cost of Fuel ($/Unit)
G30: B | H30: BTU/Unit of Fossil Fuel

Sheet COP Comparison
B2: Operating Cost per Therm | G2: NAT Gas | H2: LP Gas | I2: Electricity | J2: Furnace | K2: Therm | L2: BTU/KW | M2: LP Gas
G3: $/Therm | H3: $/Gal | I3: $/KW | J3: Efficiency | M3: BTU / Gal
B4: HP COP | C4: Heat Pump | D4: NAT Gas | E4: LP Gas | G4: ='Economic Balance Point'!D7 -> 0.9 | H4: ='Economic Balance Point'!D8 -> 0 | I4: ='Economic Balance Point'!D9 -> 0.12 | J4: ='Economic Balance Point'!D10 -> 0.8 | K4: ='Economic Balance Point'!H13 -> 100000 | L4: ='Economic Balance Point'!H14 -> 3412 | M4: ='Economic Balance Point'!N13 -> 91500
B5: 1 | C5: =$K$4/$L$4*$I$4/B5 -> 3.5169988 | D5: =$G$4/$J$4 -> 1.125 | E5: =$K$4/$M$4*$H$4/$J$4 -> 0
B6: 1.1 | C6: =$K$4/$L$4*$I$4/B6 -> 3.1972717 | D6: =$G$4/$J$4 -> 1.125 | E6: =$K$4/$M$4*$H$4/$J$4 -> 0
B7: 1.2 | C7: =$K$4/$L$4*$I$4/B7 -> 2.9308324 | D7: =$G$4/$J$4 -> 1.125 | E7: =$K$4/$M$4*$H$4/$J$4 -> 0
B8: 1.3 | C8: =$K$4/$L$4*$I$4/B8 -> 2.7053837 | D8: =$G$4/$J$4 -> 1.125 | E8: =$K$4/$M$4*$H$4/$J$4 -> 0
B9: 1.4 | C9: =$K$4/$L$4*$I$4/B9 -> 2.512142 | D9: =$G$4/$J$4 -> 1.125 | E9: =$K$4/$M$4*$H$4/$J$4 -> 0
B10: 1.5 | C10: =$K$4/$L$4*$I$4/B10 -> 2.3446659 | D10: =$G$4/$J$4 -> 1.125 | E10: =$K$4/$M$4*$H$4/$J$4 -> 0
B11: 1.6 | C11: =$K$4/$L$4*$I$4/B11 -> 2.1981243 | D11: =$G$4/$J$4 -> 1.125 | E11: =$K$4/$M$4*$H$4/$J$4 -> 0
B12: 1.7 | C12: =$K$4/$L$4*$I$4/B12 -> 2.0688228 | D12: =$G$4/$J$4 -> 1.125 | E12: =$K$4/$M$4*$H$4/$J$4 -> 0
B13: 1.8 | C13: =$K$4/$L$4*$I$4/B13 -> 1.9538882 | D13: =$G$4/$J$4 -> 1.125 | E13: =$K$4/$M$4*$H$4/$J$4 -> 0
B14: 1.9 | C14: =$K$4/$L$4*$I$4/B14 -> 1.851052 | D14: =$G$4/$J$4 -> 1.125 | E14: =$K$4/$M$4*$H$4/$J$4 -> 0
B15: 2 | C15: =$K$4/$L$4*$I$4/B15 -> 1.7584994 | D15: =$G$4/$J$4 -> 1.125 | E15: =$K$4/$M$4*$H$4/$J$4 -> 0
B16: 2.1 | C16: =$K$4/$L$4*$I$4/B16 -> 1.6747613 | D16: =$G$4/$J$4 -> 1.125 | E16: =$K$4/$M$4*$H$4/$J$4 -> 0
... B45: 5 | C45: =$K$4/$L$4*$I$4/B45 -> 0.70339977 | D45: =$G$4/$J$4 -> 1.125 | E45: =$K$4/$M$4*$H$4/$J$4 -> 0
