Workbook
Name activestate: Profiles!$B$2
Name AFUE: AppTech!$B$13
Name Annual_Space_Heating_Requirements: 'User Input'!$F$25
Name avgfamsize: Factors!$A$33
Name c_AnnualCooking: 'User Input'!$F$59
Name c_AnnualDryer: 'User Input'!$F$48
Name c_AnnualHeating: 'User Input'!$F$25
Name c_AnnualWaterHeating: 'User Input'!$F$38
Name c_City: 'User Input'!$F$7
Name c_CO21: 'User Input'!$J$85
Name c_CO22: 'User Input'!$J$87
Name c_CookingEfficiency: 'User Input'!$F$61
Name c_CookingSystem: 'User Input'!$F$57
Name c_Dryer: 'User Input'!$F$44
Name c_DryerEfficiency: 'User Input'!$F$50
Name c_DryerLoads: 'User Input'!$F$46
Name c_ElectricHeating: 'User Input'!$F$23
Name c_Emission: 'User Input'!$F$9
Name c_FamilySize: 'User Input'!$F$32
Name c_GasHeating: 'User Input'!$F$27
Name c_GasWaterHeating: 'User Input'!$F$40
Name c_HeatingSource: 'User Input'!$F$21
Name c_PriceElectricity: 'User Input'!$I$12
Name c_PriceGas: 'User Input'!$F$12
Name c_PriceOil: 'User Input'!$L$12
Name c_PricePropane: 'User Input'!$O$12
Name c_Range: 'User Input'!$F$55
Name c_sqft: 'User Input'!$F$19
Name c_State: 'User Input'!$F$5
Name c_WaterHeatingSystem: 'User Input'!$F$36
Name c_WaterHeatingType: 'User Input'!$F$34
Name Canadian_Average_All_Sources: 'Carbon Calculator'!$DC$9:$DC$19
Name city: 'User Input'!$S$7
Name clothes_current: 'User Input'!$E$50
Name cookeff: AppTech!$B$21
Name cookelecuse: AppTech!$B$25
Name cooking_current1: 'User Input'!$E$59
Name cooking_current2: 'User Input'!$E$61
Name ctype: 'User Input'!$S$57
Name Current_Electric_Heating_System_Type: 'User Input'!$F$23
Name data1: 'User Input'!$E$69:$O$73
Name data2: 'User Input'!$E$79:$O$81
Name dryerloads: 'User Input'!$F$46
Name dtype: 'User Input'!$S$44
Name eGRID_Subregions_Ave_All_Sources: 'Carbon Calculator'!$CY$9:$CY$34
Name eGRID_Subregions_Average_Fossil: 'Carbon Calculator'!$CZ$9:$CZ$34
Name elecheattype: 'User Input'!#REF!
Name electric: Lists!$B$87:$B$89
Name electricity: 'User Input'!$AA$6
Name electricity2: 'User Input'!$AA$8
Name elecWHtype: 'User Input'!#REF!
Name emisProfile: 'User Input'!$S$9
Name Emissions_range: INDIRECT(SUBSTITUTE('Carbon Calculator'!$E$22," ","_"))
Name Emissions_Region: " =INDIRECT(SUBSTITUTE(TRIM(TEXT('Carbon Calculator'!E22,""""@"""")),"""" """",""""_"""")"
Name emissionscomp: 'User Input'!#REF!
Name Energy_Source_for_Current_Heating_System: 'User Input'!$F$21
Name Erates: 'User Input'!$U$12
Name familysize: #REF!
Name famsize: 'User Input'!$F$32
Name furntype: 'User Input'!$S$26

Sheet User Input
D3: Residential Energy Cost & Emissions Calculator
E5: State/Province | F5: US Average | O5: Includes eGrid 2025 update (2023 data) | S5: =IFERROR(MATCH(F5,list_States,0),1) -> 1
Z6: =IF(c_PriceGas="Enter my own NG rates",TRUE,FALSE) -> FALSE | AA6: =IF(c_PriceElectricity="Enter my own electric rates",TRUE,FALSE) -> FALSE | AB6: =IF(c_PriceOil="Enter my own oil rates",TRUE,FALSE) -> FALSE | AC6: =IF(c_PricePropane="Enter my own propane rates",TRUE,FALSE) -> FALSE
E7: City (for U.S. states) | S7: =IFERROR(MATCH(F7,list_City,0),1) -> 1
Z8: =IF(c_PriceGas="Enter my own NG rates",FALSE,TRUE) -> TRUE | AA8: =IF(c_PriceElectricity="Enter my own electric rates",FALSE,TRUE) -> TRUE | AB8: =IF(c_PriceOil="Enter my own oil rates",FALSE,TRUE) -> TRUE | AC8: =IF(c_PricePropane="Enter my own propane rates",FALSE,TRUE) -> TRUE
E9: Central Station Emissions Profile | F9: eGrid Subregions Average Fossil | I9: {=IFERROR(_xlfn.IFS(AND(state<53,emisProfile=3),"Central Station Emissions Profile does not match.",AND(state>52,emisProfile<3),"Central Station Emissions Profile does not match."),"")} | S9: =IFERROR(MATCH(F9,list_Emission,0),1) -> 2
E11: ="" | F11: Natural Gas Price | G11: ="" | I11: Electricity Price | J11: ="" | L11: Oil Price | M11: ="" | O11: Propane Price | P11: =""
E12: Fuel and Electric Prices | F12: Use default NG rates | G12: ="" | I12: Use default electric rates | J12: ="" | L12: Use default oil rates | M12: ="" | O12: Use default propane rates | P12: ="" | S12: =IFERROR(MATCH(F12,list_Naturalgas,0),1) -> 1 | U12: =IFERROR(MATCH(I12,list_Electricity,0),1) -> 1 | W12: =IFERROR(MATCH(L12,list_Oil,0),1) -> 1 | Y12: =IFERROR(MATCH(O12,list_Propane,0),1) -> 1
E13: =IF(OR(NGrates=1,Erates=1,Orates=1,Prates=1),"Default Energy Rates","") -> Default Energy Rates | F13: =IF(NGrates=1,Calc!B117,"") -> 14.83 | G13: =IF(NGrates=1,"$/MMBtu","") -> $/MMBtu | H13: =F12="Use default NG rates" -> TRUE | I13: =IF(Erates=1,Calc!B116,"") -> 16 | J13: =IF(Erates=1,"cents/kWh","") -> cents/kWh | K13: =I12="Use default electric rates" -> TRUE | L13: =IF(Orates=1,Calc!B118,"") -> 4.28 | M13: =IF(Orates=1,"$/gal","") -> $/gal | N13: =L12="Use default oil rates" -> TRUE | O13: =IF(Prates=1,Calc!B119,"") -> 2.56 | P13: =IF(Prates=1,"$/gal","") -> $/gal | Q13: =O12="Use default propane rates" -> TRUE
E14: =IF(OR(NGrates=2,Erates=2,Orates=2,Prates=2),"User Input Energy Rates","") | F14: 14.1 | G14: =IF(NGrates=2,"$/MMBtu","") | H14: =NOT(H13) -> FALSE | I14: 17 | J14: =IF(Erates=2,"cents/kWh","") | K14: =NOT(K13) -> FALSE | L14: 4.1 | M14: =IF(Orates=2,"$/gal","") | N14: =NOT(N13) -> FALSE | O14: 3 | P14: =IF(Prates=2,"$/gal","") | Q14: =NOT(Q13) -> FALSE
D17: Space Heating System
E19: Square Footage of House (between 0 and 6,000 sqft) | F19: 2000 | G19: sqft
E21: Energy Source for Current Heating System | F21: Electric | S21: =IFERROR(MATCH(F21,list_EnergySource,0),1) -> 1
E22: {=IFERROR(_xlfn.IFS(AND(heattype=1,$S$23>4),"Please select a heating system type.",AND(heattype=2,$S$23>5),"Please select a heating system type."),"")}
E23: ="Current " & _xlfn.XLOOKUP(S21,Lists!G4:G7,Lists!H4:H7)&" Heating System Type" -> Current Electric Heating System Type | F23: Standard Effic. Heat Pump - 7.5 HSPF2 | S23: =IFERROR(MATCH(F23,list_ElectricHeating,0),1) -> 2
E25: Annual Space Heating Requirements | F25: =TEXT(Calc!B9,"0.0")&" MMBtu/yr" -> 49.6 MMBtu/yr
S26: =IFERROR(MATCH(F27,list_GasHeating,0),1) -> 1
E27: Type of Natural Gas Heating System To Compare | F27: Average Furnace (AFUE 80%)
D30: Water Heating
E32: Family Size | F32: 4
E34: Type of Current Water Heating System | F34: Electric | S34: =IFERROR(MATCH(F34,list_EnergySource,0),1) -> 1
E35: {=IFERROR(_xlfn.IFS(AND(wheattype=1,$S$36>4),"Please select a water heating system type.",AND(wheattype=2,$S$36>2),"Please select a water heating system type."),"")}
E36: ="Current " & _xlfn.XLOOKUP(S34,Lists!G4:G7,Lists!H4:H7)&" Water Heating System Type" -> Current Electric Water Heating System Type | F36: Standard: UEF = 0.92 | S36: =IFERROR(MATCH(F36,list_WaterElectricSystem,0),1) -> 1
E38: Annual Water Heating Requirements | F38: =Calc!B30 -> 16.329005 | G38: MMBtu/yr
E40: Type of Natural Gas Water Heating System To Compare | F40: Standard Tank: UEF = .58 | S40: =IFERROR(MATCH(F40,list_WaterHeatingGas,0),1) -> 1
D42: Clothes Dryer
E44: Type of Current Dryer | F44: Electric | S44: =IFERROR(MATCH(F44,list_Dryer,0),1) -> 1
E46: Loads per Week (national standard is 8 loads/week) | F46: 8
E48: Annual Dryer Heating Requriements | F48: =Calc!B48 -> 3.7212524 | G48: MMBtu/yr
E50: ="Standard Efficiency - "&_xlfn.XLOOKUP(S44,Lists!I4:I6,Lists!J4:J6) &" Dryer (7lb load)" -> Standard Efficiency - Electric Dryer (7lb load) | F50: =IF(dtype=1,3.73,3.3) -> 3.73 | G50: CEF
D53: Cooking
E55: Prepare meals on a range, cook top or oven | F55: Yes
E57: Type of Current System | F57: Electric | S57: =IFERROR(MATCH(F57,list_Dryer,0),1) -> 1
E59: =IF(ctype=1,"Annual Cooking Electric Requirements","Annual Cooking Heating Requirements") -> Annual Cooking Electric Requirements | F59: =IF(ctype=1,261,1.5) -> 261 | G59: =IF(ctype=1,"kWh/yr","MMBtu/yr") -> kWh/yr
E61: ="Standard Efficiency "&_xlfn.XLOOKUP(S57,Lists!I4:I6,Lists!J4:J6)&" Range" -> Standard Efficiency Electric Range | F61: =IF(ctype=1,0.74,0.4) -> 0.74
D66: Results | F66: Current Home | I66: Proposed Gas Home | L66: Savings with Natural Gas
F67: $/Year | I67: $/Year | L67: $/Year | O67: Percentage
D68: Energy Spending | F68: Consumed at House | I68: Consumed at House | L68: Savings | O68: Of current spending
E69: Space Heating | F69: =Calc!G133 -> 1180.4986 | I69: =Calc!H133 -> 920.17607 | L69: =F69-I69 -> 260.32256 | O69: =IF(L69=0,0,L69/F69) -> 0.22051915
E70: Water Heating | F70: =Calc!G134 -> 832.30567 | I70: =Calc!H134 -> 417.51577 | L70: =F70-I70 -> 414.78991 | O70: =IF(L70=0,0,L70/F70) -> 0.49836247
E71: Clothes Dryer | F71: =Calc!G135 -> 124.91153 | I71: =Calc!H135 -> 55.186174 | L71: =F71-I71 -> 69.725355 | O71: =IF(L71=0,0,L71/F71) -> 0.55819791
E72: Cooking | F72: =Calc!G136 -> 56.432432 | I72: =Calc!H136 -> 22.245 | L72: =F72-I72 -> 34.187432 | O72: =IF(L72=0,0,L72/F72) -> 0.60581178
E73: Total House Appliances | F73: =Calc!G137 -> 2194.1483 | I73: =Calc!H137 -> 1415.123 | L73: =F73-I73 -> 779.02525 | O73: =IF(L73=0,0,L73/F73) -> 0.35504677
D77: Emissions | F77: lbs/Year | I77: lbs/Year | L77: lbs/Year | O77: Percentage
F78: Emmited | I78: Emmited | L78: Savings | O78: Of current emissions
E79: NOx - lbs / Year | F79: ='Carbon Calculator'!E132 -> 10.28145 | I79: ='Carbon Calculator'!I132 -> 11.777152 | L79: =F79-I79 -> -1.495702 | O79: =L79/F79 -> -0.14547579
E80: SOx - lbs / Year | F80: ='Carbon Calculator'!E131 -> 8.2106789 | I80: ='Carbon Calculator'!I131 -> 0.056131173 | L80: =F80-I80 -> 8.1545477 | O80: =L80/F80 -> 0.99316364
E81: CO2 - lbs / Year | F81: ='Carbon Calculator'!E130 -> 18394.513 | I81: ='Carbon Calculator'!I130 -> 11226.235 | L81: =F81-I81 -> 7168.2781 | O81: =L81/F81 -> 0.38969655
E84: Yes
E85: No | I85: CO2 Reduction | J85: =IF(Calc!B104>0,Calc!B104,"n/a") -> 8128.7741 | K85: miles driven by a gasoline-powered passenger vehicle
I86: Equivalent to:
J87: =IF(Calc!B102>0,Calc!B102,"n/a") -> 3.2515096 | K87: Acres of forest removing CO2 from the Air

Sheet Lists
A1: Pick list lookups | H1: *lists below update based on fuel type
A3: A1 | B3: Furnace technology | H3: Type of Heating System to Compare | J3: Dryer/Cooking Types
A4: 1 | B4: Average Furnace (AFUE 80%) | C4: 0.8 | G4: 1 | H4: Electric | I4: 1 | J4: Electric
A5: 2 | B5: High Efficiency Furnace (AFUE 92%) | C5: 0.92 | G5: 2 | H5: Oil | I5: 2 | J5: Propane
A6: 3 | B6: Ultra High Effic. Furnace (AFUE 97%) | C6: 0.97 | G6: 3 | H6: Propane | I6: 3 | J6: Gas
A7: 4 | B7: Standard Boiler (AFUE 82%) | C7: 0.82 | G7: 4 | H7: Gas
A8: 5 | B8: Condensing Boiler (AFUE 92%) | C8: 0.92 | G8: Space | H8: =CHOOSE(heattype, "Electric", "Oil", "Propane", "Gas") -> Electric
A9: 6 | B9: Wall Hung Boiler (AFUE 96%) | C9: 0.96 | G9: Water | H9: =CHOOSE(wheattype, "Electric", "Oil", "Propane", "Gas") -> Electric
A10: 7 | B10: Gas Heat Pump (COP 1.4) | C10: 1.4
A11: B8 | B11: Egrid profile | G11: ="Space "&H8& " System" -> Space Electric System | H11: {=IFERROR(INDEX(CHOOSE(heattype, $B$87:$B$90, $H$87:$H$91, $L$87:$L$93, $B$4:$B$10), ROW(1:1)), "")} -> Electric Furnace/Strip Heat - 99% AFUE
A12: 1 | B12: eGRID Average All Sources 2010 | H12: {=IFERROR(INDEX(CHOOSE(heattype, $B$87:$B$90, $H$87:$H$91, $L$87:$L$93, $B$4:$B$10), ROW(2:2)), "")} -> Standard Effic. Heat Pump - 7.5 HSPF2
A13: 2 | B13: eGRID Average Fossil 2010 | H13: {=IFERROR(INDEX(CHOOSE(heattype, $B$87:$B$90, $H$87:$H$91, $L$87:$L$93, $B$4:$B$10), ROW(3:3)), "")} -> Energy Star Heat Pump - 7.8 HSPF2
A14: 3 | B14: Canadian Average All Sources 2011 | C14: *not used for calculations | H14: {=IFERROR(INDEX(CHOOSE(heattype, $B$87:$B$90, $H$87:$H$91, $L$87:$L$93, $B$4:$B$10), ROW(4:4)), "")} -> High Efficiency Heat Pump - 9 HSPF2
A15: 4 | H15: {=IFERROR(INDEX(CHOOSE(heattype, $B$87:$B$89, $H$87:$H$91, $L$87:$L$93, $B$4:$B$10), ROW(5:5)), "")}
A16: 5 | H16: {=IFERROR(INDEX(CHOOSE(heattype, $B$87:$B$89, $H$87:$H$91, $L$87:$L$93, $B$4:$B$10), ROW(6:6)), "")}
H17: {=IFERROR(INDEX(CHOOSE(heattype, $B$87:$B$89, $H$87:$H$91, $L$87:$L$93, $B$4:$B$10), ROW(7:7)), "")}
G18: ="Water "&H9& " System" -> Water Electric System | H18: {=IFERROR(INDEX(CHOOSE(wheattype,$B$104:$B$107,$H$96:$H$97,$L$96:$L$103, $B$94:$B$101), ROW(1:1)), "")} -> Standard: UEF = 0.92
H19: {=IFERROR(INDEX(CHOOSE(wheattype,$B$104:$B$107,$H$96:$H$97,$L$96:$L$103, $B$94:$B$101), ROW(2:2)), "")} -> High-Performing: UEF = 0.93
A20: B6 | B20: State | D20: Census Region | E20: Regional Factor | H20: {=IFERROR(INDEX(CHOOSE(wheattype,$B$104:$B$107,$H$96:$H$97,$L$96:$L$103, $B$94:$B$101), ROW(3:3)), "")} -> Whole Home Electric Tankless:UE = .91
A21: 1 | B21: US Average | C21: US | D21: US | E21: 1 | F21: =A21 -> 1 | H21: {=IFERROR(INDEX(CHOOSE(wheattype,$B$104:$B$107,$H$96:$H$97,$L$96:$L$103, $B$94:$B$101), ROW(4:4)), "")} -> Elec. Heat Pump Water Heater:UEF=3.0
A22: 2 | B22: Alaska | C22: AK | D22: Pacific | E22: 1 | F22: =A22 -> 2 | H22: {=IFERROR(INDEX(CHOOSE(wheattype,$B$104:$B$107,$H$96:$H$97,$L$96:$L$103, $B$94:$B$101), ROW(5:5)), "")}
A23: 3 | B23: Alabama | C23: AL | D23: East South Central | E23: 0.92 | F23: =A23 -> 3 | H23: {=IFERROR(INDEX(CHOOSE(wheattype,$B$104:$B$107,$H$96:$H$97,$L$96:$L$103, $B$94:$B$101), ROW(6:6)), "")}
A24: 4 | B24: Arkansas | C24: AR | D24: West South Central | E24: 0.88 | F24: =A24 -> 4 | H24: {=IFERROR(INDEX(CHOOSE(wheattype,$B$104:$B$107,$H$96:$H$97,$L$96:$L$103, $B$94:$B$101), ROW(7:7)), "")}
A25: 5 | B25: Arizona | C25: AZ | D25: Mountain | E25: 0.82 | F25: =A25 -> 5 | H25: {=IFERROR(INDEX(CHOOSE(wheattype,$B$104:$B$107,$H$96:$H$97,$L$96:$L$103, $B$94:$B$101), ROW(8:8)), "")}
A26: 6 | B26: California | C26: CA | D26: Pacific | E26: 0.75 | F26: =A26 -> 6
A27: 7 | B27: Colorado | C27: CO | D27: Mountain | E27: 0.82 | F27: =A27 -> 7
A28: 8 | B28: Connecticut | C28: CT | D28: New England | E28: 1.1 | F28: =A28 -> 8
A29: 9 | B29: District of Columbia | C29: DC | D29: South Atlantic | E29: 0.75 | F29: =A29 -> 9
A30: 10 | B30: Delaware | C30: DE | D30: South Atlantic | E30: 0.75 | F30: =A30 -> 10
A31: 11 | B31: Florida | C31: FL | D31: South Atlantic | E31: 0.75 | F31: =A31 -> 11
A32: 12 | B32: Georgia | C32: GA | D32: South Atlantic | E32: 0.75 | F32: =A32 -> 12
A33: 13 | B33: Hawaii | C33: HI | D33: Pacific | E33: 0.75 | F33: =A33 -> 13
A34: 14 | B34: Iowa | C34: IA | D34: West North Central | E34: 1.06 | F34: =A34 -> 14
A35: 15 | B35: Idaho | C35: ID | D35: Mountain | E35: 0.82 | F35: =A35 -> 15
A36: 16 | B36: Illinois | C36: IL | D36: East North Central | E36: 1.03 | F36: =A36 -> 16
A37: 17 | B37: Indiana | C37: IN | D37: East North Central | E37: 1.03 | F37: =A37 -> 17
... A83: 63 | B83: Saskatchewan | C83: SK | D83: East North Central | E83: 1.03 | F83: =A83 -> 63
A86: H3 | B86: What is the Efficiency of the Electric Heating System that is Being Displaced? | H86: What is the Efficiency of the Oil Heating System that is Being Displaced? | L86: What is the Efficiency of the Propane Heating System that is Being Displaced?
A87: 1 | B87: Electric Furnace/Strip Heat - 99% AFUE | G87: 1 | H87: Furnace ,non-weatherized (78% AFUE) | I87: 0.78 | K87: 1 | L87: Average Furnace (AFUE 80%) | M87: 0.8
A88: 2 | B88: Standard Effic. Heat Pump - 7.5 HSPF2 | D88: http://www.rheem.com/products/heating_and_cooling/heat_pumps/ | G88: 2 | H88: Avg furnace, after 5/1/13 (83% AFUE) | I88: 0.83 | K88: 2 | L88: High Efficiency Furnace (AFUE 92%) | M88: 0.92
A89: 3 | B89: Energy Star Heat Pump - 7.8 HSPF2 | G89: 3 | H89: HE Furnace (85% AFUE) | I89: 0.85 | K89: 3 | L89: Ultra High Effic. Furnace (AFUE 97%) | M89: 0.97
A90: 4 | B90: High Efficiency Heat Pump - 9 HSPF2 | D90: http://www.horizonservicesinc.com/reference/tips-articles/ratings-explained | E90: http://www.lennox.com/products/heat-pumps/XP13/ | F90: http://www.lennox.com/products/heat-pumps/XP25/ | G90: 4 | H90: Standard boiler (84% AFUE) | I90: 0.84 | K90: 4 | L90: Standard Boiler (AFUE 82%) | M90: 0.82
G91: 5 | H91: Condensing boiler(92.8% AFUE) | I91: 0.928 | K91: 5 | L91: Condensing Boiler (AFUE 92%) | M91: 0.92
K92: 6 | L92: Wall Hung Boiler (AFUE 96%) | M92: 0.96
A93: C1 | B93: Natural Gas Water Heater Energy Factor | C93: UEF | K93: 7 | L93: Gas Heat Pump (COP 1.4) | M93: 1.4
A94: 1 | B94: Standard Tank: UEF = .58 | C94: 0.58
A95: 2 | B95: High Performing Tank: UEF = 0.68 | C95: 0.68 | E95: https://www.aosmithatlowes.com/products/water-heaters/gas-water-heaters/g12-cadt4040nv/ | H95: Oil Water Heater Energy Factor | I95: UEF | L95: Propane Water Heater Energy Factor | M95: UEF
A96: 3 | B96: Power Vent Tank: UEF = .70 | C96: 0.7 | E96: https://www.aosmithatlowes.com/products/water-heaters/gas-water-heaters/g6-pvt4050pv/ | G96: 1 | H96: Standard Tank: UEF = .54 | I96: 0.54 | K96: 1 | L96: Standard Tank: UEF = .58 | M96: 0.58
A97: 4 | B97: Direct Vent: UEF = 0.60 | C97: 0.6 | E97: https://www.aosmithatlowes.com/products/water-heaters/gas-water-heaters/g6-dvs4038nvl/ | G97: 2 | H97: High Efficiency Tank = .64 | I97: 0.64 | K97: 2 | L97: High Performing Tank: UEF = 0.68 | M97: 0.68
A98: 5 | B98: Condensing Tank: UEF = 0.9 | C98: 0.9 | E98: https://www.aosmithatlowes.com/products/water-heaters/gas-water-heaters/gc9-ps4050nv/ | K98: 3 | L98: Power Vent Tank: UEF = .70 | M98: 0.7
A99: 6 | B99: Tankless: UEF = 0.81 | C99: 0.81 | E99: https://www.aosmithatlowes.com/products/water-heaters/gas-tankless/gt15-510c-i/ | K99: 4 | L99: Direct Vent: UEF = 0.60 | M99: 0.6
A100: 7 | B100: Condensing Tankless: UEF = 0.95 | C100: 0.95 | E100: https://www.aosmithatlowes.com/products/water-heaters/gas-tankless/gt15thr-199x3/ | K100: 5 | L100: Condensing Tank: UEF = 0.9 | M100: 0.9
A101: 8 | B101: Gas Heat Pump: COP = 1.4 | C101: 1.4 | K101: 6 | L101: Tankless: UEF = 0.81 | M101: 0.81
K102: 7 | L102: Condensing Tankless: UEF = 0.95 | M102: 0.95
A103: C2 | B103: Electric Water Heater Enegy Factor | C103: UEF | K103: 8 | L103: Gas Heat Pump: COP = 1.4 | M103: 1.4
A104: 1 | B104: Standard: UEF = 0.92 | C104: 0.92 | E104: https://www.aosmithatlowes.com/products/water-heaters/electric-water-heaters/e6-40r38d-ttp/
A105: 2 | B105: High-Performing: UEF = 0.93 | C105: 0.93 | E105: https://www.aosmithatlowes.com/products/water-heaters/electric-water-heaters/eea12-40r55dvf/
A106: 3 | B106: Whole Home Electric Tankless:UE = .91 | C106: 0.91 | E106: https://www.aosmithatlowes.com/products/water-heaters/electric-tankless/r4mr-320e/
A107: 4 | B107: Elec. Heat Pump Water Heater:UEF=3.0 | C107: 3 | E107: https://www.aosmithatlowes.com/products/water-heaters/electric-water-heaters/hpv10-80h01dv/
A109: C3 | B109: Natural Gas Dryer Energy Factor
A110: 1 | B110: Standard Dryer (7lb load): CEF = 3.3
A112: C4 | B112: Electric Dryer Energy Factor
A113: 1 | B113: Standard Dryer (7lb load): CEF = 3.73
A115: 1 | B115: Use default NG rates | C115: 1 | D115: Use default electric rates | F115: 1 | G115: Use default oil rates | H115: 1 | I115: Use default propane rates
A116: 2 | B116: Enter my own NG rates | C116: 2 | D116: Enter my own electric rates | F116: 2 | G116: Enter my own oil rates | H116: 2 | I116: Enter my own propane rates
B118: State | D118: City | E118: Total Heating Load MMBtu | F118: ASHRAE Design Temp | I118: eGRID Subregion
A119: 1 | B119: AK | C119: =IF(B119=activestate,IF(B119=activestate,C118+1,1),0) -> 0 | D119: Anchorage | E119: 89.101272 | F119: -10 | G119: 1 | H119: =IF(ISERROR(VLOOKUP(1,$C119:$D$346,2,0)),"",VLOOKUP(1,$C119:$D$346,2,0)) | I119: AKGD | J119: ASCC Alaska Grid
A120: 2 | B120: AK | C120: =IF(B120=activestate,IF(B120=activestate,C119+1,1),0) -> 0 | D120: Annette | E120: 52.489176 | F120: 17 | G120: 2 | H120: =IF(ISERROR(VLOOKUP(2,$C120:$D$346,2,0)),"",VLOOKUP(2,$C120:$D$346,2,0)) | I120: AKMS | J120: ASCC Miscellaneous
A121: 3 | B121: AK | C121: =IF(B121=activestate,IF(B121=activestate,C120+1,1),0) -> 0 | D121: Bethel | E121: 130.0261 | F121: -24 | G121: 3 | H121: =IF(ISERROR(VLOOKUP(3,$C121:$D$346,2,0)),"",VLOOKUP(3,$C121:$D$346,2,0)) | I121: AKMS | J121: ASCC Miscellaneous
A122: 4 | B122: AK | C122: =IF(B122=activestate,IF(B122=activestate,C121+1,1),0) -> 0 | D122: Big Delta | E122: 130.79268 | F122: -39 | G122: 4 | H122: =IF(ISERROR(VLOOKUP(4,$C122:$D$346,2,0)),"",VLOOKUP(4,$C122:$D$346,2,0)) | I122: AKMS | J122: ASCC Miscellaneous
A123: 5 | B123: AK | C123: =IF(B123=activestate,IF(B123=activestate,C122+1,1),0) -> 0 | D123: Cold Bay | E123: 90.59724 | F123: 10 | G123: 5 | H123: =IF(ISERROR(VLOOKUP(5,$C123:$D$346,2,0)),"",VLOOKUP(5,$C123:$D$346,2,0)) | I123: AKMS | J123: ASCC Miscellaneous
A124: 6 | B124: AK | C124: =IF(B124=activestate,IF(B124=activestate,C123+1,1),0) -> 0 | D124: Fairbanks | E124: 138.52142 | F124: -36 | G124: 6 | H124: =IF(ISERROR(VLOOKUP(6,$C124:$D$346,2,0)),"",VLOOKUP(6,$C124:$D$346,2,0)) | I124: AKGD | J124: ASCC Alaska Grid
A125: 7 | B125: AK | C125: =IF(B125=activestate,IF(B125=activestate,C124+1,1),0) -> 0 | D125: Gulkana | E125: 125.00849 | F125: -39 | G125: 7 | H125: =IF(ISERROR(VLOOKUP(7,$C125:$D$346,2,0)),"",VLOOKUP(7,$C125:$D$346,2,0)) | I125: AKGD | J125: ASCC Alaska Grid
A126: 8 | B126: AK | C126: =IF(B126=activestate,IF(B126=activestate,C125+1,1),0) -> 0 | D126: King Salmon | E126: 103.70273 | F126: -19 | G126: 8 | H126: =IF(ISERROR(VLOOKUP(8,$C126:$D$346,2,0)),"",VLOOKUP(8,$C126:$D$346,2,0)) | I126: AKMS | J126: ASCC Miscellaneous
A127: 9 | B127: AK | C127: =IF(B127=activestate,IF(B127=activestate,C126+1,1),0) -> 0 | D127: Kodiak | E127: 71.07996 | F127: 12 | G127: 9 | H127: =IF(ISERROR(VLOOKUP(9,$C127:$D$346,2,0)),"",VLOOKUP(9,$C127:$D$346,2,0)) | I127: AKMS | J127: ASCC Miscellaneous
A128: 10 | B128: AK | C128: =IF(B128=activestate,IF(B128=activestate,C127+1,1),0) -> 0 | D128: McGrath | E128: 135.15578 | F128: -42 | G128: 10 | H128: =IF(ISERROR(VLOOKUP(10,$C128:$D$346,2,0)),"",VLOOKUP(10,$C128:$D$346,2,0)) | I128: AKMS | J128: ASCC Miscellaneous
A129: 11 | B129: AK | C129: =IF(B129=activestate,IF(B129=activestate,C128+1,1),0) -> 0 | D129: Nome | E129: 133.41173 | F129: -26 | G129: 11 | H129: =IF(ISERROR(VLOOKUP(11,$C129:$D$346,2,0)),"",VLOOKUP(11,$C129:$D$346,2,0)) | I129: AKMS | J129: ASCC Miscellaneous
A130: 12 | B130: AK | C130: =IF(B130=activestate,IF(B130=activestate,C129+1,1),0) -> 0 | D130: St Paul Island | E130: 110.81215 | F130: 3 | G130: 12 | H130: =IF(ISERROR(VLOOKUP(12,$C130:$D$346,2,0)),"",VLOOKUP(12,$C130:$D$346,2,0)) | I130: AKMS | J130: ASCC Miscellaneous
A131: 13 | B131: AK | C131: =IF(B131=activestate,IF(B131=activestate,C130+1,1),0) -> 0 | D131: Talkeetna | E131: 99.339048 | F131: -21 | G131: 13 | H131: =IF(ISERROR(VLOOKUP(13,$C131:$D$346,2,0)),"",VLOOKUP(13,$C131:$D$346,2,0)) | I131: AKGD | J131: ASCC Alaska Grid
A132: 14 | B132: AK | C132: =IF(B132=activestate,IF(B132=activestate,C131+1,1),0) -> 0 | D132: Yakutat | E132: 76.19988 | F132: 2 | G132: 14 | H132: =IF(ISERROR(VLOOKUP(14,$C132:$D$346,2,0)),"",VLOOKUP(14,$C132:$D$346,2,0)) | I132: AKMS | J132: ASCC Miscellaneous
A133: 15 | B133: AL | C133: =IF(B133=activestate,IF(B133=activestate,C132+1,1),0) -> 0 | D133: Birmingham | E133: 30.851112 | F133: 23 | G133: 15 | H133: =IF(ISERROR(VLOOKUP(15,$C133:$D$346,2,0)),"",VLOOKUP(15,$C133:$D$346,2,0)) | I133: SRSO | J133: SERC South
A134: 16 | B134: AL | C134: =IF(B134=activestate,IF(B134=activestate,C133+1,1),0) -> 0 | D134: Huntsville | E134: 38.930304 | F134: 20 | I134: SRTV | J134: SERC Tennessee Valley
A135: 17 | B135: AL | C135: =IF(B135=activestate,IF(B135=activestate,C134+1,1),0) -> 0 | D135: Mobile | E135: 23.041128 | F135: 30 | I135: SRSO | J135: SERC South
A136: 18 | B136: AL | C136: =IF(B136=activestate,IF(B136=activestate,C135+1,1),0) -> 0 | D136: Montgomery | E136: 24.812712 | F136: 27 | I136: SRSO | J136: SERC South
A137: 19 | B137: AR | C137: =IF(B137=activestate,IF(B137=activestate,C136+1,1),0) -> 0 | D137: Fort Smith | E137: 35.974752 | F137: 19 | I137: SRMV | J137: SERC Mississippi Valley
A138: 20 | B138: AR | C138: =IF(B138=activestate,IF(B138=activestate,C137+1,1),0) -> 0 | D138: Little Rock | E138: 34.761552 | F138: 21 | I138: SRMV | J138: SERC Mississippi Valley
A139: 21 | B139: AZ | C139: =IF(B139=activestate,IF(B139=activestate,C138+1,1),0) -> 0 | D139: Flagstaff | E139: 45.181752 | F139: 8 | I139: AZNM | J139: WECC Southwest
A140: 22 | B140: AZ | C140: =IF(B140=activestate,IF(B140=activestate,C139+1,1),0) -> 0 | D140: Phoenix | E140: 16.992672 | F140: 37.5 | I140: AZNM | J140: WECC Southwest
A141: 23 | B141: AZ | C141: =IF(B141=activestate,IF(B141=activestate,C140+1,1),0) -> 0 | D141: Prescott | E141: 34.038288 | F141: 20 | I141: AZNM | J141: WECC Southwest
A142: 24 | B142: AZ | C142: =IF(B142=activestate,IF(B142=activestate,C141+1,1),0) -> 0 | D142: Tucson | E142: 19.630752 | F142: 34 | I142: AZNM | J142: WECC Southwest
A143: 25 | B143: CA | C143: =IF(B143=activestate,IF(B143=activestate,C142+1,1),0) -> 0 | D143: Arcata | E143: 23.696064 | F143: 32 | I143: CAMX | J143: WECC California
A144: 26 | B144: CA | C144: =IF(B144=activestate,IF(B144=activestate,C143+1,1),0) -> 0 | D144: Bakersfield | E144: 22.651848 | F144: 35 | I144: CAMX | J144: WECC California
A145: 27 | B145: CA | C145: =IF(B145=activestate,IF(B145=activestate,C144+1,1),0) -> 0 | D145: Daggett | E145: 20.38932 | F145: 32 | I145: CAMX | J145: WECC California
... A346: 228 | B346: WY | C346: =IF(B346=activestate,IF(B346=activestate,C345+1,1),0) -> 0 | D346: Sheridan | E346: 58.832976 | F346: -8 | I346: NWPP | J346: WECC Northwest
B350: Home Size (sqft)
A351: 1 | B351: 2000
A352: 2 | B352: 3000
A353: 3 | B353: 4000
A357: 1 | B357: I will enter my own rate
A358: 2 | B358: Use default average state/province rate

Sheet Heating Load
D1: Heat Load | E1: 2,000 sqft | F1: 3,000 sqft | G1: 4,000 sqft | H1: slope | I1: intercept | K1: Selected sqft
B2: =activestate -> US | C2: =LOOKUP(city,Lists!G119:G133,Lists!H119:H133) | E2: =VLOOKUP(1,B4:E243,4,0) -> 49.469595 | F2: =VLOOKUP(1,B4:F243,5,0) -> 65.263808 | G2: =VLOOKUP(1,B4:G243,6,0) -> 80.043824 | H2: =SLOPE(E2:G2,homesize) -> 0.015287114 | I2: =INTERCEPT(E2:G2,homesize) -> 19.0644 | K2: =(sqft*H2)+I2 -> 49.638628
B3: Active | C3: State | D3: City | E3: Total Heating Load MMBtu (2000 sqft) | F3: Total Heating Load MMBtu (3000 sqft) | G3: Total Heating Load MMBtu (4000 sqft)
A4: 1 | B4: =IF(C4=activestate,IF(D4=C$2,1,0),0) -> 0 | C4: AK | D4: Anchorage | E4: 89.101272 | F4: 117.4405 | G4: 144.55022
A5: 2 | B5: =IF(C5=activestate,IF(D5=C$2,1,0),0) -> 0 | C5: AK | D5: Annette | E5: 52.489176 | F5: 68.8404 | G5: 84.332808
A6: 3 | B6: =IF(C6=activestate,IF(D6=C$2,1,0),0) -> 0 | C6: AK | D6: Bethel | E6: 130.0261 | F6: 173.18316 | G6: 213.78907
A7: 4 | B7: =IF(C7=activestate,IF(D7=C$2,1,0),0) -> 0 | C7: AK | D7: Big Delta | E7: 130.79268 | F7: 173.33462 | G7: 212.44766
A8: 5 | B8: =IF(C8=activestate,IF(D8=C$2,1,0),0) -> 0 | C8: AK | D8: Cold Bay | E8: 90.59724 | F8: 119.39069 | G8: 145.48884
A9: 6 | B9: =IF(C9=activestate,IF(D9=C$2,1,0),0) -> 0 | C9: AK | D9: Fairbanks | E9: 138.52142 | F9: 182.28103 | G9: 225.53659
A10: 7 | B10: =IF(C10=activestate,IF(D10=C$2,1,0),0) -> 0 | C10: AK | D10: Gulkana | E10: 125.00849 | F10: 164.8849 | G10: 203.18772
A11: 8 | B11: =IF(C11=activestate,IF(D11=C$2,1,0),0) -> 0 | C11: AK | D11: King Salmon | E11: 103.70273 | F11: 136.59804 | G11: 168.18247
A12: 9 | B12: =IF(C12=activestate,IF(D12=C$2,1,0),0) -> 0 | C12: AK | D12: Kodiak | E12: 71.07996 | F12: 93.19812 | G12: 114.29434
A13: 10 | B13: =IF(C13=activestate,IF(D13=C$2,1,0),0) -> 0 | C13: AK | D13: McGrath | E13: 135.15578 | F13: 177.43106 | G13: 219.12886
A14: 11 | B14: =IF(C14=activestate,IF(D14=C$2,1,0),0) -> 0 | C14: AK | D14: Nome | E14: 133.41173 | F14: 176.02452 | G14: 214.98792
A15: 12 | B15: =IF(C15=activestate,IF(D15=C$2,1,0),0) -> 0 | C15: AK | D15: St Paul Island | E15: 110.81215 | F15: 146.2098 | G15: 178.37767
... A205: 202 | B205: =IF(C205=activestate,IF(D205=C$2,1,0),0) -> 0 | C205: TX | D205: Wichita Falls | E205: 38.54712 | F205: 52.163184 | G205: 64.768224
A206: 203 | B206: =IF(C206=activestate,IF(D206=C$2,1,0),0) -> 1 | C206: US | E206: 49.469595 | F206: 65.263808 | G206: 80.043824
A207: 204 | B207: =IF(C207=activestate,IF(D207=C$2,1,0),0) -> 0 | C207: UT | D207: Cedar City | E207: 43.59312 | F207: 56.616816 | G207: 68.737176
A208: 205 | B208: =IF(C208=activestate,IF(D208=C$2,1,0),0) -> 0 | C208: UT | D208: Salt Lake City | E208: 44.005344 | F208: 57.794424 | G208: 70.2642
A209: 206 | B209: =IF(C209=activestate,IF(D209=C$2,1,0),0) -> 0 | C209: VA | D209: Lynchburg | E209: 39.168864 | F209: 51.492672 | G209: 62.641344
A210: 207 | B210: =IF(C210=activestate,IF(D210=C$2,1,0),0) -> 0 | C210: VA | D210: Norfolk | E210: 32.913144 | F210: 43.402824 | G210: 52.879296
A211: 208 | B211: =IF(C211=activestate,IF(D211=C$2,1,0),0) -> 0 | C211: VA | D211: Richmond | E211: 34.488624 | F211: 45.464592 | G211: 55.407768
A212: 209 | B212: =IF(C212=activestate,IF(D212=C$2,1,0),0) -> 0 | C212: VA | D212: Roanoke | E212: 39.25704 | F212: 51.707208 | G212: 62.977488
A213: 210 | B213: =IF(C213=activestate,IF(D213=C$2,1,0),0) -> 0 | C213: VA | D213: Sterling | E213: 50.067576 | F213: 65.946408 | G213: 80.356704
A214: 211 | B214: =IF(C214=activestate,IF(D214=C$2,1,0),0) -> 0 | C214: VT | D214: Burlington | E214: 70.03296 | F214: 92.243472 | G214: 113.56759
A215: 212 | B215: =IF(C215=activestate,IF(D215=C$2,1,0),0) -> 0 | C215: WA | D215: Olympia | E215: 42.373584 | F215: 55.387536 | G215: 68.060352
A216: 213 | B216: =IF(C216=activestate,IF(D216=C$2,1,0),0) -> 0 | C216: WA | D216: Quillayute | E216: 36.172008 | F216: 47.008344 | G216: 57.478992
A217: 214 | B217: =IF(C217=activestate,IF(D217=C$2,1,0),0) -> 0 | C217: WA | D217: Seattle | E217: 37.623504 | F217: 49.476528 | G217: 60.090984
A218: 215 | B218: =IF(C218=activestate,IF(D218=C$2,1,0),0) -> 0 | C218: WA | D218: Spokane | E218: 55.130376 | F218: 72.412344 | G218: 88.054128
... A232: 229 | B232: =IF(C232=activestate,IF(D232=C$2,1,0),0) -> 0 | C232: WY | D232: Sheridan | E232: 58.832976 | F232: 77.031696 | G232: 93.517656
A233: 230 | B233: =IF(C233=activestate,IF(D233=C$2,1,0),0) -> 0 | C233: AB | E233: 60.364008 | F233: 79.090272 | G233: 97.031616 | H233: Billings, MT
A234: 231 | B234: =IF(C234=activestate,IF(D234=C$2,1,0),0) -> 0 | C234: BC | E234: 37.623504 | F234: 49.476528 | G234: 60.090984 | H234: Seattle, WA
A235: 232 | B235: =IF(C235=activestate,IF(D235=C$2,1,0),0) -> 0 | C235: MB | E235: 76.195464 | F235: 100.31606 | G235: 123.49027 | H235: Green Bay, WI
A236: 233 | B236: =IF(C236=activestate,IF(D236=C$2,1,0),0) -> 0 | C236: NB | E236: 61.914264 | F236: 81.157488 | G236: 98.565888 | H236: Portland, ME
A237: 234 | B237: =IF(C237=activestate,IF(D237=C$2,1,0),0) -> 0 | C237: NF | E237: 89.101272 | F237: 117.4405 | G237: 144.55022 | H237: Anchorage, AK
A238: 235 | B238: =IF(C238=activestate,IF(D238=C$2,1,0),0) -> 0 | C238: NS | E238: 61.914264 | F238: 81.157488 | G238: 98.565888 | H238: Portland, ME
A239: 236 | B239: =IF(C239=activestate,IF(D239=C$2,1,0),0) -> 0 | C239: ON | E239: 64.708632 | F239: 84.684768 | G239: 104.37722 | H239: Lansing, MI
A240: 237 | B240: =IF(C240=activestate,IF(D240=C$2,1,0),0) -> 0 | C240: PE | E240: 61.914264 | F240: 81.157488 | G240: 98.565888 | H240: Portland, ME
A241: 238 | B241: =IF(C241=activestate,IF(D241=C$2,1,0),0) -> 0 | C241: QB | E241: 61.914264 | F241: 81.157488 | G241: 98.565888 | H241: Portland, ME
A242: 239 | B242: =IF(C242=activestate,IF(D242=C$2,1,0),0) -> 0 | C242: SK | E242: 86.61192 | F242: 114.30542 | G242: 141.06199 | H242: Fargo, ND
A243: 240 | B243: =IF(C243=activestate,IF(D243=C$2,1,0),0) -> 0 | C243: Canada Avg. | E243: 66.23 | F243: 86.99 | G243: 106.49

Sheet Adjusted HSPF
D1: HSPF | E1: 7.5 HSPF2 | F1: 7.8 HSPF2 | G1: 9 HSPF2
B2: =activestate -> US | C2: =LOOKUP(city,Lists!G119:G133,Lists!H119:H133) | E2: =VLOOKUP(1,B7:E246,4,0) -> 6.7278185 | F2: =VLOOKUP(1,B7:F246,5,0) -> 6.894932 | G2: =VLOOKUP(1,B7:G246,6,0) -> 7.6689392
J3: *values in row 6 are calculated HSPF based on HSPF2 values in row 1
E4: Adjusted HSPF when
E5: rated HSPF is:
C6: State | D6: City | E6: 8.8 | F6: 9.1 | G6: 10.6 | H6: ASHRAE Design Temp | K6: HSPF2 | L6: 7.5 | M6: 7.8 | N6: 9
A7: 1 | B7: =IF(C7=activestate,IF(D7='Heating Load'!C$2,1,0),0) -> 0 | C7: AK | D7: Anchorage | E7: =+E$6-(E$6*((0.1392+(-0.00846*$H7)+(-0.0001074*$H7^2)+(0.0228*E$6)))) -> 5.15944 | F7: =+F$6-(F$6*((0.1392+(-0.00846*$H7)+(-0.0001074*$H7^2)+(0.0228*F$6)))) -> 5.273086 | G7: =+G$6-(G$6*((0.1392+(-0.00846*$H7)+(-0.0001074*$H7^2)+(0.0228*G$6)))) -> 5.779756 | H7: -10 | K7: HSPF | L7: =L6/0.85 -> 8.8235294 | M7: =M6/0.85 -> 9.1764706 | N7: =N6/0.85 -> 10.588235
A8: 2 | B8: =IF(C8=activestate,IF(D8='Heating Load'!C$2,1,0),0) -> 0 | C8: AK | D8: Annette | E8: =+E$6-(E$6*((0.1392+(-0.00846*$H8)+(-0.0001074*$H8^2)+(0.0228*E$6)))) -> 7.3481637 | F8: =+F$6-(F$6*((0.1392+(-0.00846*$H8)+(-0.0001074*$H8^2)+(0.0228*F$6)))) -> 7.5364253 | G8: =+G$6-(G$6*((0.1392+(-0.00846*$H8)+(-0.0001074*$H8^2)+(0.0228*G$6)))) -> 8.4161732 | H8: 17
A9: 3 | B9: =IF(C9=activestate,IF(D9='Heating Load'!C$2,1,0),0) -> 0 | C9: AK | D9: Bethel | E9: =+E$6-(E$6*((0.1392+(-0.00846*$H9)+(-0.0001074*$H9^2)+(0.0228*E$6)))) -> 4.5670451 | F9: =+F$6-(F$6*((0.1392+(-0.00846*$H9)+(-0.0001074*$H9^2)+(0.0228*F$6)))) -> 4.6604958 | G9: =+G$6-(G$6*((0.1392+(-0.00846*$H9)+(-0.0001074*$H9^2)+(0.0228*G$6)))) -> 5.0661894 | H9: -24
A10: 4 | B10: =IF(C10=activestate,IF(D10='Heating Load'!C$2,1,0),0) -> 0 | C10: AK | D10: Big Delta | E10: =+E$6-(E$6*((0.1392+(-0.00846*$H10)+(-0.0001074*$H10^2)+(0.0228*E$6)))) -> 4.3434635 | F10: =+F$6-(F$6*((0.1392+(-0.00846*$H10)+(-0.0001074*$H10^2)+(0.0228*F$6)))) -> 4.4292921 | G10: =+G$6-(G$6*((0.1392+(-0.00846*$H10)+(-0.0001074*$H10^2)+(0.0228*G$6)))) -> 4.7968752 | H10: -39
A11: 5 | B11: =IF(C11=activestate,IF(D11='Heating Load'!C$2,1,0),0) -> 0 | C11: AK | D11: Cold Bay | E11: =+E$6-(E$6*((0.1392+(-0.00846*$H11)+(-0.0001074*$H11^2)+(0.0228*E$6)))) -> 6.6484 | F11: =+F$6-(F$6*((0.1392+(-0.00846*$H11)+(-0.0001074*$H11^2)+(0.0228*F$6)))) -> 6.812806 | G11: =+G$6-(G$6*((0.1392+(-0.00846*$H11)+(-0.0001074*$H11^2)+(0.0228*G$6)))) -> 7.573276 | H11: 10
A12: 6 | B12: =IF(C12=activestate,IF(D12='Heating Load'!C$2,1,0),0) -> 0 | C12: AK | D12: Fairbanks | E12: =+E$6-(E$6*((0.1392+(-0.00846*$H12)+(-0.0001074*$H12^2)+(0.0228*E$6)))) -> 4.3541555 | F12: =+F$6-(F$6*((0.1392+(-0.00846*$H12)+(-0.0001074*$H12^2)+(0.0228*F$6)))) -> 4.4403486 | G12: =+G$6-(G$6*((0.1392+(-0.00846*$H12)+(-0.0001074*$H12^2)+(0.0228*G$6)))) -> 4.8097542 | H12: -36
A13: 7 | B13: =IF(C13=activestate,IF(D13='Heating Load'!C$2,1,0),0) -> 0 | C13: AK | D13: Gulkana | E13: =+E$6-(E$6*((0.1392+(-0.00846*$H13)+(-0.0001074*$H13^2)+(0.0228*E$6)))) -> 4.3434635 | F13: =+F$6-(F$6*((0.1392+(-0.00846*$H13)+(-0.0001074*$H13^2)+(0.0228*F$6)))) -> 4.4292921 | G13: =+G$6-(G$6*((0.1392+(-0.00846*$H13)+(-0.0001074*$H13^2)+(0.0228*G$6)))) -> 4.7968752 | H13: -39
A14: 8 | B14: =IF(C14=activestate,IF(D14='Heating Load'!C$2,1,0),0) -> 0 | C14: AK | D14: King Salmon | E14: =+E$6-(E$6*((0.1392+(-0.00846*$H14)+(-0.0001074*$H14^2)+(0.0228*E$6)))) -> 4.7360843 | F14: =+F$6-(F$6*((0.1392+(-0.00846*$H14)+(-0.0001074*$H14^2)+(0.0228*F$6)))) -> 4.8352977 | G14: =+G$6-(G$6*((0.1392+(-0.00846*$H14)+(-0.0001074*$H14^2)+(0.0228*G$6)))) -> 5.2698048 | H14: -19
A15: 9 | B15: =IF(C15=activestate,IF(D15='Heating Load'!C$2,1,0),0) -> 0 | C15: AK | D15: Kodiak | E15: =+E$6-(E$6*((0.1392+(-0.00846*$H15)+(-0.0001074*$H15^2)+(0.0228*E$6)))) -> 6.8388813 | F15: =+F$6-(F$6*((0.1392+(-0.00846*$H15)+(-0.0001074*$H15^2)+(0.0228*F$6)))) -> 7.009781 | G15: =+G$6-(G$6*((0.1392+(-0.00846*$H15)+(-0.0001074*$H15^2)+(0.0228*G$6)))) -> 7.8027194 | H15: 12
A16: 10 | B16: =IF(C16=activestate,IF(D16='Heating Load'!C$2,1,0),0) -> 0 | C16: AK | D16: McGrath | E16: =+E$6-(E$6*((0.1392+(-0.00846*$H16)+(-0.0001074*$H16^2)+(0.0228*E$6)))) -> 4.3497837 | F16: =+F$6-(F$6*((0.1392+(-0.00846*$H16)+(-0.0001074*$H16^2)+(0.0228*F$6)))) -> 4.4358278 | G16: =+G$6-(G$6*((0.1392+(-0.00846*$H16)+(-0.0001074*$H16^2)+(0.0228*G$6)))) -> 4.8044882 | H16: -42
A17: 11 | B17: =IF(C17=activestate,IF(D17='Heating Load'!C$2,1,0),0) -> 0 | C17: AK | D17: Nome | E17: =+E$6-(E$6*((0.1392+(-0.00846*$H17)+(-0.0001074*$H17^2)+(0.0228*E$6)))) -> 4.5126611 | F17: =+F$6-(F$6*((0.1392+(-0.00846*$H17)+(-0.0001074*$H17^2)+(0.0228*F$6)))) -> 4.6042578 | G17: =+G$6-(G$6*((0.1392+(-0.00846*$H17)+(-0.0001074*$H17^2)+(0.0228*G$6)))) -> 5.0006814 | H17: -26
A18: 12 | B18: =IF(C18=activestate,IF(D18='Heating Load'!C$2,1,0),0) -> 0 | C18: AK | D18: St Paul Island | E18: =+E$6-(E$6*((0.1392+(-0.00846*$H18)+(-0.0001074*$H18^2)+(0.0228*E$6)))) -> 6.0412581 | F18: =+F$6-(F$6*((0.1392+(-0.00846*$H18)+(-0.0001074*$H18^2)+(0.0228*F$6)))) -> 6.1849661 | G18: =+G$6-(G$6*((0.1392+(-0.00846*$H18)+(-0.0001074*$H18^2)+(0.0228*G$6)))) -> 6.841946 | H18: 3
A19: 13 | B19: =IF(C19=activestate,IF(D19='Heating Load'!C$2,1,0),0) -> 0 | C19: AK | D19: Talkeetna | E19: =+E$6-(E$6*((0.1392+(-0.00846*$H19)+(-0.0001074*$H19^2)+(0.0228*E$6)))) -> 4.6627979 | F19: =+F$6-(F$6*((0.1392+(-0.00846*$H19)+(-0.0001074*$H19^2)+(0.0228*F$6)))) -> 4.7595129 | G19: =+G$6-(G$6*((0.1392+(-0.00846*$H19)+(-0.0001074*$H19^2)+(0.0228*G$6)))) -> 5.181528 | H19: -21
... A208: 202 | B208: =IF(C208=activestate,IF(D208='Heating Load'!C$2,1,0),0) -> 0 | C208: TX | D208: Wichita Falls | E208: =+E$6-(E$6*((0.1392+(-0.00846*$H208)+(-0.0001074*$H208^2)+(0.0228*E$6)))) -> 7.5651083 | F208: =+F$6-(F$6*((0.1392+(-0.00846*$H208)+(-0.0001074*$H208^2)+(0.0228*F$6)))) -> 7.7607657 | G208: =+G$6-(G$6*((0.1392+(-0.00846*$H208)+(-0.0001074*$H208^2)+(0.0228*G$6)))) -> 8.6774928 | H208: 19
A209: 203 | B209: =IF(C209=activestate,IF(D209='Heating Load'!C$2,1,0),0) -> 1 | C209: US | E209: =+E$6-(E$6*((0.1392+(-0.00846*$H209)+(-0.0001074*$H209^2)+(0.0228*E$6)))) -> 6.7278185 | F209: =+F$6-(F$6*((0.1392+(-0.00846*$H209)+(-0.0001074*$H209^2)+(0.0228*F$6)))) -> 6.894932 | G209: =+G$6-(G$6*((0.1392+(-0.00846*$H209)+(-0.0001074*$H209^2)+(0.0228*G$6)))) -> 7.6689392 | H209: 10.843553
A210: 204 | B210: =IF(C210=activestate,IF(D210='Heating Load'!C$2,1,0),0) -> 0 | C210: UT | D210: Cedar City | E210: =+E$6-(E$6*((0.1392+(-0.00846*$H210)+(-0.0001074*$H210^2)+(0.0228*E$6)))) -> 6.4654797 | F210: =+F$6-(F$6*((0.1392+(-0.00846*$H210)+(-0.0001074*$H210^2)+(0.0228*F$6)))) -> 6.6236498 | G210: =+G$6-(G$6*((0.1392+(-0.00846*$H210)+(-0.0001074*$H210^2)+(0.0228*G$6)))) -> 7.3529402 | H210: 8
A211: 205 | B211: =IF(C211=activestate,IF(D211='Heating Load'!C$2,1,0),0) -> 0 | C211: UT | D211: Salt Lake City | E211: =+E$6-(E$6*((0.1392+(-0.00846*$H211)+(-0.0001074*$H211^2)+(0.0228*E$6)))) -> 6.7426955 | F211: =+F$6-(F$6*((0.1392+(-0.00846*$H211)+(-0.0001074*$H211^2)+(0.0228*F$6)))) -> 6.9103161 | G211: =+G$6-(G$6*((0.1392+(-0.00846*$H211)+(-0.0001074*$H211^2)+(0.0228*G$6)))) -> 7.6868592 | H211: 11
A212: 206 | B212: =IF(C212=activestate,IF(D212='Heating Load'!C$2,1,0),0) -> 0 | C212: VA | D212: Lynchburg | E212: =+E$6-(E$6*((0.1392+(-0.00846*$H212)+(-0.0001074*$H212^2)+(0.0228*E$6)))) -> 7.3481637 | F212: =+F$6-(F$6*((0.1392+(-0.00846*$H212)+(-0.0001074*$H212^2)+(0.0228*F$6)))) -> 7.5364253 | G212: =+G$6-(G$6*((0.1392+(-0.00846*$H212)+(-0.0001074*$H212^2)+(0.0228*G$6)))) -> 8.4161732 | H212: 17
A213: 207 | B213: =IF(C213=activestate,IF(D213='Heating Load'!C$2,1,0),0) -> 0 | C213: VA | D213: Norfolk | E213: =+E$6-(E$6*((0.1392+(-0.00846*$H213)+(-0.0001074*$H213^2)+(0.0228*E$6)))) -> 8.1405491 | F213: =+F$6-(F$6*((0.1392+(-0.00846*$H213)+(-0.0001074*$H213^2)+(0.0228*F$6)))) -> 8.3558238 | G213: =+G$6-(G$6*((0.1392+(-0.00846*$H213)+(-0.0001074*$H213^2)+(0.0228*G$6)))) -> 9.3706374 | H213: 24
A214: 208 | B214: =IF(C214=activestate,IF(D214='Heating Load'!C$2,1,0),0) -> 0 | C214: VA | D214: Richmond | E214: =+E$6-(E$6*((0.1392+(-0.00846*$H214)+(-0.0001074*$H214^2)+(0.0228*E$6)))) -> 7.4556909 | F214: =+F$6-(F$6*((0.1392+(-0.00846*$H214)+(-0.0001074*$H214^2)+(0.0228*F$6)))) -> 7.6476182 | G214: =+G$6-(G$6*((0.1392+(-0.00846*$H214)+(-0.0001074*$H214^2)+(0.0228*G$6)))) -> 8.5456946 | H214: 18
A215: 209 | B215: =IF(C215=activestate,IF(D215='Heating Load'!C$2,1,0),0) -> 0 | C215: VA | D215: Roanoke | E215: =+E$6-(E$6*((0.1392+(-0.00846*$H215)+(-0.0001074*$H215^2)+(0.0228*E$6)))) -> 7.3481637 | F215: =+F$6-(F$6*((0.1392+(-0.00846*$H215)+(-0.0001074*$H215^2)+(0.0228*F$6)))) -> 7.5364253 | G215: =+G$6-(G$6*((0.1392+(-0.00846*$H215)+(-0.0001074*$H215^2)+(0.0228*G$6)))) -> 8.4161732 | H215: 17
A216: 210 | B216: =IF(C216=activestate,IF(D216='Heating Load'!C$2,1,0),0) -> 0 | C216: VA | D216: Sterling | E216: =+E$6-(E$6*((0.1392+(-0.00846*$H216)+(-0.0001074*$H216^2)+(0.0228*E$6)))) -> 7.0369235 | F216: =+F$6-(F$6*((0.1392+(-0.00846*$H216)+(-0.0001074*$H216^2)+(0.0228*F$6)))) -> 7.2145746 | G216: =+G$6-(G$6*((0.1392+(-0.00846*$H216)+(-0.0001074*$H216^2)+(0.0228*G$6)))) -> 8.0412702 | H216: 14
A217: 211 | B217: =IF(C217=activestate,IF(D217='Heating Load'!C$2,1,0),0) -> 0 | C217: VT | D217: Burlington | E217: =+E$6-(E$6*((0.1392+(-0.00846*$H217)+(-0.0001074*$H217^2)+(0.0228*E$6)))) -> 5.3967443 | F217: =+F$6-(F$6*((0.1392+(-0.00846*$H217)+(-0.0001074*$H217^2)+(0.0228*F$6)))) -> 5.5184802 | G217: =+G$6-(G$6*((0.1392+(-0.00846*$H217)+(-0.0001074*$H217^2)+(0.0228*G$6)))) -> 6.0655998 | H217: -6
A218: 212 | B218: =IF(C218=activestate,IF(D218='Heating Load'!C$2,1,0),0) -> 0 | C218: WA | D218: Olympia | E218: =+E$6-(E$6*((0.1392+(-0.00846*$H218)+(-0.0001074*$H218^2)+(0.0228*E$6)))) -> 8.0216805 | F218: =+F$6-(F$6*((0.1392+(-0.00846*$H218)+(-0.0001074*$H218^2)+(0.0228*F$6)))) -> 8.2329029 | G218: =+G$6-(G$6*((0.1392+(-0.00846*$H218)+(-0.0001074*$H218^2)+(0.0228*G$6)))) -> 9.2274548 | H218: 23
A219: 213 | B219: =IF(C219=activestate,IF(D219='Heating Load'!C$2,1,0),0) -> 0 | C219: WA | D219: Quillayute | E219: =+E$6-(E$6*((0.1392+(-0.00846*$H219)+(-0.0001074*$H219^2)+(0.0228*E$6)))) -> 8.5084965 | F219: =+F$6-(F$6*((0.1392+(-0.00846*$H219)+(-0.0001074*$H219^2)+(0.0228*F$6)))) -> 8.7363149 | G219: =+G$6-(G$6*((0.1392+(-0.00846*$H219)+(-0.0001074*$H219^2)+(0.0228*G$6)))) -> 9.8138468 | H219: 27
A220: 214 | B220: =IF(C220=activestate,IF(D220='Heating Load'!C$2,1,0),0) -> 0 | C220: WA | D220: Seattle | E220: =+E$6-(E$6*((0.1392+(-0.00846*$H220)+(-0.0001074*$H220^2)+(0.0228*E$6)))) -> 8.6349261 | F220: =+F$6-(F$6*((0.1392+(-0.00846*$H220)+(-0.0001074*$H220^2)+(0.0228*F$6)))) -> 8.8670546 | G220: =+G$6-(G$6*((0.1392+(-0.00846*$H220)+(-0.0001074*$H220^2)+(0.0228*G$6)))) -> 9.966137 | H220: 28
A221: 215 | B221: =IF(C221=activestate,IF(D221='Heating Load'!C$2,1,0),0) -> 0 | C221: WA | D221: Spokane | E221: =+E$6-(E$6*((0.1392+(-0.00846*$H221)+(-0.0001074*$H221^2)+(0.0228*E$6)))) -> 6.3768549 | F221: =+F$6-(F$6*((0.1392+(-0.00846*$H221)+(-0.0001074*$H221^2)+(0.0228*F$6)))) -> 6.5320037 | G221: =+G$6-(G$6*((0.1392+(-0.00846*$H221)+(-0.0001074*$H221^2)+(0.0228*G$6)))) -> 7.2461876 | H221: 7
... A235: 229 | B235: =IF(C235=activestate,IF(D235='Heating Load'!C$2,1,0),0) -> 0 | C235: WY | D235: Sheridan | E235: =+E$6-(E$6*((0.1392+(-0.00846*$H235)+(-0.0001074*$H235^2)+(0.0228*E$6)))) -> 5.2743117 | F235: =+F$6-(F$6*((0.1392+(-0.00846*$H235)+(-0.0001074*$H235^2)+(0.0228*F$6)))) -> 5.3918738 | G235: =+G$6-(G$6*((0.1392+(-0.00846*$H235)+(-0.0001074*$H235^2)+(0.0228*G$6)))) -> 5.9181242 | H235: -8
A236: 230 | B236: =IF(C236=activestate,IF(D236='Heating Load'!C$2,1,0),0) -> 0 | C236: AB | E236: =+E$6-(E$6*((0.1392+(-0.00846*$H236)+(-0.0001074*$H236^2)+(0.0228*E$6)))) -> 5.3345829 | F236: =+F$6-(F$6*((0.1392+(-0.00846*$H236)+(-0.0001074*$H236^2)+(0.0228*F$6)))) -> 5.4541997 | G236: =+G$6-(G$6*((0.1392+(-0.00846*$H236)+(-0.0001074*$H236^2)+(0.0228*G$6)))) -> 5.9907236 | H236: -7 | I236: Billings, MT
A237: 231 | B237: =IF(C237=activestate,IF(D237='Heating Load'!C$2,1,0),0) -> 0 | C237: BC | E237: =+E$6-(E$6*((0.1392+(-0.00846*$H237)+(-0.0001074*$H237^2)+(0.0228*E$6)))) -> 8.6349261 | F237: =+F$6-(F$6*((0.1392+(-0.00846*$H237)+(-0.0001074*$H237^2)+(0.0228*F$6)))) -> 8.8670546 | G237: =+G$6-(G$6*((0.1392+(-0.00846*$H237)+(-0.0001074*$H237^2)+(0.0228*G$6)))) -> 9.966137 | H237: 28 | I237: Seattle, WA
A238: 232 | B238: =IF(C238=activestate,IF(D238='Heating Load'!C$2,1,0),0) -> 0 | C238: MB | E238: =+E$6-(E$6*((0.1392+(-0.00846*$H238)+(-0.0001074*$H238^2)+(0.0228*E$6)))) -> 5.2743117 | F238: =+F$6-(F$6*((0.1392+(-0.00846*$H238)+(-0.0001074*$H238^2)+(0.0228*F$6)))) -> 5.3918738 | G238: =+G$6-(G$6*((0.1392+(-0.00846*$H238)+(-0.0001074*$H238^2)+(0.0228*G$6)))) -> 5.9181242 | H238: -8 | I238: Green Bay, WI
A239: 233 | B239: =IF(C239=activestate,IF(D239='Heating Load'!C$2,1,0),0) -> 0 | C239: NB | E239: =+E$6-(E$6*((0.1392+(-0.00846*$H239)+(-0.0001074*$H239^2)+(0.0228*E$6)))) -> 5.9620845 | F239: =+F$6-(F$6*((0.1392+(-0.00846*$H239)+(-0.0001074*$H239^2)+(0.0228*F$6)))) -> 6.1030934 | G239: =+G$6-(G$6*((0.1392+(-0.00846*$H239)+(-0.0001074*$H239^2)+(0.0228*G$6)))) -> 6.7465778 | H239: 2 | I239: Portland, ME
A240: 234 | B240: =IF(C240=activestate,IF(D240='Heating Load'!C$2,1,0),0) -> 0 | C240: NF | E240: =+E$6-(E$6*((0.1392+(-0.00846*$H240)+(-0.0001074*$H240^2)+(0.0228*E$6)))) -> 5.15944 | F240: =+F$6-(F$6*((0.1392+(-0.00846*$H240)+(-0.0001074*$H240^2)+(0.0228*F$6)))) -> 5.273086 | G240: =+G$6-(G$6*((0.1392+(-0.00846*$H240)+(-0.0001074*$H240^2)+(0.0228*G$6)))) -> 5.779756 | H240: -10 | I240: Anchorage, AK
A241: 235 | B241: =IF(C241=activestate,IF(D241='Heating Load'!C$2,1,0),0) -> 0 | C241: NS | E241: =+E$6-(E$6*((0.1392+(-0.00846*$H241)+(-0.0001074*$H241^2)+(0.0228*E$6)))) -> 5.9620845 | F241: =+F$6-(F$6*((0.1392+(-0.00846*$H241)+(-0.0001074*$H241^2)+(0.0228*F$6)))) -> 6.1030934 | G241: =+G$6-(G$6*((0.1392+(-0.00846*$H241)+(-0.0001074*$H241^2)+(0.0228*G$6)))) -> 6.7465778 | H241: 2 | I241: Portland, ME
A242: 236 | B242: =IF(C242=activestate,IF(D242='Heating Load'!C$2,1,0),0) -> 0 | C242: ON | E242: =+E$6-(E$6*((0.1392+(-0.00846*$H242)+(-0.0001074*$H242^2)+(0.0228*E$6)))) -> 5.9620845 | F242: =+F$6-(F$6*((0.1392+(-0.00846*$H242)+(-0.0001074*$H242^2)+(0.0228*F$6)))) -> 6.1030934 | G242: =+G$6-(G$6*((0.1392+(-0.00846*$H242)+(-0.0001074*$H242^2)+(0.0228*G$6)))) -> 6.7465778 | H242: 2 | I242: Lansing, MI
A243: 237 | B243: =IF(C243=activestate,IF(D243='Heating Load'!C$2,1,0),0) -> 0 | C243: PE | E243: =+E$6-(E$6*((0.1392+(-0.00846*$H243)+(-0.0001074*$H243^2)+(0.0228*E$6)))) -> 5.9620845 | F243: =+F$6-(F$6*((0.1392+(-0.00846*$H243)+(-0.0001074*$H243^2)+(0.0228*F$6)))) -> 6.1030934 | G243: =+G$6-(G$6*((0.1392+(-0.00846*$H243)+(-0.0001074*$H243^2)+(0.0228*G$6)))) -> 6.7465778 | H243: 2 | I243: Portland, ME
A244: 238 | B244: =IF(C244=activestate,IF(D244='Heating Load'!C$2,1,0),0) -> 0 | C244: QB | E244: =+E$6-(E$6*((0.1392+(-0.00846*$H244)+(-0.0001074*$H244^2)+(0.0228*E$6)))) -> 5.9620845 | F244: =+F$6-(F$6*((0.1392+(-0.00846*$H244)+(-0.0001074*$H244^2)+(0.0228*F$6)))) -> 6.1030934 | G244: =+G$6-(G$6*((0.1392+(-0.00846*$H244)+(-0.0001074*$H244^2)+(0.0228*G$6)))) -> 6.7465778 | H244: 2 | I244: Portland, ME
A245: 239 | B245: =IF(C245=activestate,IF(D245='Heating Load'!C$2,1,0),0) -> 0 | C245: SK | E245: =+E$6-(E$6*((0.1392+(-0.00846*$H245)+(-0.0001074*$H245^2)+(0.0228*E$6)))) -> 4.8169317 | F245: =+F$6-(F$6*((0.1392+(-0.00846*$H245)+(-0.0001074*$H245^2)+(0.0228*F$6)))) -> 4.9189013 | G245: =+G$6-(G$6*((0.1392+(-0.00846*$H245)+(-0.0001074*$H245^2)+(0.0228*G$6)))) -> 5.3671892 | H245: -17 | I245: Fargo, ND
A246: 240 | B246: =IF(C246=activestate,IF(D246='Heating Load'!C$2,1,0),0) -> 0 | C246: Canada Avg. | E246: 5.9 | F246: 6.2 | G246: 6.4 | H246: -0.4

Sheet AppTech
A1: Appliance Technologies
A3: Furnace | B3: Selected
B4: Technology
B5: =furntype -> 1 | C5: 1 | D5: 2 | E5: 3 | F5: 4 | G5: 5
B6: =LOOKUP(B$5,C$5:R$5,C6:R6) -> Average Furnace | C6: Average Furnace | D6: High Efficiency Furnace | E6: Condensing Furnace | F6: Standard Boiler | G6: Condensing Boiler
A7: Capacity (RT) | B7: =LOOKUP(B$5,C$5:R$5,C7:R7) -> 0
A8: CapLow (RT) | B8: =LOOKUP(B$5,C$5:R$5,C8:R8) -> 38000 | C8: 38000 | D8: 38000 | E8: 38000 | F8: 38000 | G8: 38000
A9: CapHigh (RT) | B9: =LOOKUP(B$5,C$5:R$5,C9:R9) -> 128000 | C9: 128000 | D9: 128000 | E9: 128000 | F9: 128000 | G9: 128000
A11: Fuel | B11: Natural Gas | C11: Natural Gas | D11: Natural Gas | E11: Natural Gas | F11: Natural Gas | G11: Natural Gas
A13: AFUE | B13: =LOOKUP(B$5,C$5:R$5,C13:R13) -> 0.8 | C13: 0.8 | D13: 0.92 | E13: 0.966 | F13: 0.85 | G13: 0.92
A14: NOx lb/MMBtu | B14: =LOOKUP(B$5,C$5:R$5,C14:R14) -> 0.092 | C14: 0.092 | D14: 0.092 | E14: 0.092 | F14: 0.092 | G14: 0.092
A15: SO2 lb/MMBtu | B15: =LOOKUP(B$5,C$5:R$5,C15:R15) -> 0.000584 | C15: 0.000584 | D15: 0.000584 | E15: 0.000584 | F15: 0.000584 | G15: 0.000584
A16: CO2 lb/MMBtu | B16: =LOOKUP(B$5,C$5:R$5,C16:R16) -> 117 | C16: 117 | D16: 117 | E16: 117 | F16: 117 | G16: 117
A20: Natural Gas Cooktop Range
A21: Efficiency | B21: 0.4
A24: Electric Cooktop Range | H24: *not being used
A25: Efficiency | B25: 0.74
A32: Number in Household | B32: Hot Water Demand - Gal/day | C32: Hot Water Demand - Btu/day | D32: Hot Water Demand - MMBtu/year
A33: 0 | B33: 0 | C33: 0 | D33: 0
A34: 1 | B34: 35 | C34: =B34*77*8.3 -> 22368.5 | D34: =C34*365/1000000 -> 8.1645025
A35: 2 | B35: 47.5 | C35: =B35*77*8.3 -> 30357.25 | D35: =C35*365/1000000 -> 11.080396
A36: 3 | B36: 60 | C36: =B36*77*8.3 -> 38346 | D36: =C36*365/1000000 -> 13.99629
A37: 4 | B37: 70 | C37: =B37*77*8.3 -> 44737 | D37: =C37*365/1000000 -> 16.329005
A38: 5 | B38: 80 | C38: =B38*77*8.3 -> 51128 | D38: =C38*365/1000000 -> 18.66172
A39: 6 | B39: 90 | C39: =B39*77*8.3 -> 57519 | D39: =C39*365/1000000 -> 20.994435
A40: 7 | B40: 100 | C40: =B40*77*8.3 -> 63910 | D40: =C40*365/1000000 -> 23.32715
A41: 8 | B41: 110 | C41: =B41*77*8.3 -> 70301 | D41: =C41*365/1000000 -> 25.659865
A42: 9 | B42: 120 | C42: =B42*77*8.3 -> 76692 | D42: =C42*365/1000000 -> 27.99258
A43: 10 | B43: 130 | C43: =B43*77*8.3 -> 83083 | D43: =C43*365/1000000 -> 30.325295
A44: 11 | B44: 140 | C44: =B44*77*8.3 -> 89474 | D44: =C44*365/1000000 -> 32.65801
A45: 12 | B45: 150 | C45: =B45*77*8.3 -> 95865 | D45: =C45*365/1000000 -> 34.990725
... A53: 20 | B53: 230 | C53: =B53*77*8.3 -> 146993 | D53: =C53*365/1000000 -> 53.652445

Sheet Calc
D3: Heat Type | E3: =heattype -> 1
A4: Space Heating | D4: Water Heat Type | E4: =wheattype -> 1
A6: House Square Footage | B6: =sqft -> 2000
A7: NG Heating System Type | B7: =furntype -> 1 | C7: =LOOKUP(B7,Lists!A4:A10,Lists!B4:B10) -> Average Furnace (AFUE 80%) | F7: Current System
A8: NG Heating AFUE | B8: =_xlfn.XLOOKUP(furntype,Lists!A4:A10,Lists!C4:C10) -> 0.8 | F8: Oil Heating System Type | G8: {=_xlfn.IFS(E3=2,'User Input'!S23,E3=1,"",E3=3,"",E3=4,"")} | H8: =IFERROR(_xlfn.XLOOKUP(G8,Lists!G87:G91,Oil),"") | I8: Gas Heating System Type | J8: {=_xlfn.IFS(E3=4,'User Input'!S23,E3=1,"",E3=2,"",E3=3,"")} | K8: =IFERROR(_xlfn.XLOOKUP(J8,Lists!A4:A10,Lists!B4:B10),"")
A9: Heating Load (MMBtu) | B9: =IF(sqft=0,0,heatload) -> 49.638628 | C9: MMBtu/yr | F9: AFUE | G9: =IFERROR(_xlfn.XLOOKUP(G8,Lists!G87:G91,Lists!I87:I91),"") | I9: AFUE | J9: =IFERROR(_xlfn.XLOOKUP(J8,Lists!A4:A10,Lists!C4:C10),"")
A10: NG Consumption (MMBtu) | B10: =B9/B8 -> 62.048285 | C10: MMBtu/yr | F10: Oil Consumption (MMBtu) | G10: =IFERROR(B9/G9,"") | H10: MMBtu/yr | I10: Gas Consumption | J10: =IFERROR(B9/J9,0) -> 0 | K10: MMBtu/yr
A11: CO2 Emissions | B11: =B10*'Carbon Calculator'!E105 -> 7299.7982 | C11: lbs/yr | F11: Oil Consumption (gal) | G11: =IFERROR(G10/0.137381,0) -> 0 | H11: gal/yr | I11: CO2 Emissions | J11: =J10*'Carbon Calculator'!E105 -> 0 | K11: lbs/yr
F12: CO2 Emissions | G12: =G11*'Carbon Calculator'!E111/1000 -> 0 | H12: lbs/yr
A13: Electric Heating System Type | B13: {=_xlfn.IFS(E3=1,'User Input'!S23,E3=2,"",E3=3,"",E3=4,"")} -> 2 | C13: =IFERROR(LOOKUP(B13,Lists!A87:A90,Lists!B87:B89),"") -> Standard Effic. Heat Pump - 7.5 HSPF2
A14: Adjusted HSPF | B14: =IF(B13=2,'Adjusted HSPF'!E2,IF(B13=3,'Adjusted HSPF'!F2,IF(B13=4,'Adjusted HSPF'!G2,0))) -> 6.7278185 | F14: Propane Heating System Type | G14: {=_xlfn.IFS(E3=3,'User Input'!S23,E3=1,"",E3=2,"",E3=4,"")} | H14: =IF(E3=3,_xlfn.XLOOKUP(G14,Lists!K87:K93,Lists!L87:L93),"")
A15: Electric Resistance AFUE | B15: =IF(B13=1,0.99,0) -> 0 | F15: AFUE | G15: =IF(E3=3,_xlfn.XLOOKUP(G14,Lists!K87:K93,Lists!M87:M93),"")
F16: Propane Consumption (MMBtu) | G16: =IFERROR(B9/G15,"") | H16: MMBtu/yr
A17: Displaced Electricity (house) | B17: =IFERROR(IF(B13=1,B9/3412*1000/B15,B9/B14),0) -> 7.3781164 | C17: MWh/yr | F17: Propane Consumption (gal) | G17: =IFERROR(G16/0.0916,0) -> 0 | H17: gal/yr
A18: Displaced Electric Generation | B18: =B17/(1-'Carbon Calculator'!E80) -> 7.7910416 | C18: MWh/yr | F18: CO2 Emissions | G18: =G17*'Carbon Calculator'!E108/1000 -> 0 | H18: lbs/yr
A19: Generation Fuel Consumption | B19: =B18*'Carbon Calculator'!E101/1000 -> 67.51316 | C19: MMBtu/yr
A20: CO2 Emissions | B20: =B18*'Carbon Calculator'!E102 -> 9896.6407 | C20: lbs/yr
A23: Water Heating
A25: Family Size | B25: =famsize -> 4 | F25: Oil Water Heat Type | G25: {=_xlfn.IFS(E4=2,'User Input'!S36,E4=1,"",E4=3,"",E4=4,"")} | H25: =IFERROR(_xlfn.XLOOKUP(G25,Lists!G96,Lists!H96),"") | I25: Gas Water Heat Type | J25: {=_xlfn.IFS(E4=4,'User Input'!S36,E4=1,"",E4=3,"",E4=2,"")} | K25: =IFERROR(_xlfn.XLOOKUP(J25,Lists!A94:A101,Lists!B94:B101),"")
A26: NG Water Heat Type | B26: =gasWHtype -> 1 | C26: =LOOKUP(B26,Lists!A94:A101,Lists!B94:B101) -> Standard Tank: UEF = .58 | F26: Oil Energy Factor (UEF) | G26: =IFERROR(_xlfn.XLOOKUP(G25,Lists!G96:G97,Lists!I96:I97),"") | I26: Gas Updated Energy Factor (UEF) | J26: =IFERROR(_xlfn.XLOOKUP(J25,Lists!A94:A101,Lists!C94:C101),"")
A27: NG Updated Energy Factor (UEF) | B27: =LOOKUP(gasWHtype,Lists!A94:A101,Lists!C94:C101) -> 0.58
A28: Regional load factor | B28: =LOOKUP(state,Lists!A21:A83,Lists!E21:E83) -> 1 | F28: Oil Consumption (MMBtu) | G28: =IFERROR((B30/G26*B28),"") | H28: MMBtu/yr | I28: NG Consumption (MMBtu) | J28: =IFERROR(IF(B25=0,0,IF(B27=0,0,(B30/J26*B28))),0) -> 0 | K28: MMBtu/yr
F29: Oil Consumption (gal) | G29: =IFERROR(G28/0.137381,0) -> 0 | H29: gal/yr | I29: CO2 Emissions | J29: =J28*'Carbon Calculator'!E105 -> 0 | K29: lbs/yr
A30: Water Heating Load (MMBtu) | B30: =LOOKUP(famsize,AppTech!A33:A53,AppTech!D33:D53) -> 16.329005 | C30: MMBtu/yr | F30: CO2 Emissions | G30: =G29*'Carbon Calculator'!E111/1000 -> 0 | H30: lbs/yr
A31: NG Consumption (MMBtu) | B31: =IF(B25=0,0,IF(B27=0,0,(B30/B27*B28))) -> 28.153457 | C31: MMBtu/yr
A32: CO2 Emissions | B32: =B31*'Carbon Calculator'!E105 -> 3312.1714 | C32: lbs/yr
A34: Elec Water Heat Type | B34: {=_xlfn.IFS(E4=1,'User Input'!S36,E4=2,"",E4=3,"",E4=4,"")} -> 1 | C34: =IFERROR(LOOKUP(B34,Lists!A104:A107,Lists!B104:B107),"") -> Standard: UEF = 0.92 | F34: Propane Water Heat Type | G34: {=_xlfn.IFS(E4=3,'User Input'!S36,E4=1,"",E4=2,"",E4=4,"")} | H34: =IFERROR(_xlfn.XLOOKUP(G34,Lists!K96:K103,Lists!L96:L103),"")
A35: Updated Elec Energy Factor (UEF) | B35: =IFERROR(LOOKUP(B34,Lists!A104:A107,Lists!C104:C107),"") -> 0.92 | F35: Propane Updated Energy Factor (UEF) | G35: =IFERROR(_xlfn.XLOOKUP(G34,Lists!K96:K103,Lists!M96:M103),"")
A36: Displaced Electricity (house) | B36: =IFERROR(B30*B28/B35/3412*1000,0) -> 5.2019105 | C36: MWh/yr
A37: Displaced Electric Generation | B37: =B36/(1-'Carbon Calculator'!E80) -> 5.4930417 | C37: MWh/yr | F37: Propane Consumption (MMBtu) | G37: =IFERROR(B30/G35*B28,"") | H37: MMBtu/yr
A38: Generation Fuel Consumption | B38: =B37*'Carbon Calculator'!E101/1000 -> 47.599874 | C38: MMBtu/yr | F38: Propane Consumption (gal) | G38: =IFERROR(G37/0.0916,0) -> 0 | H38: gal/yr
A39: CO2 Emissions | B39: =B37*'Carbon Calculator'!E102 -> 6977.5856 | C39: lbs/yr | F39: CO2 Emissions | G39: =G38*'Carbon Calculator'!E108/1000 -> 0 | H39: lbs/yr
A41: Clothes Drying
A43: Dryer Loads per week | B43: =dryerloads -> 8 | F43: Propane Consumption | G43: =IF(dtype=2,B48/0.0916,0) -> 0 | H43: gal/yr
A44: Dryer Loads per year | B44: =B43*52 -> 416 | F44: CO2 Emissions | G44: =G43*'Carbon Calculator'!E108/1000 -> 0 | H44: lbs/yr
A45: NG Standard Dryer (EF) | B45: 2.67
A46: Gas Consumed per unit (MMBtu/yr) Standard | B46: =(Factors!A24/Calc!B45*Factors!A25)*3412/1000000 -> 3.7212524 | C46: MMBtu/yr (based on 416 loads/year)
A47: Gas Consumed per load (MMBtu/yr) | B47: =B46/416 -> 0.0089453184 | F47: Current NG Consumption | G47: =IF(dtype=3,B48,0) -> 0 | H47: MMBTU/yr
A48: Total Gas Consumed per unit (MMBtu/yr) | B48: =B44*B47 -> 3.7212524
A49: CO2 Emissions | B49: =B48*'Carbon Calculator'!E105 -> 437.7944 | C49: lbs/yr
A52: Elec Standard Dryer (EF) | B52: 3.73
A53: Displaced Electricity (house) | B53: =IF(dtype=1,Factors!A24/Calc!B52*B44/1000,0) -> 0.78069705 | C53: MWh/yr
A54: Displaced Electric Generation | B54: =B53/(1-'Carbon Calculator'!E80) -> 0.82438971 | C54: MWh/yr
A55: Generation Fuel Consumption | B55: =B54*'Carbon Calculator'!E101/1000 -> 7.1437372 | C55: MMBtu/yr
A56: CO2 Emissions | B56: =B54*'Carbon Calculator'!E102 -> 1047.1884 | C56: lbs/yr
A58: Cooking
A60: Gas Consumed (MMBtu/yr) | B60: =IF('User Input'!F55="No",0,1.5) -> 1.5 | C60: MMBtu/yr | F60: Propane Consumption | G60: =IF(ctype=2,B60/0.0916,0) -> 0 | H60: gal/yr
A61: NG Range Efficiency | B61: =cookeff -> 0.4 | F61: CO2 Emissions | G61: =G60*'Carbon Calculator'!E108/1000 -> 0 | H61: lbs/yr
A63: Cooking Energy | B63: =IF('User Input'!F55="No",0,0.261) -> 0.261 | C63: MWh/yr
A65: Electric efficiency | B65: =cookelecuse -> 0.74
A66: Elec cooking load (MMBtu/yr) | C66: MMBtu/yr | F66: Current Gas Consumption | G66: =IF(ctype=3,B60,0) -> 0 | H66: MMBtu/yr
A67: Displaced Electricity (house) | B67: =IF(ctype=1,B63/B65,0) -> 0.3527027 | C67: MWh/yr | F67: NG CO2 Emissions | G67: =IF(ctype=3,B60*'Carbon Calculator'!E105,"") | H67: lbs/yr
A68: Displaced Electric Generation | B68: =B67/(1-'Carbon Calculator'!E80) -> 0.37244214 | C68: MWh/yr
A69: Generation Fuel Consumption | B69: =B68*'Carbon Calculator'!E101/1000 -> 3.227392 | C69: MMBtu/yr
A70: CO2 Emissions | B70: =B68*'Carbon Calculator'!E102 -> 473.09798 | C70: lbs/yr
A74: Total
A76: NG Alternative Consumption | B76: =B10+B31+B48+B60 -> 95.422994 | C76: MMBtu/yr | D76: Oil Consumption | E76: =G11+G29 -> 0 | F76: (gal/yr) | H76: Propane Consumption | I76: =G17+G38+G43+G60 -> 0 | J76: (gal/yr)
A77: Total Displaced Electricity (at the house) | B77: =B17+B36+B53+B67 -> 13.713427 | C77: MWh/yr
H79: Current Home Gas Consumption | I79: =J10+J28+G47+G66 -> 0 | J79: MMBtu/yr
A80: NG NOx input | C80: lb/MMBtu
A81: NG NOx | C81: lbs/year
A82: NG SO2 input | C82: lb/MMBtu
A83: NG SO2 | C83: lbs/year
A84: NG CO2 input | C84: lb/MMBtu
A85: NG CO2 | C85: lbs/year
A88: Elec NOx rate | C88: lb/MWh
A89: Elec SO2 rate | C89: lb/MWh
A90: Elec CO2 rate | C90: lb/MWh
A92: Total Displaced Generation | C92: MWh/yr
A93: Elec NOx | C93: lbs/yr
A94: Elec SO2 | C94: lbs/yr
... A99: Carbon Displaced (metric tons) | C99: metric tons
A101: Cars taken off the road | B101: ='Carbon Calculator'!I137 -> 0.70684992
A102: Acres of forest | B102: =((('User Input'!L81/2000/1.1023)/Factors!A7)) -> 3.2515096
A104: Miles driven per year | B104: =((('User Input'!L81/2000/1.1023)/Factors!G6)) -> 8128.7741
A108: Used for graphs on User Input page | B108: Natural Gas | C108: Electric
A109: NOx | B109: ='User Input'!F79 -> 10.28145 | C109: ='User Input'!I79 -> 11.777152
A110: SOx | B110: ='User Input'!F80 -> 8.2106789 | C110: ='User Input'!I80 -> 0.056131173
B111: Natural Gas | C111: Electric
A112: CO2 | B112: ='User Input'!F81 -> 18394.513 | C112: ='User Input'!I81 -> 11226.235
A115: Look up Residential Prices
A116: Electricity Price | B116: =VLOOKUP(state,'Residential Prices'!$B$5:$F$67,4,0) -> 16 | C116: cents/kWh
A117: Natural Gas Price | B117: =VLOOKUP(state,'Residential Prices'!$B$5:$F$67,5,0) -> 14.83 | C117: dollars/MMBtu
A118: Oil Price | B118: =_xlfn.XLOOKUP(state,'Residential Prices'!B5:B67,'Residential Prices'!G5:G67) -> 4.28 | C118: dollars/gal
A119: Propane Price | B119: =_xlfn.XLOOKUP(state,'Residential Prices'!B5:B67,'Residential Prices'!H5:H67) -> 2.56 | C119: dollars/gal
A120: User Input Elec price | B120: ='User Input'!I14 -> 17 | C120: cents/kWh
A121: User Input NG price | B121: ='User Input'!F14 -> 14.1 | C121: dollars/MMBtu
A122: User Input Oil price | B122: ='User Input'!L14 -> 4.1 | C122: dollars/gal
A123: User Input Propane price | B123: ='User Input'!O14 -> 3 | C123: dollars/gal
A125: Elec price for calc | B125: =IF(AND(Erates=2,B120>=0),B120,B116) -> 16 | C125: cents/kWh
A126: NG price for calc | B126: =IF(AND(NGrates=2,B121>=0),B121,B117) -> 14.83 | C126: dollars/MMBtu
A127: Oil Price for calc | B127: =IF(AND(Orates=2,B122>=0),B122,B118) -> 4.28 | C127: dollars/gal
A128: Propane Price for calc | B128: =IF(AND(Prates=2,B123>=0),B123,B119) -> 2.56 | C128: dollars/gal
A130: Energy Cost Calculations
A131: NG Alternative Calculation | B131: =B76*B126 -> 1415.123 | C131: $ | G131: Cost
A132: Electricity Calculation | B132: =B77*B125*10 -> 2194.1483 | C132: $ | F132: Default Category Axis | G132: Current Home | H132: Gas Home
A133: Oil Calculation | B133: =E76*B127 -> 0 | C133: $ | D133: Gas | E133: Electric | F133: Space Heating | G133: {=_xlfn.IFS(heattype=1,B17*$B$125*10,heattype=2,G11*B127,heattype=3,G17*B128,heattype=4,J10*B126)} -> 1180.4986 | H133: =B10*B126 -> 920.17607
A134: Propane Calculation | B134: =I76*B128 -> 0 | C134: $ | D134: MMBTU/Yr | E134: KWH | F134: Water Heating | G134: {=_xlfn.IFS(wheattype=1,B36*B125*10,wheattype=2,G29*B127,wheattype=3,G38*B128,wheattype=4,J28*B126)} -> 832.30567 | H134: =B31*B126 -> 417.51577
A135: Current Gas Calculation | B135: =I79*B126 -> 0 | C135: $ | D135: =+B10 -> 62.048285 | E135: =+B17*1000 -> 7378.1164 | F135: Clothes Drying | G135: {=_xlfn.IFS(dtype=1,E137*$B$125/100,dtype=2,G43*B128,dtype=3,H135)} -> 124.91153 | H135: =+D137*$B$126 -> 55.186174
D136: =+B31 -> 28.153457 | E136: =+B36*1000 -> 5201.9105 | F136: Cooking | G136: {=_xlfn.IFS(ctype=1,B67*B125*10,ctype=2,G60*B128,ctype=3,H136)} -> 56.432432 | H136: =+D138*$B$126 -> 22.245
...

Sheet Factors
A1: Factors
A3: General Emission Factors
A4: =12/44 -> 0.27272727 | C4: ratio of carbon to CO2
A5: =2000/2206 -> 0.90661831 | C5: ratio of tonnes to tons
A6: 4.6 | C6: metric tons of Carbon per car | G6: =A6/11500 -> 0.0004 | H6: metric tons CO2e/mile
A7: 1 | C7: metric tons of Carbon per acre of forest
A8: 2000 | C8: pounds per ton
A9: 0.0283 | C9: ratio of cubic feet to cubic meters
A11: Natural Gas
A12: 0.4238 | C12: lb/cf heat content of natural gas
A13: 1020 | C13: Btu/cf of natural gas
A14: 7.0967437e-07 | C14: sulfur content of natural gas
A15: 117 | C15: lb/MMBtu CO2 emission factor
A17: Oil
A23: Clothes Dryers
A24: 7 | C24: lbs per load | E24: (DOE test procedure)
A25: 416 | C25: loads per year | E25: (DOE test procedure)
A28: Electricity Generation
A29: 0.07 | C29: transmission losses

Sheet Residential Prices
B2: Residential Electricity, Gas, Oil, and Propane Prices
B4: Lookup | C4: State or Province | D4: Abbrev | E4: Residential Electricity Prices: Cents per Kilowatthour | F4: Residential Natural Gas Price ($/MMBtu) | G4: Oil $/gal | H4: Propane $/gal | J4: Source (US Data):
B5: =VLOOKUP(C5,Lists!$B$21:$F$83,5,0) -> 3 | C5: Alabama | D5: AL | E5: 14.63 | F5: 19.36 | G5: 4.28 | H5: 3.24 | J5: Average Retail Price of Electricity (2023 data)
B6: =VLOOKUP(C6,Lists!$B$21:$F$83,5,0) -> 2 | C6: Alaska | D6: AK | E6: 23.9 | F6: 10.97 | G6: 4.28 | H6: 2.56 | J6: Retail Sales of Electricity to Ultimate Customers: Annual Data by Sector, by State, by Provider
B7: =VLOOKUP(C7,Lists!$B$21:$F$83,5,0) -> 54 | C7: Alberta | D7: AB | E7: 19.092 | F7: 9.14 | G7: 4.16 | H7: 3.5 | J7: https://www.eia.gov/electricity/data.php
B8: =VLOOKUP(C8,Lists!$B$21:$F$83,5,0) -> 5 | C8: Arizona | D8: AZ | E8: 14.02 | F8: 18.73 | G8: 4.28 | H8: 2.56
B9: =VLOOKUP(C9,Lists!$B$21:$F$83,5,0) -> 4 | C9: Arkansas | D9: AR | E9: 12.25 | F9: 17.21 | G9: 4.28 | H9: 2.38 | J9: Residential Natural Gas Prices (2023 data)
B10: =VLOOKUP(C10,Lists!$B$21:$F$83,5,0) -> 55 | C10: British Columbia | D10: BC | E10: 8.436 | F10: 9.14 | G10: 4.16 | H10: 3.5 | J10: https://www.eia.gov/dnav/ng/ng_pri_sum_a_EPG0_PRS_DMcf_a.htm
B11: =VLOOKUP(C11,Lists!$B$21:$F$83,5,0) -> 6 | C11: California | D11: CF | E11: 29.51 | F11: 21.05 | G11: 4.28 | H11: 2.56
B12: =VLOOKUP(C12,Lists!$B$21:$F$83,5,0) -> 53 | C12: Canadian Average | D12: CA | E12: 11.47 | F12: 9.14 | G12: 4.16 | H12: 3.5 | J12: Residential Propane Prices (2023 data, applied US Average to states with no data)
B13: =VLOOKUP(C13,Lists!$B$21:$F$83,5,0) -> 7 | C13: Colorado | D13: CL | E13: 14.3 | F13: 11.45 | G13: 4.28 | H13: 2.34 | J13: https://www.eia.gov/dnav/pet/pet_pri_wfr_a_EPLLPA_PRS_dpgal_w.htm
B14: =VLOOKUP(C14,Lists!$B$21:$F$83,5,0) -> 8 | C14: Connecticut | D14: CT | E14: 29.88 | F14: 18.19 | G14: 4.16 | H14: 3.7
B15: =VLOOKUP(C15,Lists!$B$21:$F$83,5,0) -> 10 | C15: Delaware | D15: DL | E15: 15.73 | F15: 17.04 | G15: 4.67 | H15: 3.47 | J15: Residential Heating Oil Prices (2023 data, applied US Average to states with no data)
B16: =VLOOKUP(C16,Lists!$B$21:$F$83,5,0) -> 9 | C16: District of Columbia | D16: DC | E16: 16.45 | F16: 16.18 | G16: 4.28 | H16: 2.56 | J16: https://www.eia.gov/dnav/pet/pet_pri_wfr_a_EPD2F_prs_dpgal_w.htm
B17: =VLOOKUP(C17,Lists!$B$21:$F$83,5,0) -> 11 | C17: Florida | D17: FL | E17: 15.21 | F17: 24.25 | G17: 4.28 | H17: 4.72
B18: =VLOOKUP(C18,Lists!$B$21:$F$83,5,0) -> 12 | C18: Georgia | D18: GA | E18: 13.69 | F18: 18.33 | G18: 4.28 | H18: 2.98 | J18: Source (Canadian Data)
B19: =VLOOKUP(C19,Lists!$B$21:$F$83,5,0) -> 13 | C19: Hawaii | D19: HA | E19: 42.39 | F19: 51.16 | G19: 4.28 | H19: 2.56 | J19: Residential Electricity Price (2023)
B20: =VLOOKUP(C20,Lists!$B$21:$F$83,5,0) -> 15 | C20: Idaho | D20: ID | E20: 11.05 | F20: 9.39 | G20: 4.28 | H20: 2.54 | J20: Assumes 1000 kWh/yr consumption; 0.74:1 CAD/USD
B21: =VLOOKUP(C21,Lists!$B$21:$F$83,5,0) -> 16 | C21: Illinois | D21: IL | E21: 15.71 | F21: 11.15 | G21: 4.28 | H21: 1.96 | J21: https://www.energyhub.org/electricity-prices/
B22: =VLOOKUP(C22,Lists!$B$21:$F$83,5,0) -> 17 | C22: Indiana | D22: IN | E22: 14.94 | F22: 11.21 | G22: 3.9 | H22: 2.44
B23: =VLOOKUP(C23,Lists!$B$21:$F$83,5,0) -> 14 | C23: Iowa | D23: IA | E23: 13.31 | F23: 11.34 | G23: 3.56 | H23: 1.75 | J23: Natural Resources Canada
B24: =VLOOKUP(C24,Lists!$B$21:$F$83,5,0) -> 18 | C24: Kansas | D24: KA | E24: 13.38 | F24: 14.02 | G24: 4.28 | H24: 1.91 | J24: Energy Prices by Energy Source - Natural Gas (2022)
B25: =VLOOKUP(C25,Lists!$B$21:$F$83,5,0) -> 19 | C25: Kentucky | D25: KY | E25: 12.65 | F25: 14.93 | G25: 3.87 | H25: 2.53 | J25: Used 0.72 CAD/USD
B26: =VLOOKUP(C26,Lists!$B$21:$F$83,5,0) -> 20 | C26: Louisiana | D26: LA | E26: 11.55 | F26: 15.63 | G26: 4.28 | H26: 2.56 | J26: https://oee.nrcan.gc.ca/corporate/statistics/neud/dpa/showTable.cfm?type=HB&sector=res&juris=00&rn=18&page=0#sources
B27: =VLOOKUP(C27,Lists!$B$21:$F$83,5,0) -> 23 | C27: Maine | D27: ME | E27: 27.42 | F27: 18.4 | G27: 4.05 | H27: 3.16
B28: =VLOOKUP(C28,Lists!$B$21:$F$83,5,0) -> 56 | C28: Manitoba | D28: MB | E28: 7.548 | F28: 9.14 | G28: 4.16 | H28: 3.5
B29: =VLOOKUP(C29,Lists!$B$21:$F$83,5,0) -> 22 | C29: Maryland | D29: MD | E29: 16.6 | F29: 16.71 | G29: 4.46 | H29: 3.39 | J29: Weekly Average Retail Prices for Furnace Oil in 2024
B30: =VLOOKUP(C30,Lists!$B$21:$F$83,5,0) -> 21 | C30: Massachusetts | D30: MS | E30: 29.61 | F30: 20.66 | G30: 4.29 | H30: 3.47 | J30: https://www2.nrcan.gc.ca/eneene/sources/pripri/prices_bycity_e.cfm?productID=7&locationID=66&locationID=8&locationID=29&frequency=W&priceYear=2024&Redisplay=
B31: =VLOOKUP(C31,Lists!$B$21:$F$83,5,0) -> 24 | C31: Michigan | D31: MC | E31: 18.84 | F31: 11.06 | G31: 3.71 | H31: 2.3 | J31: Used 0.72 CAD/USD
B32: =VLOOKUP(C32,Lists!$B$21:$F$83,5,0) -> 25 | C32: Minnesota | D32: MN | E32: 14.73 | F32: 11.51 | G32: 4.09 | H32: 2
B33: =VLOOKUP(C33,Lists!$B$21:$F$83,5,0) -> 27 | C33: Mississippi | D33: MI | E33: 13.23 | F33: 15.07 | G33: 4.28 | H33: 2.94 | J33: Weekly Average Retail Prices for Auto Propane in 2024
B34: =VLOOKUP(C34,Lists!$B$21:$F$83,5,0) -> 26 | C34: Missouri | D34: MO | E34: 12.58 | F34: 16.54 | G34: 4.28 | H34: 2.14 | J34: https://www2.nrcan-rncan.gc.ca/eneene/sources/pripri/prices_bycity_e.cfm?productID=6&locationID=66&frequency=M&priceYear=2024&Redisplay=
B35: =VLOOKUP(C35,Lists!$B$21:$F$83,5,0) -> 28 | C35: Montana | D35: MT | E35: 12.54 | F35: 9.8 | G35: 4.28 | H35: 2.21 | J35: Used 0.72 CAD/USD
B36: =VLOOKUP(C36,Lists!$B$21:$F$83,5,0) -> 31 | C36: Nebraska | D36: NB | E36: 11.2 | F36: 12.62 | G36: 3.47 | H36: 1.72
B37: =VLOOKUP(C37,Lists!$B$21:$F$83,5,0) -> 35 | C37: Nevada | D37: NV | E37: 16.67 | F37: 16.35 | G37: 4.28 | H37: 2.56
B38: =VLOOKUP(C38,Lists!$B$21:$F$83,5,0) -> 57 | C38: New Brunswick | D38: NB | E38: 10.286 | F38: 9.14 | G38: 4.16 | H38: 3.5
B39: =VLOOKUP(C39,Lists!$B$21:$F$83,5,0) -> 32 | C39: New Hampshire | D39: NH | E39: 28.15 | F39: 20.25 | G39: 4.34 | H39: 3.54
B40: =VLOOKUP(C40,Lists!$B$21:$F$83,5,0) -> 33 | C40: New Jersey | D40: NJ | E40: 17.7 | F40: 12.73 | G40: 4.54 | H40: 3.26
B41: =VLOOKUP(C41,Lists!$B$21:$F$83,5,0) -> 34 | C41: New Mexico | D41: NM | E41: 13.85 | F41: 11.23 | G41: 4.28 | H41: 2.56
B42: =VLOOKUP(C42,Lists!$B$21:$F$83,5,0) -> 36 | C42: New York | D42: NY | E42: 22.25 | F42: 16.28 | G42: 4.53 | H42: 3.3
B43: =VLOOKUP(C43,Lists!$B$21:$F$83,5,0) -> 58 | C43: Newfoundland | D43: NL | E43: 10.952 | F43: 9.14 | G43: 4.16 | H43: 3.5
B44: =VLOOKUP(C44,Lists!$B$21:$F$83,5,0) -> 29 | C44: North Carolina | D44: NC | E44: 12.93 | F44: 16.7 | G44: 4.07 | H44: 3.27
B45: =VLOOKUP(C45,Lists!$B$21:$F$83,5,0) -> 30 | C45: North Dakota | D45: ND | E45: 11.01 | F45: 9.4 | G45: 4.28 | H45: 1.77
B46: =VLOOKUP(C46,Lists!$B$21:$F$83,5,0) -> 59 | C46: Nova Scotia | D46: NS | E46: 13.542 | F46: 9.14 | G46: 4.16 | H46: 3.5
B47: =VLOOKUP(C47,Lists!$B$21:$F$83,5,0) -> 37 | C47: Ohio | D47: OH | E47: 15.38 | F47: 13.17 | G47: 4.02 | H47: 2.58
... B59: =VLOOKUP(C59,Lists!$B$21:$F$83,5,0) -> 45 | C59: Texas | D59: TX | E59: 14.46 | F59: 16.72 | G59: 4.28 | H59: 2.88
B60: =Lists!A21 -> 1 | C60: United States | D60: US | E60: 16 | F60: 14.83 | G60: 4.28 | H60: 2.56
B61: =VLOOKUP(C61,Lists!$B$21:$F$83,5,0) -> 46 | C61: Utah | D61: UT | E61: 11.2 | F61: 12.96 | G61: 4.28 | H61: 2.43
B62: =VLOOKUP(C62,Lists!$B$21:$F$83,5,0) -> 48 | C62: Vermont | D62: VT | E62: 20.82 | F62: 16.51 | G62: 4.25 | H62: 3.4
B63: =VLOOKUP(C63,Lists!$B$21:$F$83,5,0) -> 47 | C63: Virginia | D63: VA | E63: 14.26 | F63: 16.58 | G63: 4.27 | H63: 3.32
B64: =VLOOKUP(C64,Lists!$B$21:$F$83,5,0) -> 49 | C64: Washington | D64: WN | E64: 10.98 | F64: 14.98 | G64: 4.28 | H64: 2.56
B65: =VLOOKUP(C65,Lists!$B$21:$F$83,5,0) -> 51 | C65: West Virginia | D65: WV | E65: 14.05 | F65: 15.05 | G65: 4.28 | H65: 2.56
B66: =VLOOKUP(C66,Lists!$B$21:$F$83,5,0) -> 50 | C66: Wisconsin | D66: WS | E66: 16.88 | F66: 10.5 | G66: 3.6 | H66: 1.97
B67: =VLOOKUP(C67,Lists!$B$21:$F$83,5,0) -> 52 | C67: Wyoming | D67: WY | E67: 11.46 | F67: 13.22 | G67: 4.28 | H67: 2.56

Sheet Carbon Calculator
C2: Commercial Carbon Calculator | V2: To update carbon calculator, ONLY update the table below and the table in columns BS:BW (Canada). Both are highlighted in blue
L3: Developed by:
V4: eGRID2023 (v2, 2025 Release), 2022 for Canada | BC4: Canada Data | BY4: Emissions Summary | CA4: *values in columns BZ-CC are the ones used in calculations, but they are pulled from table starting in AF | CF4: Other Data | CP4: Lists
CA5: *only blue highlighted values are used for calcilations
BC6: CO2 Emissions | BJ6: SOX and NOX Emissions | BS6: Canadian Average All Sources | BY6: eGRID2023 US, NIR (2022) and NPRI Canada (2011) | CF6: NOX Emission Factors, EPA AP-42 Section 1.4 Natural Gas Combustion, Table 3.4-1 | CL6: Unit Conversions | CP6: Consumption | CR6: Regions | CU6: Emissions Profile
V7: *update table below | BS7: *update table below
V8: eGRID2023 (2025 release) | W8: State abbreviation | X8: State nameplate capacity (MW) | Y8: State annual heat input (MMBtu) | Z8: State annual net generation (MWh) | AA8: State annual NOx emissions (tons) | AB8: State annual SO2 emissions (tons) | AC8: State annual CO2 emissions (tons) | AD8: State annual NOx total output emission rate (lb/MWh) | AE8: State annual SO2 total output emission rate (lb/MWh) | AF8: State annual CO2 total output emission rate (lb/MWh) | AG8: State annual NOx input emission rate (lb/MMBtu) | AH8: State ozone season NOx input emission rate (lb/MMBtu) | AI8: State annual SO2 input emission rate (lb/MMBtu) | AJ8: State annual CO2 input emission rate (lb/MMBtu) | AK8: State annual NOx fossil fuel output emission rate (lb/MWh) | AL8: State annual SO2 fossil fuel output emission rate (lb/MWh) | AM8: State annual CO2 fossil fuel output emission rate (lb/MWh) | AN8: State annual NOx fossil fuel input emission rate (lb/MMBtu) | AO8: State annual SO2 fossil fuel input emission rate (lb/MMBtu) | AP8: State annual CO2 fossil fuel input emission rate (lb/MMBtu) | AQ8: State annual coal net generation (MWh) | AR8: State annual oil net generation (MWh) | AS8: State annual gas net generation (MWh) | AT8: State annual other fossil net generation (MWh) | AU8: State coal generation percent (resource mix) | AV8: State oil generation percent (resource mix) | AW8: State gas generation percent (resource mix) | AX8: State other fossil generation percent (resource mix) | AY8: State total combustion generation percent (resource mix) | AZ8: Total Annual Heat Rate (Btu/kWh) | BA8: Fossil Annual Heat Rate (Btu/kWh) | BD8: CO2 - g CO2 eq/kWh | BF8: CO2 - lb CO2 eq/MWh | BK8: SOX (t)1 | BL8: NOX (t)1 | BM8: SOX (pounds) | BN8: NOX (pounds) | BO8: Generation (GWh)2 | BP8: SO2 output emission rate (lb/MWh) | BQ8: NOX output emission rate (lb/MWh) | BS8: Canada Province | BT8: 2022 CO2 Emission Rate (lb/MWh)1 | BU8: 2011 NOX Emission Rate (lb/MWh)2 | BV8: 2011 SO2 Emission Rate (lb/MWh)2,3 | BW8: Province Annual Heat Rate (Btu/kWh) | BY8: State | BZ8: CO2 Emission Rate (lb/MWh) | CA8: SO2 Emission Rate (lb/MWh) | CB8: NOX Emission Rate (lb/MWh) | CC8: Annual Heat Rate (Btu/kWh) | CF8: Pollutant | CG8: # of Tests | CH8: Emission Factor (lb/106 scf) | CI8: Relative St. Dev (%) | CL8: Value | CM8: Units | CP8: Monthly | CR8: US Average | CS8: =CR8 -> US Average | CT8: 1 | CU8: eGrid Subregions Ave All Sources | CW8: US_Average_All_Sources | CX8: US_Average_Fossil | CY8: eGrid_Subregions_Ave_All_Sources | CZ8: eGrid_Subregions_Average_Fossil | DA8: NERC_Average_All_Sources | DB8: NERC_Average_Fossil | DC8: Canadian_Average_All_Sources
C9: User Input | V9: N/A | W9: US Average | X9: 1303568.8 | Y9: 2.1889488e+10 | Z9: 4.1909709e+09 | AA9: 947487.4 | AB9: 752518.81 | AC9: 1.6076763e+09 | AD9: 0.452 | AE9: 0.359 | AF9: 767.209 | AG9: 0.087 | AH9: 0.082 | AI9: 0.069 | AJ9: 146.89 | AK9: 0.71 | AL9: 0.567 | AM9: 1270.259 | AN9: 0.084 | AO9: 0.067 | AP9: 149.906 | AQ9: 6.7470209e+08 | AR9: 23005569 | AS9: 1.8091774e+09 | AT9: 19169271 | AU9: 0.161 | AV9: 0.005 | AW9: 0.432 | AX9: 0.005 | AY9: 0.614 | AZ9: =Y9/Z9*1000 -> 5223.0111 | BA9: =Y9/(SUM(AQ9:AT9))*1000 -> 8665.4857 | BD9: Generation Intensity | BE9: Consumption Intensity | BF9: Generation Intensity | BG9: Consumption Intensity | BH9: Losses1 | BJ9: Canada Average | BK9: 294098.97 | BL9: 184706.74 | BM9: 6.4837647e+08 | BN9: 4.0720817e+08 | BO9: 568000 | BP9: =BM9/$BO9/1000 -> 1.1415079 | BQ9: =BN9/$BO9/1000 -> 0.71691578 | BS9: Canada Average | BT9: 220.46244 | BU9: 0.71691578 | BV9: 1.1415079 | BW9: 3634 | BY9: =W9 -> US Average | BZ9: =AF9 -> 767.209 | CA9: =AE9 -> 0.359 | CB9: =AD9 -> 0.452 | CC9: =AZ9 -> 5223.0111 | CF9: NOx (Small-Unc.) | CG9: 18 | CH9: 104 | CI9: 0.51 | CL9: 1.10231 | CM9: short ton/metric ton | CP9: Annual | CR9: Alaska | CS9: AK | CT9: 2 | CU9: eGrid Subregions Average Fossil | CW9: US Average | CX9: =CW9 -> US Average | CY9: ASCC Alaska Grid | CZ9: ASCC Alaska Grid | DA9: Alaska Systems Coordinating Council | DB9: Alaska Systems Coordinating Council | DC9: Canada Average
I10: Comparison Cases | V10: 1 | W10: AK | X10: 3095.5 | Y10: 39933924 | Z10: 6678905.2 | AA10: 20591.981 | AB10: 1349.979 | AC10: 2704369 | AD10: 6.166 | AE10: 0.404 | AF10: 809.824 | AG10: 1.031 | AH10: 1.107 | AI10: 0.068 | AJ10: 135.442 | AK10: 8.631 | AL10: 0.563 | AM10: 1134.697 | AN10: 1.041 | AO10: 0.068 | AP10: 136.805 | AQ10: 730681.46 | AR10: 848592.32 | AS10: 3182407.1 | AT10: 0 | AU10: 0.109 | AV10: 0.127 | AW10: 0.476 | AX10: 0 | AY10: 0.719 | AZ10: =Y10/Z10*1000 -> 5979.1123 | BA10: =Y10/(SUM(AQ10:AT10))*1000 -> 8386.5183 | BC10: Canada Average | BD10: 100 | BE10: 100 | BF10: 220.46244 | BG10: 220.46244 | BH10: =IF(BD10=0,0,BE10/BD10-1) -> 0 | BJ10: Alberta | BK10: 114491.81 | BL10: 84030.118 | BM10: 2.5241094e+08 | BN10: 1.8525448e+08 | BO10: 64600 | BP10: =BM10/$BO10/1000 -> 3.90729 | BQ10: =BN10/$BO10/1000 -> 2.8677164 | BS10: Alberta | BT10: 1036.1735 | BU10: 2.8677164 | BV10: 3.90729 | BW10: 10177 | BY10: =W10 -> AK | BZ10: =AF10 -> 809.824 | CA10: =AE10 -> 0.404 | CB10: =AD10 -> 6.166 | CC10: =AZ10 -> 5979.1123 | CF10: NOx (Small-Low NOx) | CG10: 5 | CH10: 50 | CI10: 0.54 | CL10: 0.099976 | CM10: mmbtu/therm | CR10: Alabama | CS10: AL | CT10: 3 | CU10: Canadian Average All Sources | CW10: Alaska | CX10: Alaska | CY10: ASCC Miscellaneous | CZ10: ASCC Miscellaneous | DA10: Hawaiian Islands Coordinating Council | DB10: Hawaiian Islands Coordinating Council | DC10: Alberta
C11: Description | E11: Current Home | I11: Gas Alternative | Q11: #5 | S11: #6 | V11: 2 | W11: AL | X11: 32924 | Y11: 6.8557933e+08 | Z11: 1.3859626e+08 | AA11: 14811.073 | AB11: 6423.285 | AC11: 49270108 | AD11: 0.214 | AE11: 0.093 | AF11: 710.988 | AG11: 0.043 | AH11: 0.046 | AI11: 0.019 | AJ11: 143.733 | AK11: 0.331 | AL11: 0.057 | AM11: 1232.689 | AN11: 0.04 | AO11: 0.007 | AP11: 147.885 | AQ11: 18975690 | AR11: 23792.08 | AS11: 61216629 | AT11: 31.529 | AU11: 0.137 | AV11: 0 | AW11: 0.442 | AX11: 0 | AY11: 0.602 | AZ11: =Y11/Z11*1000 -> 4946.5934 | BA11: =Y11/(SUM(AQ11:AT11))*1000 -> 8546.6504 | BC11: Alberta | BD11: 470 | BE11: 490 | BF11: 1036.1735 | BG11: 1080.266 | BH11: =IF(BD11=0,0,BE11/BD11-1) -> 0.042553191 | BJ11: British Columbia | BK11: 138.7048 | BL11: 2088.8574 | BM11: 305791.37 | BN11: 4605136.7 | BO11: 56300 | BP11: =BM11/$BO11/1000 -> 0.005431463 | BQ11: =BN11/$BO11/1000 -> 0.081796389 | BS11: British Columbia | BT11: 30.864742 | BU11: 0.081796389 | BV11: 0.005431463 | BW11: 437 | BY11: =W11 -> AL | BZ11: =AF11 -> 710.988 | CA11: =AE11 -> 0.093 | CB11: =AD11 -> 0.214 | CC11: =AZ11 -> 4946.5934 | CF11: NOx (Small-Low NOx/FGR) | CG11: 15 | CH11: 32 | CI11: 0.18 | CL11: 2000 | CM11: pounds/short ton | CR11: Arkansas | CS11: AR | CW11: Alabama | CX11: Alabama | CY11: ERCOT All | CZ11: ERCOT All | DA11: Midwest Reliability Organization | DB11: Midwest Reliability Organization | DC11: British Columbia
V12: 3 | W12: AR | X12: 17060.1 | Y12: 3.8781729e+08 | Z12: 63195647 | AA12: 15231.232 | AB12: 27092.375 | AC12: 31389682 | AD12: 0.482 | AE12: 0.857 | AF12: 993.413 | AG12: 0.079 | AH12: 0.083 | AI12: 0.14 | AJ12: 161.879 | AK12: 0.685 | AL12: 1.201 | AM12: 1450.016 | AN12: 0.077 | AO12: 0.136 | AP12: 163.683 | AQ12: 16844436 | AR12: 44534.566 | AS12: 26487467 | AT12: 6914.374 | AU12: 0.267 | AV12: 0.001 | AW12: 0.419 | AX12: 0 | AY12: 0.698 | AZ12: =Y12/Z12*1000 -> 6136.7723 | BA12: =Y12/(SUM(AQ12:AT12))*1000 -> 8939.3114 | BC12: British Columbia | BD12: 14 | BE12: 15 | BF12: 30.864742 | BG12: 33.069366 | BH12: =IF(BD12=0,0,BE12/BD12-1) -> 0.071428571 | BJ12: Manitoba | BK12: 664.74159 | BL12: 442.07568 | BM12: 1465502.6 | BN12: 974608.9 | BO12: 35100 | BP12: =BM12/$BO12/1000 -> 0.041752211 | BQ12: =BN12/$BO12/1000 -> 0.027766635 | BS12: Manitoba | BT12: 2.8660117 | BU12: 0.027766635 | BV12: 0.041752211 | BW12: 300 | BY12: =W12 -> AR | BZ12: =AF12 -> 993.413 | CA12: =AE12 -> 0.857 | CB12: =AD12 -> 0.482 | CC12: =AZ12 -> 6136.7723 | CF12: NOx (Large Wall-Fired-Low NOx) | CG12: 5 | CH12: 136 | CI12: 0.37 | CL12: 453.592 | CM12: grams/pound | CR12: Arizona | CS12: AZ | CW12: Arkansas | CX12: Arkansas | CY12: FRCC All | CZ12: FRCC All | DA12: Northeast Power Coordinating Council | DB12: Northeast Power Coordinating Council | DC12: Manitoba
C13: Electricity Consumption (kWh/yr) | E13: =Calc!B77*1000 -> 13713.427 | H13: % zero-carbon | V13: 4 | W13: AZ | X13: 33107.6 | Y13: 5.4441124e+08 | Z13: 1.1182095e+08 | AA13: 16561.587 | AB13: 7036.341 | AC13: 38393041 | AD13: 0.296 | AE13: 0.126 | AF13: 686.688 | AG13: 0.061 | AH13: 0.059 | AI13: 0.026 | AJ13: 141.044 | AK13: 0.503 | AL13: 0.215 | AM13: 1182.581 | AN13: 0.06 | AO13: 0.026 | AP13: 141.963 | AQ13: 12068553 | AR13: 31568.289 | AS13: 52817503 | AT13: 0 | AU13: 0.108 | AV13: 0 | AW13: 0.472 | AX13: 0 | AY13: 0.582 | AZ13: =Y13/Z13*1000 -> 4868.5981 | BA13: =Y13/(SUM(AQ13:AT13))*1000 -> 8386.1855 | BC13: Manitoba | BD13: 1.3 | BE13: 1.4 | BF13: 2.8660117 | BG13: 3.0864742 | BH13: =IF(BD13=0,0,BE13/BD13-1) -> 0.076923077 | BJ13: New Brunswick | BK13: 4865.9542 | BL13: 7004.9459 | BM13: 10727580 | BN13: 15443244 | BO13: 11200 | BP13: =BM13/$BO13/1000 -> 0.95781963 | BQ13: =BN13/$BO13/1000 -> 1.378861 | BS13: New Brunswick | BT13: 727.52606 | BU13: 1.378861 | BV13: 0.95781963 | BW13: 2720 | BY13: =W13 -> AZ | BZ13: =AF13 -> 686.688 | CA13: =AE13 -> 0.126 | CB13: =AD13 -> 0.296 | CC13: =AZ13 -> 4868.5981 | CF13: NOx (Large Wall-Fired-FGR) | CG13: 4 | CH13: 101 | CI13: 0.25 | CR13: California | CS13: CA | CW13: Arizona | CX13: Arizona | CY13: HICC Miscellaneous | CZ13: HICC Miscellaneous | DA13: Reliability First Corporation | DB13: Reliability First Corporation | DC13: New Brunswick
H14: (onsite PV) | V14: 5 | W14: CA | X14: 96731 | Y14: 7.7297811e+08 | Z14: 2.1608024e+08 | AA14: 31751.932 | AB14: 1366.199 | AC14: 42512302 | AD14: 0.294 | AE14: 0.013 | AF14: 393.486 | AG14: 0.082 | AH14: 0.084 | AI14: 0.004 | AJ14: 109.996 | AK14: 0.523 | AL14: 0.007 | AM14: 873.41 | AN14: 0.071 | AO14: 0.001 | AP14: 118.19 | AQ14: 208861.65 | AR14: 73419.431 | AS14: 94336387 | AT14: 1483673.2 | AU14: 0.001 | AV14: 0 | AW14: 0.437 | AX14: 0.007 | AY14: 0.468 | AZ14: =Y14/Z14*1000 -> 3577.2735 | BA14: =Y14/(SUM(AQ14:AT14))*1000 -> 8043.2808 | BC14: New Brunswick | BD14: 330 | BE14: 350 | BF14: 727.52606 | BG14: 771.61855 | BH14: =IF(BD14=0,0,BE14/BD14-1) -> 0.060606061 | BJ14: Newfoundland | BK14: 3063.064 | BL14: 3269.4463 | BM14: 6752892.2 | BN14: 7207886.6 | BO14: 41300 | BP14: =BM14/$BO14/1000 -> 0.16350828 | BQ14: =BN14/$BO14/1000 -> 0.1745251 | BS14: Newfoundland | BT14: 37.478615 | BU14: 0.1745251 | BV14: 0.16350828 | BW14: 365 | BY14: =W14 -> CA | BZ14: =AF14 -> 393.486 | CA14: =AE14 -> 0.013 | CB14: =AD14 -> 0.294 | CC14: =AZ14 -> 3577.2735 | CF14: NOx (Large Wall-Fired Unc. Pre-NSPS) | CG14: 108 | CH14: 275 | CI14: 0.93 | CR14: Colorado | CS14: CO | CW14: California | CX14: California | CY14: HICC Oahu | CZ14: HICC Oahu | DA14: SERC Reliability Corporation | DB14: SERC Reliability Corporation | DC14: Newfoundland
C15: Natural Gas Consumption (MMBtu/yr) | E15: =Calc!I79 -> 0 | H15: % zero-carbon | I15: =Calc!B76 -> 95.422994 | V15: 6 | W15: CO | X15: 21370 | Y15: 3.639252e+08 | Z15: 57471488 | AA15: 15627.909 | AB15: 10073.944 | AC15: 31178886 | AD15: 0.544 | AE15: 0.351 | AF15: 1085.021 | AG15: 0.086 | AH15: 0.083 | AI15: 0.055 | AJ15: 171.348 | AK15: 0.86 | AL15: 0.559 | AM15: 1732.334 | AN15: 0.085 | AO15: 0.056 | AP15: 172.134 | AQ15: 18730017 | AR15: 47733.339 | AS15: 17218650 | AT15: 0 | AU15: 0.326 | AV15: 0.001 | AW15: 0.3 | AX15: 0 | AY15: 0.629 | AZ15: =Y15/Z15*1000 -> 6332.2737 | BA15: =Y15/(SUM(AQ15:AT15))*1000 -> 10110.044 | BC15: Newfoundland | BD15: 17 | BE15: 18 | BF15: 37.478615 | BG15: 39.68324 | BH15: =IF(BD15=0,0,BE15/BD15-1) -> 0.058823529 | BJ15: Nova Scotia | BK15: 65035.813 | BL15: 18433.88 | BM15: 1.4337925e+08 | BN15: 40639700 | BO15: 11400 | BP15: =BM15/$BO15/1000 -> 12.577128 | BQ15: =BN15/$BO15/1000 -> 3.564886 | BS15: Nova Scotia | BT15: 1455.0521 | BU15: 3.564886 | BV15: 12.577128 | BW15: 5979 | BY15: =W15 -> CO | BZ15: =AF15 -> 1085.021 | CA15: =AE15 -> 0.351 | CB15: =AD15 -> 0.544 | CC15: =AZ15 -> 6332.2737 | CF15: NOx (Large Wall-Fired Unc. Post-NSPS) | CG15: 13 | CH15: 192 | CI15: 0.36 | CR15: Connecticut | CS15: CT | CW15: Colorado | CX15: Colorado | CY15: MRO East | CZ15: MRO East | DA15: Texas Regional Entity | DB15: Texas Regional Entity | DC15: Nova Scotia
H16: (RNG, Hydrogen) | V16: 7 | W16: CT | X16: 10965.2 | Y16: 1.8930127e+08 | Z16: 40652075 | AA16: 3890.722 | AB16: 1459.145 | AC16: 10940808 | AD16: 0.191 | AE16: 0.072 | AF16: 538.266 | AG16: 0.041 | AH16: 0.039 | AI16: 0.015 | AJ16: 115.591 | AK16: 0.166 | AL16: 0.018 | AM16: 810.03 | AN16: 0.024 | AO16: 0.003 | AP16: 118.077 | AQ16: 0 | AR16: 124203.81 | AS16: 24943869 | AT16: 429483.84 | AU16: 0 | AV16: 0.003 | AW16: 0.614 | AX16: 0.011 | AY16: 0.642 | AZ16: =Y16/Z16*1000 -> 4656.62 | BA16: =Y16/(SUM(AQ16:AT16))*1000 -> 7424.2903 | BC16: Nova Scotia | BD16: 660 | BE16: 700 | BF16: 1455.0521 | BG16: 1543.2371 | BH16: =IF(BD16=0,0,BE16/BD16-1) -> 0.060606061 | BJ16: Ontario | BK16: 11970.558 | BL16: 18987.877 | BM16: 26390531 | BN16: 41861053 | BO16: 151000 | BP16: =BM16/$BO16/1000 -> 0.17477173 | BQ16: =BN16/$BO16/1000 -> 0.27722551 | BS16: Ontario | BT16: 77.161855 | BU16: 0.27722551 | BV16: 0.17477173 | BW16: 2686 | BY16: =W16 -> CT | BZ16: =AF16 -> 538.266 | CA16: =AE16 -> 0.072 | CB16: =AD16 -> 0.191 | CC16: =AZ16 -> 4656.62 | CF16: NOx (Tangential-Unc.) | CG16: 62 | CH16: 167 | CI16: 0.37 | CR16: District of Columbia | CS16: DC | CW16: Connecticut | CX16: Connecticut | CY16: MRO West | CZ16: MRO West | DA16: Western Electricity Coordinating Council | DB16: Western Electricity Coordinating Council | DC16: Ontario
C17: Propane Consumption (gal/yr) | E17: =Calc!I76 -> 0 | H17: % zero-carbon | V17: 8 | W17: DC | X17: 56.6 | Y17: 1490126.7 | Z17: 171869.5 | AA17: 243.652 | AB17: 2.357 | AC17: 33866.772 | AD17: 2.835 | AE17: 0.027 | AF17: 394.099 | AG17: 0.327 | AH17: 0.32 | AI17: 0.003 | AJ17: 45.455 | AK17: 2.658 | AL17: 0.021 | AM17: 758.145 | AN17: 0.226 | AO17: 0.002 | AP17: 64.362 | AQ17: 0 | AR17: 53.575 | AS17: 89209.785 | AT17: 0 | AU17: 0 | AV17: 0 | AW17: 0.519 | AX17: 0 | AY17: 0.857 | AZ17: =Y17/Z17*1000 -> 8670.1058 | BA17: =Y17/(SUM(AQ17:AT17))*1000 -> 16693.599 | BC17: Ontario | BD17: 35 | BE17: 38 | BF17: 77.161855 | BG17: 83.775728 | BH17: =IF(BD17=0,0,BE17/BD17-1) -> 0.085714286 | BJ17: Prince Edward Island | BK17: 65.63 | BL17: 26.841 | BM17: 144689.21 | BN17: 59174.205 | BO17: 492 | BP17: =BM17/$BO17/1000 -> 0.29408376 | BQ17: =BN17/$BO17/1000 -> 0.12027278 | BS17: Prince Edward Island | BT17: 4.4092488 | BU17: 0.12027278 | BV17: 0.29408376 | BW17: 7864 | BY17: =W17 -> DC | BZ17: =AF17 -> 394.099 | CA17: =AE17 -> 0.027 | CB17: =AD17 -> 2.835 | CC17: =AZ17 -> 8670.1058 | CF17: NOx (Tangential-FGR) | CG17: 8 | CH17: 76 | CI17: 0.64 | CR17: Delaware | CS17: DE | CW17: District of Columbia | CX17: District of Columbia | CY17: NPCC Long Island | CZ17: NPCC Long Island | DC17: Prince Edward Island
H18: (Renewable Propane) | V18: 9 | W18: DE | X18: 3441 | Y18: 28665228 | Z18: 4772059.3 | AA18: 540.406 | AB18: 175.387 | AC18: 1677842.7 | AD18: 0.226 | AE18: 0.074 | AF18: 703.194 | AG18: 0.038 | AH18: 0.04 | AI18: 0.012 | AJ18: 117.065 | AK18: 0.316 | AL18: 0.098 | AM18: 984.537 | AN18: 0.039 | AO18: 0.012 | AP18: 119.92 | AQ18: -6498.417 | AR18: -1890.86 | AS18: 4382640 | AT18: 172094.23 | AU18: 0 | AV18: 0 | AW18: 0.918 | AX18: 0.036 | AY18: 0.967 | AZ18: =Y18/Z18*1000 -> 6006.8885 | BA18: =Y18/(SUM(AQ18:AT18))*1000 -> 6305.115 | BC18: Prince Edward Island | BD18: 2 | BE18: 0 | BF18: 4.4092488 | BG18: 0 | BH18: =IF(BD18=0,0,BE18/BD18-1) -> -1 | BJ18: Quebec | BK18: 1622.9466 | BL18: 8275.0073 | BM18: 3577980.6 | BN18: 18243247 | BO18: 177000 | BP18: =BM18/$BO18/1000 -> 0.02021458 | BQ18: =BN18/$BO18/1000 -> 0.10306919 | BS18: Quebec | BT18: 2.6455493 | BU18: 0.10306919 | BV18: 0.02021458 | BW18: 101 | BY18: =W18 -> DE | BZ18: =AF18 -> 703.194 | CA18: =AE18 -> 0.074 | CB18: =AD18 -> 0.226 | CC18: =AZ18 -> 6006.8885 | CR18: Florida | CS18: FL | CW18: Delaware | CX18: Delaware | CY18: NPCC New England | CZ18: NPCC New England | DC18: Quebec
C19: Heating Oil Consumption (gal/yr) | E19: =Calc!E76 -> 0 | H19: % zero-carbon | V19: 10 | W19: FL | X19: 76100.7 | Y19: 1.6256549e+09 | Z19: 2.5809901e+08 | AA19: 32830.27 | AB19: 16292.59 | AC19: 1.015161e+08 | AD19: 0.254 | AE19: 0.126 | AF19: 786.645 | AG19: 0.04 | AH19: 0.04 | AI19: 0.02 | AJ19: 124.893 | AK19: 0.232 | AL19: 0.107 | AM19: 949.637 | AN19: 0.031 | AO19: 0.014 | AP19: 126.67 | AQ19: 11373251 | AR19: 1199820.9 | AS19: 1.9583025e+08 | AT19: 1459664.7 | AU19: 0.044 | AV19: 0.005 | AW19: 0.759 | AX19: 0.006 | AY19: 0.825 | AZ19: =Y19/Z19*1000 -> 6298.5707 | BA19: =Y19/(SUM(AQ19:AT19))*1000 -> 7746.2677 | BC19: Quebec | BD19: 1.2 | BE19: 1.7 | BF19: 2.6455493 | BG19: 3.7478615 | BH19: =IF(BD19=0,0,BE19/BD19-1) -> 0.41666667 | BJ19: Saskatchewan | BK19: 91918.957 | BL19: 36803.73 | BM19: 2.0264637e+08 | BN19: 81138239 | BO19: 20800 | BP19: =BM19/$BO19/1000 -> 9.7426139 | BQ19: =BN19/$BO19/1000 -> 3.9008769 | BS19: Saskatchewan | BT19: 1388.9134 | BU19: 3.9008769 | BV19: 9.7426139 | BW19: 5711 | BY19: =W19 -> FL | BZ19: =AF19 -> 786.645 | CA19: =AE19 -> 0.126 | CB19: =AD19 -> 0.254 | CC19: =AZ19 -> 6298.5707 | CR19: Georgia | CS19: GA | CW19: Florida | CX19: Florida | CY19: NPCC NYC/Westchester | CZ19: NPCC NYC/Westchester | DC19: Saskatchewan
H20: (Biofuels) | V20: 11 | W20: GA | X20: 40609.5 | Y20: 6.7642698e+08 | Z20: 1.2922027e+08 | AA20: 18438.114 | AB20: 12892.404 | AC20: 46120743 | AD20: 0.285 | AE20: 0.2 | AF20: 713.831 | AG20: 0.055 | AH20: 0.039 | AI20: 0.038 | AJ20: 136.366 | AK20: 0.395 | AL20: 0.217 | AM20: 1194.446 | AN20: 0.048 | AO20: 0.026 | AP20: 145.172 | AQ20: 16769057 | AR20: 235786.7 | AS20: 60043963 | AT20: 90858.003 | AU20: 0.13 | AV20: 0.002 | AW20: 0.465 | AX20: 0.001 | AY20: 0.635 | AZ20: =Y20/Z20*1000 -> 5234.6815 | BA20: =Y20/(SUM(AQ20:AT20))*1000 -> 8768.8608 | BC20: Saskatchewan | BD20: 630 | BE20: 670 | BF20: 1388.9134 | BG20: 1477.0984 | BH20: =IF(BD20=0,0,BE20/BD20-1) -> 0.063492063 | BY20: =W20 -> GA | BZ20: =AF20 -> 713.831 | CA20: =AE20 -> 0.2 | CB20: =AD20 -> 0.285 | CC20: =AZ20 -> 5234.6815 | CR20: Hawaii | CS20: HI | CW20: Georgia | CX20: Georgia | CY20: NPCC Upstate NY | CZ20: NPCC Upstate NY
V21: 12 | W21: HI | X21: 3451.2 | Y21: 81226060 | Z21: 9158617.7 | AA21: 22671.585 | AB21: 19871.902 | AC21: 6342943.2 | AD21: 4.951 | AE21: 4.339 | AF21: 1385.131 | AG21: 0.558 | AH21: 0.545 | AI21: 0.489 | AJ21: 156.18 | AK21: 6.014 | AL21: 5.35 | AM21: 1650.194 | AN21: 0.59 | AO21: 0.525 | AP21: 161.906 | AQ21: 0 | AR21: 7159456.4 | AS21: 0 | AT21: 177774.96 | AU21: 0 | AV21: 0.782 | AW21: 0 | AX21: 0.019 | AY21: 0.833 | AZ21: =Y21/Z21*1000 -> 8868.8121 | BA21: =Y21/(SUM(AQ21:AT21))*1000 -> 11070.396 | BJ21: 1 2011 metric tons, taken from National Pollutant Release Inventory (NPRI) Downloadable Datasets, 2011 Air Pollutant Emission Summaries and Trends. 2011 Emissions from Electric Power Generation (Utilities) | BS21: 1 2020 CO2 Emission Rate taken from Canada's Official Greenhouse Gas Inventory, https://data.ec.gc.ca/data/substances/monitor/canada-s-official-greenhouse-gas-inventory | BY21: =W21 -> HI | BZ21: =AF21 -> 1385.131 | CA21: =AE21 -> 4.339 | CB21: =AD21 -> 4.951 | CC21: =AZ21 -> 8868.8121 | CR21: Iowa | CS21: IA | CW21: Hawaii | CX21: Hawaii | CY21: RFC East | CZ21: RFC East
C22: Emissions Profile | E22: =LOOKUP(emisProfile,CT8:CT10,CU8:CU10) -> eGrid Subregions Average Fossil | V22: 13 | W22: IA | X22: 24260.7 | Y22: 2.4642678e+08 | Z22: 69819809 | AA22: 13468.464 | AB22: 18148.432 | AC22: 21999771 | AD22: 0.386 | AE22: 0.52 | AF22: 630.187 | AG22: 0.109 | AH22: 0.114 | AI22: 0.147 | AJ22: 178.55 | AK22: 1 | AL22: 1.352 | AM22: 1641.065 | AN22: 0.109 | AO22: 0.148 | AP22: 179.423 | AQ22: 16409804 | AR22: 63157.552 | AS22: 10235260 | AT22: 0 | AU22: 0.235 | AV22: 0.001 | AW22: 0.147 | AX22: 0 | AY22: 0.386 | AZ22: =Y22/Z22*1000 -> 3529.468 | BA22: =Y22/(SUM(AQ22:AT22))*1000 -> 9226.6263 | BC22: 1 Losses include transmission line losses, metering differences, and other losses | BJ22: http://www.ec.gc.ca/inrp-npri/default.asp?lang=en&n=0EC58C98-#Emission_Summaries | BS22: 2 NOX and SOX Emissions taken from National Pollutant Release Inventory (NPRI) Downloadable Datasets, 2011 Air Pollutant Emission Summaries and Trends. 2011 Emissions from Electric Power Generation (Utilities) | BY22: =W22 -> IA | BZ22: =AF22 -> 630.187 | CA22: =AE22 -> 0.52 | CB22: =AD22 -> 0.386 | CC22: =AZ22 -> 3529.468 | CR22: Idaho | CS22: ID | CW22: Iowa | CX22: Iowa | CY22: RFC Michigan | CZ22: RFC Michigan
V23: 14 | W23: ID | X23: 5509 | Y23: 49765574 | Z23: 17842446 | AA23: 1179.333 | AB23: 436.466 | AC23: 2794952.1 | AD23: 0.132 | AE23: 0.049 | AF23: 313.292 | AG23: 0.047 | AH23: 0.046 | AI23: 0.018 | AJ23: 112.325 | AK23: 0.226 | AL23: 0.005 | AM23: 981.775 | AN23: 0.027 | AO23: 0.001 | AP23: 118.829 | AQ23: 0 | AR23: 123.385 | AS23: 5686224.4 | AT23: 0 | AU23: 0 | AV23: 0 | AW23: 0.319 | AX23: 0 | AY23: 0.344 | AZ23: =Y23/Z23*1000 -> 2789.1677 | BA23: =Y23/(SUM(AQ23:AT23))*1000 -> 8751.764 | BC23: Source: Canada's Official Greenhouse Gas Inventory, 2022 data, | BJ23: 2 2011 Generation, taken from National Inventory Report, Greenhouse Gas Sources and Sinks in Canada 1990-2011, Environment Canada, Part 3 | BS23: http://www.ec.gc.ca/inrp-npri/default.asp?lang=en&n=0EC58C98-#Emission_Summaries | BY23: =W23 -> ID | BZ23: =AF23 -> 313.292 | CA23: =AE23 -> 0.049 | CB23: =AD23 -> 0.132 | CC23: =AZ23 -> 2789.1677 | CR23: Illinois | CS23: IL | CW23: Idaho | CX23: Idaho | CY23: RFC West | CZ23: RFC West
C24: Region | E24: {=_xlfn.IFS(state=1,"US Average",state<53,_xlfn.XLOOKUP('Heating Load'!C2,Lists!D119:D346,Lists!J119:J346),state=53,"Canada Average",state>53,_xlfn.XLOOKUP(state,Lists!A74:A83,Lists!B74:B83))} -> US Average | V24: 15 | W24: IL | X24: 51850.5 | Y24: 5.0577373e+08 | Z24: 1.7769029e+08 | AA24: 14983.831 | AB24: 23974.718 | AC24: 41908695 | AD24: 0.169 | AE24: 0.27 | AF24: 471.705 | AG24: 0.059 | AH24: 0.054 | AI24: 0.095 | AJ24: 165.721 | AK24: 0.532 | AL24: 0.855 | AM24: 1498.718 | AN24: 0.059 | AO24: 0.095 | AP24: 167.003 | AQ24: 27149579 | AR24: 26287.541 | AS24: 28416900 | AT24: 248087.88 | AU24: 0.153 | AV24: 0 | AW24: 0.16 | AX24: 0.001 | AY24: 0.316 | AZ24: =Y24/Z24*1000 -> 2846.378 | BA24: =Y24/(SUM(AQ24:AT24))*1000 -> 9057.4138 | BC24: https://data.ec.gc.ca/data/substances/monitor/canada-s-official-greenhouse-gas-inventory/C-Tables-Electricity-Canada-Provinces-Territories/?lang=en | BS24: 3 SOX emissions used to estimate SO2 emissions | BY24: =W24 -> IL | BZ24: =AF24 -> 471.705 | CA24: =AE24 -> 0.27 | CB24: =AD24 -> 0.169 | CC24: =AZ24 -> 2846.378 | CR24: Indiana | CS24: IN | CW24: Illinois | CX24: Illinois | CY24: SERC Midwest | CZ24: SERC Midwest
F25: =IF(#REF!="Ontario","Y",IF(#REF!="Alberta","Y",IF(#REF!="New Brunswick","Y",IF(#REF!="Nova Scotia","Y","N")))) -> #REF! | V25: 16 | W25: IN | X25: 30220.7 | Y25: 7.1834151e+08 | Z25: 90031871 | AA25: 37124.164 | AB25: 24608.621 | AC25: 65596778 | AD25: 0.825 | AE25: 0.547 | AF25: 1457.19 | AG25: 0.103 | AH25: 0.074 | AI25: 0.069 | AJ25: 182.634 | AK25: 0.95 | AL25: 0.655 | AM25: 1682.347 | AN25: 0.102 | AO25: 0.07 | AP25: 180.985 | AQ25: 40931630 | AR25: 96718.152 | AS25: 34849282 | AT25: 2271502.2 | AU25: 0.455 | AV25: 0.001 | AW25: 0.387 | AX25: 0.025 | AY25: 0.871 | AZ25: =Y25/Z25*1000 -> 7978.7469 | BA25: =Y25/(SUM(AQ25:AT25))*1000 -> 9191.932 | BY25: =W25 -> IN | BZ25: =AF25 -> 1457.19 | CA25: =AE25 -> 0.547 | CB25: =AD25 -> 0.825 | CC25: =AZ25 -> 7978.7469 | CR25: Kansas | CS25: KS | CW25: Indiana | CX25: Indiana | CY25: SERC Mississippi Valley | CZ25: SERC Mississippi Valley
E26: =IF(F25="Y","Note that Ontario, NewBrunswick, Nova Scotia and Alberta use calculated marginal mix emissions for CO2."," ") -> #REF! | V26: 17 | W26: KS | X26: 20569.6 | Y26: 2.2458249e+08 | Z26: 58456598 | AA26: 14484.647 | AB26: 3295.734 | AC26: 21282869 | AD26: 0.496 | AE26: 0.113 | AF26: 728.16 | AG26: 0.129 | AH26: 0.128 | AI26: 0.029 | AJ26: 189.533 | AK26: 1.398 | AL26: 0.317 | AM26: 2054.463 | AN26: 0.129 | AO26: 0.029 | AP26: 190.177 | AQ26: 16290684 | AR26: 59081.285 | AS26: 4368902.1 | AT26: 0 | AU26: 0.279 | AV26: 0.001 | AW26: 0.075 | AX26: 0 | AY26: 0.356 | AZ26: =Y26/Z26*1000 -> 3841.8672 | BA26: =Y26/(SUM(AQ26:AT26))*1000 -> 10839.62 | BY26: =W26 -> KS | BZ26: =AF26 -> 728.16 | CA26: =AE26 -> 0.113 | CB26: =AD26 -> 0.496 | CC26: =AZ26 -> 3841.8672 | CR26: Kentucky | CS26: KY | CW26: Kansas | CX26: Kansas | CY26: SERC South | CZ26: SERC South
C27: Annual Results | G27: Current | I27: =I10 -> Comparison Cases | V27: 18 | W27: KY | X27: 21645.3 | Y27: 5.7748022e+08 | Z27: 62417959 | AA27: 29920.167 | AB27: 34820.715 | AC27: 54147852 | AD27: 0.959 | AE27: 1.116 | AF27: 1735.009 | AG27: 0.104 | AH27: 0.09 | AI27: 0.121 | AJ27: 187.531 | AK27: 1.028 | AL27: 1.189 | AM27: 1870.359 | AN27: 0.104 | AO27: 0.12 | AP27: 188.518 | AQ27: 42805601 | AR27: 61135.461 | AS27: 14932901 | AT27: 91123.23 | AU27: 0.686 | AV27: 0.001 | AW27: 0.239 | AX27: 0.001 | AY27: 0.934 | AZ27: =Y27/Z27*1000 -> 9251.8281 | BA27: =Y27/(SUM(AQ27:AT27))*1000 -> 9975.3434 | BY27: =W27 -> KY | BZ27: =AF27 -> 1735.009 | CA27: =AE27 -> 1.116 | CB27: =AD27 -> 0.959 | CC27: =AZ27 -> 9251.8281 | CR27: Louisiana | CS27: LA | CW27: Kentucky | CX27: Kentucky | CY27: SERC Tennessee Valley | CZ27: SERC Tennessee Valley
E28: Units | G28: Home | I28: =I11 -> Gas Alternative | K28: =K11 -> 0 | M28: =M11 -> 0 | O28: =O11 -> 0 | Q28: =Q11 -> #5 | S28: =S11 -> #6 | V28: 19 | W28: LA | X28: 28657.7 | Y28: 6.0267065e+08 | Z28: 97434806 | AA28: 32219.461 | AB28: 9345.947 | AC28: 37093621 | AD28: 0.661 | AE28: 0.192 | AF28: 761.404 | AG28: 0.107 | AH28: 0.106 | AI28: 0.031 | AJ28: 123.097 | AK28: 0.785 | AL28: 0.19 | AM28: 916.522 | AN28: 0.107 | AO28: 0.026 | AP28: 125.377 | AQ28: 4833627 | AR28: 1032442.5 | AS28: 74064693 | AT28: 1822326.8 | AU28: 0.05 | AV28: 0.011 | AW28: 0.76 | AX28: 0.019 | AY28: 0.859 | AZ28: =Y28/Z28*1000 -> 6185.3733 | BA28: =Y28/(SUM(AQ28:AT28))*1000 -> 7371.8394 | BY28: =W28 -> LA | BZ28: =AF28 -> 761.404 | CA28: =AE28 -> 0.192 | CB28: =AD28 -> 0.661 | CC28: =AZ28 -> 6185.3733 | CR28: Massachusetts | CS28: MA | CW28: Louisiana | CX28: Louisiana | CY28: SERC Virginia/Carolina | CZ28: SERC Virginia/Carolina
C29: Energy Consumption | V29: 20 | W29: MA | X29: 14490 | Y29: 1.3981993e+08 | Z29: 19663313 | AA29: 5834.687 | AB29: 2736.281 | AC29: 8085460.9 | AD29: 0.593 | AE29: 0.278 | AF29: 822.39 | AG29: 0.083 | AH29: 0.079 | AI29: 0.039 | AJ29: 115.655 | AK29: 0.226 | AL29: 0.016 | AM29: 861.477 | AN29: 0.031 | AO29: 0.002 | AP29: 119.15 | AQ29: 0 | AR29: 97476.179 | AS29: 14774026 | AT29: 934699.58 | AU29: 0 | AV29: 0.005 | AW29: 0.751 | AX29: 0.048 | AY29: 0.85 | AZ29: =Y29/Z29*1000 -> 7110.7005 | BA29: =Y29/(SUM(AQ29:AT29))*1000 -> 8845.8908 | BY29: =W29 -> MA | BZ29: =AF29 -> 822.39 | CA29: =AE29 -> 0.278 | CB29: =AD29 -> 0.593 | CC29: =AZ29 -> 7110.7005 | CR29: Maryland | CS29: MD | CW29: Massachusetts | CX29: Massachusetts | CY29: SPP North | CZ29: SPP North
C30: Electricity (generated at central power plant) | G30: =E114 -> 125.48416 | I30: =I114 -> 0 | K30: =K114 -> 0 | M30: =M114 -> 0 | O30: =O114 -> 0 | Q30: =Q114 -> 0 | S30: =S114 -> 0 | V30: 21 | W30: MD | X30: 13152.7 | Y30: 1.4669941e+08 | Z30: 35987133 | AA30: 3131.686 | AB30: 2081.576 | AC30: 9357054.5 | AD30: 0.174 | AE30: 0.116 | AF30: 520.022 | AG30: 0.043 | AH30: 0.05 | AI30: 0.028 | AJ30: 127.568 | AK30: 0.284 | AL30: 0.172 | AM30: 1045.885 | AN30: 0.035 | AO30: 0.021 | AP30: 129.169 | AQ30: 1708970.4 | AR30: 64235.739 | AS30: 15329718 | AT30: 312893.72 | AU30: 0.047 | AV30: 0.002 | AW30: 0.426 | AX30: 0.009 | AY30: 0.493 | AZ30: =Y30/Z30*1000 -> 4076.4406 | BA30: =Y30/(SUM(AQ30:AT30))*1000 -> 8423.3432 | BY30: =W30 -> MD | BZ30: =AF30 -> 520.022 | CA30: =AE30 -> 0.116 | CB30: =AD30 -> 0.174 | CC30: =AZ30 -> 4076.4406 | CR30: Maine | CS30: ME | CW30: Maryland | CX30: Maryland | CY30: SPP South | CZ30: SPP South
C31: Natural Gas | G31: =E93 -> 0 | I31: =I93 -> 95.422994 | K31: =K93 -> 0 | M31: =M93 -> 0 | O31: =O93 -> 0 | Q31: =Q93 -> 0 | S31: =S93 -> 0 | V31: 22 | W31: ME | X31: 5569 | Y31: 44334746 | Z31: 12512181 | AA31: 1957.95 | AB31: 1178.609 | AC31: 1950796.1 | AD31: 0.313 | AE31: 0.188 | AF31: 311.824 | AG31: 0.088 | AH31: 0.073 | AI31: 0.053 | AJ31: 88.003 | AK31: 0.146 | AL31: 0.077 | AM31: 847.144 | AN31: 0.021 | AO31: 0.011 | AP31: 119.874 | AQ31: 43205.056 | AR31: 67115.763 | AS31: 3975075.4 | AT31: 179005.54 | AU31: 0.003 | AV31: 0.005 | AW31: 0.318 | AX31: 0.014 | AY31: 0.457 | AZ31: =Y31/Z31*1000 -> 3543.3268 | BA31: =Y31/(SUM(AQ31:AT31))*1000 -> 10396.475 | BY31: =W31 -> ME | BZ31: =AF31 -> 311.824 | CA31: =AE31 -> 0.188 | CB31: =AD31 -> 0.313 | CC31: =AZ31 -> 3543.3268 | CR31: Michigan | CS31: MI | CW31: Maine | CX31: Maine | CY31: WECC California | CZ31: WECC California
C32: Propane | E32: MMBtu/yr | G32: =E122 -> 0 | I32: =I122 -> 0 | K32: =K122 -> 0 | M32: =M122 -> 0 | O32: =O122 -> 0 | Q32: =Q122 -> 0 | S32: =S122 -> 0 | V32: 23 | W32: MI | X32: 33247.1 | Y32: 6.92305e+08 | Z32: 1.206485e+08 | AA32: 34100.196 | AB32: 26504.644 | AC32: 47847447 | AD32: 0.565 | AE32: 0.439 | AF32: 793.171 | AG32: 0.099 | AH32: 0.093 | AI32: 0.077 | AJ32: 138.226 | AK32: 0.8 | AL32: 0.636 | AM32: 1181.814 | AN32: 0.097 | AO32: 0.077 | AP32: 142.903 | AQ32: 23554515 | AR32: 1350492 | AS32: 54068082 | AT32: 1515185.7 | AU32: 0.195 | AV32: 0.011 | AW32: 0.448 | AX32: 0.013 | AY32: 0.684 | AZ32: =Y32/Z32*1000 -> 5738.1981 | BA32: =Y32/(SUM(AQ32:AT32))*1000 -> 8601.315 | BY32: =W32 -> MI | BZ32: =AF32 -> 793.171 | CA32: =AE32 -> 0.439 | CB32: =AD32 -> 0.565 | CC32: =AZ32 -> 5738.1981 | CR32: Minnesota | CS32: MN | CW32: Michigan | CX32: Michigan | CY32: WECC Northwest | CZ32: WECC Northwest
C33: Heating Oil | G33: =E126 -> 0 | I33: =I126 -> 0 | K33: =K126 -> 0 | M33: =M126 -> 0 | O33: =O126 -> 0 | Q33: =Q126 -> 0 | S33: =S126 -> 0 | V33: 24 | W33: MN | X33: 20346.1 | Y33: 2.6247092e+08 | Z33: 57260119 | AA33: 14205.842 | AB33: 5342.329 | AC33: 21402253 | AD33: 0.496 | AE33: 0.187 | AF33: 747.545 | AG33: 0.108 | AH33: 0.106 | AI33: 0.041 | AJ33: 163.083 | AK33: 0.881 | AL33: 0.282 | AM33: 1570.972 | AN33: 0.094 | AO33: 0.03 | AP33: 168.424 | AQ33: 12793785 | AR33: 54263.7 | AS33: 13823606 | AT33: 254926.78 | AU33: 0.223 | AV33: 0.001 | AW33: 0.241 | AX33: 0.004 | AY33: 0.49 | AZ33: =Y33/Z33*1000 -> 4583.8347 | BA33: =Y33/(SUM(AQ33:AT33))*1000 -> 9747.6509 | BY33: =W33 -> MN | BZ33: =AF33 -> 747.545 | CA33: =AE33 -> 0.187 | CB33: =AD33 -> 0.496 | CC33: =AZ33 -> 4583.8347 | CR33: Missouri | CS33: MO | CW33: Minnesota | CX33: Minnesota | CY33: WECC Rockies | CZ33: WECC Rockies
C34: Total Energy Consumption | G34: =SUM(G30:G33) -> 125.48416 | I34: =SUM(I30:I33) -> 95.422994 | K34: =SUM(K30:K33) -> 0 | M34: =SUM(M30:M33) -> 0 | O34: =SUM(O30:O33) -> 0 | Q34: =SUM(Q30:Q33) -> 0 | S34: =SUM(S30:S33) -> 0 | V34: 25 | W34: MO | X34: 23133.9 | Y34: 4.9754814e+08 | Z34: 66705179 | AA34: 35312.682 | AB34: 72692.689 | AC34: 48165699 | AD34: 1.059 | AE34: 2.18 | AF34: 1444.137 | AG34: 0.142 | AH34: 0.092 | AI34: 0.292 | AJ34: 193.612 | AK34: 1.418 | AL34: 2.919 | AM34: 1934.34 | AN34: 0.142 | AO34: 0.292 | AP34: 193.818 | AQ34: 40348168 | AR34: 131722.5 | AS34: 9260975.4 | AT34: 0 | AU34: 0.605 | AV34: 0.002 | AW34: 0.139 | AX34: 0 | AY34: 0.747 | AZ34: =Y34/Z34*1000 -> 7458.9132 | BA34: =Y34/(SUM(AQ34:AT34))*1000 -> 10002.804 | BY34: =W34 -> MO | BZ34: =AF34 -> 1444.137 | CA34: =AE34 -> 2.18 | CB34: =AD34 -> 1.059 | CC34: =AZ34 -> 7458.9132 | CR34: Mississippi | CS34: MS | CW34: Missouri | CX34: Missouri | CY34: WECC Southwest | CZ34: WECC Southwest
C35: CO2 Emissions | E35: lb/year | V35: 26 | W35: MS | X35: 17031.6 | Y35: 4.7412241e+08 | Z35: 72933440 | AA35: 13338.087 | AB35: 4498.003 | AC35: 30133709 | AD35: 0.366 | AE35: 0.123 | AF35: 826.335 | AG35: 0.056 | AH35: 0.061 | AI35: 0.019 | AJ35: 127.114 | AK35: 0.431 | AL35: 0.095 | AM35: 1020.055 | AN35: 0.055 | AO35: 0.012 | AP35: 129.171 | AQ35: 4036974.4 | AR35: 7060.381 | AS35: 55167572 | AT35: 0 | AU35: 0.055 | AV35: 0 | AW35: 0.756 | AX35: 0 | AY35: 0.83 | AZ35: =Y35/Z35*1000 -> 6500.7547 | BA35: =Y35/(SUM(AQ35:AT35))*1000 -> 8007.2545 | BY35: =W36 -> MT | BZ35: =AF36 -> 1056.167 | CA35: =AE36 -> 0.809 | CB35: =AD36 -> 0.873 | CC35: =AZ36 -> 5192.3895 | CR35: Montana | CS35: MT | CW35: Mississippi | CX35: Mississippi
C36: Electricity | G36: =E115 -> 18394.513 | I36: =I115 -> 0 | K36: =K115 -> 0 | M36: =M115 -> 0 | O36: =O115 -> 0 | Q36: =Q115 -> 0 | S36: =S115 -> 0 | V36: 27 | W36: MT | X36: 6890.3 | Y36: 1.3965325e+08 | Z36: 26895758 | AA36: 11734.543 | AB36: 10875.186 | AC36: 14203204 | AD36: 0.873 | AE36: 0.809 | AF36: 1056.167 | AG36: 0.168 | AH36: 0.161 | AI36: 0.156 | AJ36: 203.407 | AK36: 1.795 | AL36: 1.666 | AM36: 2175.868 | AN36: 0.168 | AO36: 0.156 | AP36: 203.721 | AQ36: 11553039 | AR36: 490846.63 | AS36: 1001699.9 | AT36: 9622.534 | AU36: 0.43 | AV36: 0.018 | AW36: 0.037 | AX36: 0 | AY36: 0.486 | AZ36: =Y36/Z36*1000 -> 5192.3895 | BA36: =Y36/(SUM(AQ36:AT36))*1000 -> 10697.13 | BY36: =W37 -> NC | BZ36: =AF37 -> 623.958 | CA36: =AE37 -> 0.166 | CB36: =AD37 -> 0.386 | CC36: =AZ37 -> 4530.1237 | CR36: North Carolina | CS36: NC | CW36: Montana | CX36: Montana
C37: Natural Gas | G37: =E119 -> 0 | I37: =I119 -> 11226.235 | K37: =K119 -> 0 | M37: =M119 -> 0 | O37: =O119 -> 0 | Q37: =Q119 -> 0 | S37: =S119 -> 0 | V37: 28 | W37: NC | X37: 39154.9 | Y37: 5.7310902e+08 | Z37: 1.2651068e+08 | AA37: 24398.718 | AB37: 10478.67 | AC37: 39468698 | AD37: 0.386 | AE37: 0.166 | AF37: 623.958 | AG37: 0.085 | AH37: 0.089 | AI37: 0.037 | AJ37: 137.735 | AK37: 0.713 | AL37: 0.267 | AM37: 1194.496 | AN37: 0.084 | AO37: 0.032 | AP37: 141.303 | AQ37: 14204599 | AR37: 84102.298 | AS37: 51784572 | AT37: 0 | AU37: 0.112 | AV37: 0.001 | AW37: 0.409 | AX37: 0 | AY37: 0.536 | AZ37: =Y37/Z37*1000 -> 4530.1237 | BA37: =Y37/(SUM(AQ37:AT37))*1000 -> 8673.8404 | BY37: =W38 -> ND | BZ37: =AF38 -> 1288.364 | CA37: =AE38 -> 1.603 | CB37: =AD38 -> 1.326 | CC37: =AZ38 -> 6105.2491 | CR37: North Dakota | CS37: ND | CW37: North Carolina | CX37: North Carolina
C38: Propane | G38: =E123 -> 0 | I38: =I123 -> 0 | K38: =K123 -> 0 | M38: =M123 -> 0 | O38: =O123 -> 0 | Q38: =Q123 -> 0 | S38: =S123 -> 0 | V38: 29 | W38: ND | X38: 9875.2 | Y38: 2.5684055e+08 | Z38: 42068807 | AA38: 27883.391 | AB38: 33709.341 | AC38: 27099970 | AD38: 1.326 | AE38: 1.603 | AF38: 1288.364 | AG38: 0.217 | AH38: 0.216 | AI38: 0.262 | AJ38: 211.026 | AK38: 2.194 | AL38: 2.654 | AM38: 2132.674 | AN38: 0.217 | AO38: 0.263 | AP38: 211.093 | AQ38: 22525076 | AR38: 53110.228 | AS38: 2833420.6 | AT38: 23420.764 | AU38: 0.535 | AV38: 0.001 | AW38: 0.067 | AX38: 0.001 | AY38: 0.605 | AZ38: =Y38/Z38*1000 -> 6105.2491 | BA38: =Y38/(SUM(AQ38:AT38))*1000 -> 10097.907 | BY38: =W39 -> NE | BZ38: =AF39 -> 1018.154 | CA38: =AE39 -> 2.119 | CB38: =AD39 -> 0.955 | CC38: =AZ39 -> 5065.0984 | CR38: Nebraska | CS38: NE | CW38: North Dakota | CX38: North Dakota
C39: Heating Oil | G39: =E127 -> 0 | I39: =I127 -> 0 | K39: =K127 -> 0 | M39: =M127 -> 0 | O39: =O127 -> 0 | Q39: =Q127 -> 0 | S39: =S127 -> 0 | V39: 30 | W39: NE | X39: 11356.2 | Y39: 1.9979764e+08 | Z39: 39445955 | AA39: 18829.621 | AB39: 41789.504 | AC39: 20081034 | AD39: 0.955 | AE39: 2.119 | AF39: 1018.154 | AG39: 0.188 | AH39: 0.192 | AI39: 0.418 | AJ39: 201.014 | AK39: 1.906 | AL39: 4.31 | AM39: 2071.345 | AN39: 0.186 | AO39: 0.42 | AP39: 201.778 | AQ39: 17916482 | AR39: 35117.441 | AS39: 1410845.7 | AT39: 0 | AU39: 0.454 | AV39: 0.001 | AW39: 0.036 | AX39: 0 | AY39: 0.493 | AZ39: =Y39/Z39*1000 -> 5065.0984 | BA39: =Y39/(SUM(AQ39:AT39))*1000 -> 10318.823 | BY39: =W40 -> NH | BZ39: =AF40 -> 272.854 | CA39: =AE40 -> 0.053 | CB39: =AD40 -> 0.134 | CC39: =AZ40 -> 2777.6828 | CR39: New Hampshire | CS39: NH | CW39: Nebraska | CX39: Nebraska
C40: Total CO2 Emissions | G40: =E130 -> 18394.513 | I40: =I130 -> 11226.235 | K40: =K130 -> 0 | M40: =M130 -> 0 | O40: =O130 -> 0 | Q40: =Q130 -> 0 | S40: =S130 -> 0 | V40: 31 | W40: NH | X40: 4732.4 | Y40: 46734510 | Z40: 16824999 | AA40: 1127.468 | AB40: 449.094 | AC40: 2295383.7 | AD40: 0.134 | AE40: 0.053 | AF40: 272.854 | AG40: 0.048 | AH40: 0.035 | AI40: 0.019 | AJ40: 98.231 | AK40: 0.253 | AL40: 0.103 | AM40: 929.248 | AN40: 0.034 | AO40: 0.014 | AP40: 124.005 | AQ40: 160140.27 | AR40: 67959.205 | AS40: 4225547.9 | AT40: 51090.385 | AU40: 0.01 | AV40: 0.004 | AW40: 0.251 | AX40: 0.003 | AY40: 0.314 | AZ40: =Y40/Z40*1000 -> 2777.6828 | BA40: =Y40/(SUM(AQ40:AT40))*1000 -> 10374.524 | BY40: =W41 -> NJ | BZ40: =AF41 -> 468.31 | CA40: =AE41 -> 0.059 | CB40: =AD41 -> 0.163 | CC40: =AZ41 -> 4020.1318 | CR40: New Jersey | CS40: NJ | CW40: New Hampshire | CX40: New Hampshire
C41: SO2 Emissions | E41: lb/year | V41: 32 | W41: NJ | X41: 18289.3 | Y41: 2.5807255e+08 | Z41: 64195046 | AA41: 5217.202 | AB41: 1890.376 | AC41: 15031581 | AD41: 0.163 | AE41: 0.059 | AF41: 468.31 | AG41: 0.04 | AH41: 0.038 | AI41: 0.015 | AJ41: 116.491 | AK41: 0.194 | AL41: 0.006 | AM41: 837.909 | AN41: 0.027 | AO41: 0.001 | AP41: 117.965 | AQ41: 0 | AR41: 42265.62 | AS41: 33045872 | AT41: 705532.54 | AU41: 0 | AV41: 0.001 | AW41: 0.515 | AX41: 0.011 | AY41: 0.537 | AZ41: =Y41/Z41*1000 -> 4020.1318 | BA41: =Y41/(SUM(AQ41:AT41))*1000 -> 7636.7125 | BY41: =W42 -> NM | BZ41: =AF42 -> 770.214 | CA41: =AE42 -> 0.105 | CB41: =AD42 -> 0.394 | CC41: =AZ42 -> 5059.9407 | CR41: New Mexico | CS41: NM | CW41: New Jersey | CX41: New Jersey
C42: Electricity | G42: =E116 -> 8.2106789 | I42: =I116 -> 0 | K42: =K116 -> 0 | M42: =M116 -> 0 | O42: =O116 -> 0 | Q42: =Q116 -> 0 | S42: =S116 -> 0 | V42: 33 | W42: NM | X42: 11346 | Y42: 1.986475e+08 | Z42: 39258859 | AA42: 7727.373 | AB42: 2068.81 | AC42: 15118859 | AD42: 0.394 | AE42: 0.105 | AF42: 770.214 | AG42: 0.078 | AH42: 0.075 | AI42: 0.021 | AJ42: 152.218 | AK42: 0.675 | AL42: 0.192 | AM42: 1399.692 | AN42: 0.073 | AO42: 0.021 | AP42: 152.339 | AQ42: 7371813.3 | AR42: 1411.085 | AS42: 14230765 | AT42: 0 | AU42: 0.188 | AV42: 0 | AW42: 0.362 | AX42: 0 | AY42: 0.551 | AZ42: =Y42/Z42*1000 -> 5059.9407 | BA42: =Y42/(SUM(AQ42:AT42))*1000 -> 9194.9452 | BY42: =W43 -> NV | BZ42: =AF43 -> 642.37 | CA42: =AE43 -> 0.137 | CB42: =AD43 -> 0.479 | CC42: =AZ43 -> 4975.5868 | CR42: Nevada | CS42: NV | CW42: New Mexico | CX42: New Mexico
C43: Natural Gas | G43: =E120 -> 0 | I43: =I120 -> 0.056131173 | K43: =K120 -> 0 | M43: =M120 -> 0 | O43: =O120 -> 0 | Q43: =Q120 -> 0 | S43: =S120 -> 0 | V43: 34 | W43: NV | X43: 16023.5 | Y43: 2.0978246e+08 | Z43: 42162355 | AA43: 10091.103 | AB43: 2890.027 | AC43: 13541909 | AD43: 0.479 | AE43: 0.137 | AF43: 642.37 | AG43: 0.096 | AH43: 0.11 | AI43: 0.028 | AJ43: 129.104 | AK43: 0.754 | AL43: 0.215 | AM43: 1009.955 | AN43: 0.097 | AO43: 0.028 | AP43: 129.279 | AQ43: 2059635.6 | AR43: 7892.432 | AS43: 24599326 | AT43: 0 | AU43: 0.049 | AV43: 0 | AW43: 0.583 | AX43: 0 | AY43: 0.634 | AZ43: =Y43/Z43*1000 -> 4975.5868 | BA43: =Y43/(SUM(AQ43:AT43))*1000 -> 7866.7869 | BY43: =W44 -> NY | BZ43: =AF44 -> 465.136 | CA43: =AE44 -> 0.051 | CB43: =AD44 -> 0.183 | CC43: =AZ44 -> 4042.2496 | CR43: New York | CS43: NY | CW43: Nevada | CX43: Nevada
C44: Propane | G44: =E124 -> 0 | I44: =I124 -> 0 | K44: =K124 -> 0 | M44: =M124 -> 0 | O44: =O124 -> 0 | Q44: =Q124 -> 0 | S44: =S124 -> 0 | V44: 35 | W44: NY | X44: 43557.9 | Y44: 4.9911159e+08 | Z44: 1.2347372e+08 | AA44: 11326.044 | AB44: 3166.167 | AC44: 28716017 | AD44: 0.183 | AE44: 0.051 | AF44: 465.136 | AG44: 0.045 | AH44: 0.044 | AI44: 0.013 | AJ44: 115.069 | AK44: 0.272 | AL44: 0.026 | AM44: 933.792 | AN44: 0.034 | AO44: 0.003 | AP44: 117.777 | AQ44: 0 | AR44: 412022.02 | AS44: 57947315 | AT44: 963374.62 | AU44: 0 | AV44: 0.003 | AW44: 0.469 | AX44: 0.008 | AY44: 0.494 | AZ44: =Y44/Z44*1000 -> 4042.2496 | BA44: =Y44/(SUM(AQ44:AT44))*1000 -> 8413.4993 | BY44: =W45 -> OH | BZ44: =AF45 -> 1063.843 | CA44: =AE45 -> 0.61 | CB44: =AD45 -> 0.344 | CC44: =AZ45 -> 7054.5368 | CR44: Ohio | CS44: OH | CW44: New York | CX44: New York
C45: Heating Oil | G45: =E128 -> 0 | I45: =I128 -> 0 | K45: =K128 -> 0 | M45: =M128 -> 0 | O45: =O128 -> 0 | Q45: =Q128 -> 0 | S45: =S128 -> 0 | V45: 36 | W45: OH | X45: 33503.5 | Y45: 9.3910764e+08 | Z45: 1.3312109e+08 | AA45: 22890.447 | AB45: 40604.292 | AC45: 70809977 | AD45: 0.344 | AE45: 0.61 | AF45: 1063.843 | AG45: 0.049 | AH45: 0.036 | AI45: 0.086 | AJ45: 150.803 | AK45: 0.403 | AL45: 0.725 | AM45: 1261.228 | AN45: 0.048 | AO45: 0.087 | AP45: 150.741 | AQ45: 31363276 | AR45: 1049331.6 | AS45: 78692837 | AT45: 795657.93 | AU45: 0.236 | AV45: 0.008 | AW45: 0.591 | AX45: 0.006 | AY45: 0.843 | AZ45: =Y45/Z45*1000 -> 7054.5368 | BA45: =Y45/(SUM(AQ45:AT45))*1000 -> 8392.3001 | BY45: =W46 -> OK | BZ45: =AF46 -> 647.207 | CA45: =AE46 -> 0.221 | CB45: =AD46 -> 0.469 | CC45: =AZ46 -> 5014.7713 | CR45: Oklahoma | CS45: OK | CW45: Ohio | CX45: Ohio
C46: Total SO2 Emissions | G46: =E131 -> 8.2106789 | I46: =I131 -> 0.056131173 | K46: =K131 -> 0 | M46: =M131 -> 0 | O46: =O131 -> 0 | Q46: =Q131 -> 0 | S46: =S131 -> 0 | V46: 37 | W46: OK | X46: 33980.4 | Y46: 4.4570342e+08 | Z46: 88878116 | AA46: 20863.357 | AB46: 9813.302 | AC46: 28761253 | AD46: 0.469 | AE46: 0.221 | AF46: 647.207 | AG46: 0.094 | AH46: 0.102 | AI46: 0.044 | AJ46: 129.06 | AK46: 0.829 | AL46: 0.378 | AM46: 1150.225 | AN46: 0.093 | AO46: 0.043 | AP46: 129.673 | AQ46: 5061859.1 | AR46: 19727.441 | AS46: 44991795 | AT46: 18472.084 | AU46: 0.057 | AV46: 0 | AW46: 0.506 | AX46: 0 | AY46: 0.567 | AZ46: =Y46/Z46*1000 -> 5014.7713 | BA46: =Y46/(SUM(AQ46:AT46))*1000 -> 8897.7227 | BY46: =W47 -> OR | BZ46: =AF47 -> 364.162 | CA46: =AE47 -> 0.02 | CB46: =AD47 -> 0.639 | CC46: =AZ47 -> 3221.8684 | CR46: Oregon | CS46: OR | CW46: Oklahoma | CX46: Oklahoma
C47: NOX Emissions | E47: lb/year | V47: 38 | W47: OR | X47: 18220.9 | Y47: 1.9873547e+08 | Z47: 61683300 | AA47: 19715.185 | AB47: 622.799 | AC47: 11231359 | AD47: 0.639 | AE47: 0.02 | AF47: 364.162 | AG47: 0.198 | AH47: 0.198 | AI47: 0.006 | AJ47: 113.028 | AK47: 1.594 | AL47: 0.006 | AM47: 956.364 | AN47: 0.197 | AO47: 0.001 | AP47: 118.405 | AQ47: 0 | AR47: 195.02 | AS47: 23384820 | AT47: 26841.729 | AU47: 0 | AV47: 0 | AW47: 0.379 | AX47: 0 | AY47: 0.395 | AZ47: =Y47/Z47*1000 -> 3221.8684 | BA47: =Y47/(SUM(AQ47:AT47))*1000 -> 8488.6679 | BY47: =W48 -> PA | BZ47: =AF48 -> 645.773 | CA47: =AE48 -> 0.229 | CB47: =AD48 -> 0.205 | CC47: =AZ48 -> 5078.8733 | CR47: Pennsylvania | CS47: PA | CW47: Oregon | CX47: Oregon
C48: Electricity | G48: =E117 -> 10.28145 | I48: =I117 -> 0 | K48: =K117 -> 0 | M48: =M117 -> 0 | O48: =O117 -> 0 | Q48: =Q117 -> 0 | S48: =S117 -> 0 | V48: 39 | W48: PA | X48: 53762 | Y48: 1.19817e+09 | Z48: 2.3591255e+08 | AA48: 24158.066 | AB48: 26965.077 | AC48: 76172924 | AD48: 0.205 | AE48: 0.229 | AF48: 645.773 | AG48: 0.04 | AH48: 0.038 | AI48: 0.045 | AJ48: 127.149 | AK48: 0.271 | AL48: 0.315 | AM48: 979.626 | AN48: 0.036 | AO48: 0.041 | AP48: 128.725 | AQ48: 12834828 | AR48: 48121.495 | AS48: 1.3925216e+08 | AT48: 1472335.6 | AU48: 0.054 | AV48: 0 | AW48: 0.59 | AX48: 0.006 | AY48: 0.658 | AZ48: =Y48/Z48*1000 -> 5078.8733 | BA48: =Y48/(SUM(AQ48:AT48))*1000 -> 7800.2077 | BY48: =W49 -> RI | BZ48: =AF49 -> 839.136 | CA48: =AE49 -> 0.013 | CB48: =AD49 -> 0.372 | CC48: =AZ49 -> 7285.8975 | CR48: Rhode Island | CS48: RI | CW48: Pennsylvania | CX48: Pennsylvania
C49: Natural Gas | G49: =E121 -> 0 | I49: =I121 -> 11.777152 | K49: =K121 -> 0 | M49: =M121 -> 0 | O49: =O121 -> 0 | Q49: =Q121 -> 0 | S49: =S121 -> 0 | V49: 40 | W49: RI | X49: 2472.6 | Y49: 75893937 | Z49: 10416553 | AA49: 1939.322 | AB49: 65.276 | AC49: 4370451.4 | AD49: 0.372 | AE49: 0.013 | AF49: 839.136 | AG49: 0.051 | AH49: 0.052 | AI49: 0.002 | AJ49: 115.173 | AK49: 0.405 | AL49: 0.005 | AM49: 912.802 | AN49: 0.053 | AO49: 0.001 | AP49: 118.916 | AQ49: 0 | AR49: 30248.519 | AS49: 9545650.7 | AT49: 0 | AU49: 0 | AV49: 0.003 | AW49: 0.916 | AX49: 0 | AY49: 0.942 | AZ49: =Y49/Z49*1000 -> 7285.8975 | BA49: =Y49/(SUM(AQ49:AT49))*1000 -> 7925.5154 | BY49: =W50 -> SC | BZ49: =AF50 -> 557.173 | CA49: =AE50 -> 0.171 | CB49: =AD50 -> 0.238 | CC49: =AZ50 -> 3647.4376 | CR49: South Carolina | CS49: SC | CW49: Rhode Island | CX49: Rhode Island
C50: Propane | G50: =E125 -> 0 | I50: =I125 -> 0 | K50: =K125 -> 0 | M50: =M125 -> 0 | O50: =O125 -> 0 | Q50: =Q125 -> 0 | S50: =S125 -> 0 | V50: 41 | W50: SC | X50: 26563.6 | Y50: 3.6785644e+08 | Z50: 1.0085339e+08 | AA50: 12004.016 | AB50: 8624.608 | AC50: 28096404 | AD50: 0.238 | AE50: 0.171 | AF50: 557.173 | AG50: 0.065 | AH50: 0.067 | AI50: 0.047 | AJ50: 152.757 | AK50: 0.563 | AL50: 0.384 | AM50: 1444.126 | AN50: 0.062 | AO50: 0.042 | AP50: 158.667 | AQ50: 15150421 | AR50: 96064.084 | AS50: 23691444 | AT50: 44685.38 | AU50: 0.15 | AV50: 0.001 | AW50: 0.235 | AX50: 0 | AY50: 0.404 | AZ50: =Y50/Z50*1000 -> 3647.4376 | BA50: =Y50/(SUM(AQ50:AT50))*1000 -> 9436.4231 | BY50: =W51 -> SD | BZ50: =AF51 -> 334.032 | CA50: =AE51 -> 0.076 | CB50: =AD51 -> 0.25 | CC50: =AZ51 -> 2086.6437 | CR50: South Dakota | CS50: SD | CW50: South Carolina | CX50: South Carolina
C51: Heating Oil | G51: =E129 -> 0 | I51: =I129 -> 0 | K51: =K129 -> 0 | M51: =M129 -> 0 | O51: =O129 -> 0 | Q51: =Q129 -> 0 | S51: =S129 -> 0 | V51: 42 | W51: SD | X51: 7235.5 | Y51: 36320111 | Z51: 17405996 | AA51: 2173.568 | AB51: 660.095 | AC51: 2907080.5 | AD51: 0.25 | AE51: 0.076 | AF51: 334.032 | AG51: 0.12 | AH51: 0.119 | AI51: 0.036 | AJ51: 160.081 | AK51: 1.169 | AL51: 0.355 | AM51: 1563.701 | AN51: 0.12 | AO51: 0.036 | AP51: 160.081 | AQ51: 1562742.1 | AR51: 23041.409 | AS51: 2115780.3 | AT51: 0 | AU51: 0.09 | AV51: 0.001 | AW51: 0.122 | AX51: 0 | AY51: 0.214 | AZ51: =Y51/Z51*1000 -> 2086.6437 | BA51: =Y51/(SUM(AQ51:AT51))*1000 -> 9812.0991 | BY51: =W52 -> TN | BZ51: =AF52 -> 657.267 | CA51: =AE52 -> 0.213 | CB51: =AD52 -> 0.237 | CC51: =AZ52 -> 3902.3024 | CR51: Tennessee | CS51: TN | CW51: South Dakota | CX51: South Dakota
C52: Total NOX Emissions | G52: =E132 -> 10.28145 | I52: =I132 -> 11.777152 | K52: =K132 -> 0 | M52: =M132 -> 0 | O52: =O132 -> 0 | Q52: =Q132 -> 0 | S52: =S132 -> 0 | V52: 43 | W52: TN | X52: 24375.1 | Y52: 3.0341965e+08 | Z52: 77754007 | AA52: 9225.548 | AB52: 8285.442 | AC52: 25552567 | AD52: 0.237 | AE52: 0.213 | AF52: 657.267 | AG52: 0.061 | AH52: 0.058 | AI52: 0.055 | AJ52: 168.431 | AK52: 0.555 | AL52: 0.524 | AM52: 1704.73 | AN52: 0.056 | AO52: 0.053 | AP52: 172.935 | AQ52: 15792909 | AR52: 101670.95 | AS52: 14993150 | AT52: 10846.629 | AU52: 0.203 | AV52: 0.001 | AW52: 0.193 | AX52: 0 | AY52: 0.403 | AZ52: =Y52/Z52*1000 -> 3902.3024 | BA52: =Y52/(SUM(AQ52:AT52))*1000 -> 9819.8587 | BY52: =W53 -> TX | BZ52: =AF53 -> 768.317 | CA52: =AE53 -> 0.389 | CB52: =AD53 -> 0.476 | CC52: =AZ53 -> 5376.1737 | CR52: Texas | CS52: TX | CW52: Tennessee | CX52: Tennessee
C53: Emissions Savings (relative to Reference Case) | V53: 44 | W53: TX | X53: 166741.2 | Y53: 2.9248462e+09 | Z53: 5.4403865e+08 | AA53: 129439.52 | AB53: 105797.41 | AC53: 2.0899706e+08 | AD53: 0.476 | AE53: 0.389 | AF53: 768.317 | AG53: 0.089 | AH53: 0.088 | AI53: 0.072 | AJ53: 142.911 | AK53: 0.73 | AL53: 0.599 | AM53: 1186.826 | AN53: 0.088 | AO53: 0.073 | AP53: 143.634 | AQ53: 70692782 | AR53: 232193.34 | AS53: 2.8102774e+08 | AT53: 2329379.2 | AU53: 0.13 | AV53: 0 | AW53: 0.517 | AX53: 0.004 | AY53: 0.654 | AZ53: =Y53/Z53*1000 -> 5376.1737 | BA53: =Y53/(SUM(AQ53:AT53))*1000 -> 8255.6987 | BY53: =W54 -> UT | BZ53: =AF54 -> 1413.019 | CA53: =AE54 -> 0.275 | CB53: =AD54 -> 1.282 | CC53: =AZ54 -> 8106.1424 | CR53: Utah | CS53: UT | CW53: Texas | CX53: Texas
C54: CO2 | E54: lb/year | G54: N/A | I54: =I133 -> 7168.2781 | K54: =K133 -> 0 | M54: =M133 -> 0 | O54: =O133 -> 0 | Q54: =Q133 -> 0 | S54: =S133 -> 0 | V54: 45 | W54: UT | X54: 10132.4 | Y54: 2.6579587e+08 | Z54: 32789440 | AA54: 21019.628 | AB54: 4515.844 | AC54: 23166056 | AD54: 1.282 | AE54: 0.275 | AF54: 1413.019 | AG54: 0.158 | AH54: 0.149 | AI54: 0.034 | AJ54: 174.315 | AK54: 1.57 | AL54: 0.336 | AM54: 1730.799 | AN54: 0.159 | AO54: 0.034 | AP54: 175.023 | AQ54: 14894152 | AR54: 28250.181 | AS54: 11834247 | AT54: 2746.502 | AU54: 0.454 | AV54: 0.001 | AW54: 0.361 | AX54: 0 | AY54: 0.819 | AZ54: =Y54/Z54*1000 -> 8106.1424 | BA54: =Y54/(SUM(AQ54:AT54))*1000 -> 9932.8057 | BY54: =W55 -> VA | BZ54: =AF55 -> 536.851 | CA54: =AE55 -> 0.071 | CB54: =AD55 -> 0.175 | CC54: =AZ55 -> 4795.8483 | CR54: Virginia | CS54: VA | CW54: Utah | CX54: Utah
I55: =I54/$G40 -> 0.38969655 | K55: =K54/$G40 -> 0 | M55: =M54/$G40 -> 0 | O55: =O54/$G40 -> 0 | Q55: =Q54/$G40 -> 0 | S55: =S54/$G40 -> 0 | V55: 46 | W55: VA | X55: 31740.2 | Y55: 4.3653779e+08 | Z55: 91024103 | AA55: 7981.91 | AB55: 3211.614 | AC55: 24433204 | AD55: 0.175 | AE55: 0.071 | AF55: 536.851 | AG55: 0.037 | AH55: 0.039 | AI55: 0.015 | AJ55: 111.941 | AK55: 0.214 | AL55: 0.044 | AM55: 897.954 | AN55: 0.029 | AO55: 0.006 | AP55: 120.294 | AQ55: 1415026.9 | AR55: 134545.48 | AS55: 50604694 | AT55: 478300.5 | AU55: 0.016 | AV55: 0.001 | AW55: 0.556 | AX55: 0.005 | AY55: 0.615 | AZ55: =Y55/Z55*1000 -> 4795.8483 | BA55: =Y55/(SUM(AQ55:AT55))*1000 -> 8294.0624 | BY55: =W56 -> VT | BZ55: =AF56 -> 42.981 | CA55: =AE56 -> 0.039 | CB55: =AD56 -> 0.168 | CC55: =AZ56 -> 2529.4296 | CR55: Vermont | CS55: VT | CW55: Virginia | CX55: Virginia
C56: SO2 | G56: N/A | I56: =I134 -> 8.1545477 | K56: =K134 -> 0 | M56: =M134 -> 0 | O56: =O134 -> 0 | Q56: =Q134 -> 0 | S56: =S134 -> 0 | V56: 47 | W56: VT | X56: 906.1 | Y56: 6273488.1 | Z56: 2480198.7 | AA56: 208.497 | AB56: 48.197 | AC56: 53300.219 | AD56: 0.168 | AE56: 0.039 | AF56: 42.981 | AG56: 0.066 | AH56: 0.065 | AI56: 0.015 | AJ56: 16.992 | AK56: 8.454 | AL56: 4.948 | AM56: 3308.132 | AN56: 0.416 | AO56: 0.243 | AP56: 162.59 | AQ56: 0 | AR56: 2610.639 | AS56: 1263.702 | AT56: 0 | AU56: 0 | AV56: 0.001 | AW56: 0.001 | AX56: 0 | AY56: 0.164 | AZ56: =Y56/Z56*1000 -> 2529.4296 | BA56: =Y56/(SUM(AQ56:AT56))*1000 -> 1619240 | BY56: =W57 -> WA | BZ56: =AF57 -> 265.119 | CA56: =AE57 -> 0.044 | CB56: =AD57 -> 0.181 | CC56: =AZ57 -> 1995.3436 | CR56: Washington | CS56: WA | CW56: Vermont | CX56: Vermont
I57: =I56/$G46 -> 0.99316364 | K57: =K56/$G46 -> 0 | M57: =M56/$G46 -> 0 | O57: =O56/$G46 -> 0 | Q57: =Q56/$G46 -> 0 | S57: =S56/$G46 -> 0 | V57: 48 | W57: WA | X57: 31522.3 | Y57: 2.0542691e+08 | Z57: 1.0295315e+08 | AA57: 9337.514 | AB57: 2247.686 | AC57: 13647439 | AD57: 0.181 | AE57: 0.044 | AF57: 265.119 | AG57: 0.091 | AH57: 0.09 | AI57: 0.022 | AJ57: 132.869 | AK57: 0.665 | AL57: 0.106 | AM57: 1134.455 | AN57: 0.083 | AO57: 0.013 | AP57: 141.349 | AQ57: 4162607.3 | AR57: 23717.441 | AS57: 19407851 | AT57: 306925.04 | AU57: 0.04 | AV57: 0 | AW57: 0.189 | AX57: 0.003 | AY57: 0.244 | AZ57: =Y57/Z57*1000 -> 1995.3436 | BA57: =Y57/(SUM(AQ57:AT57))*1000 -> 8594.8726 | BY57: =W58 -> WI | BZ57: =AF58 -> 1156.996 | CA57: =AE58 -> 0.144 | CB57: =AD58 -> 0.508 | CC57: =AZ58 -> 7228.3968 | CR57: Wisconsin | CS57: WI | CW57: Washington | CX57: Washington
C58: NOX | G58: N/A | I58: =I135 -> -1.495702 | K58: =K135 -> 0 | M58: =M135 -> 0 | O58: =O135 -> 0 | Q58: =Q135 -> 0 | S58: =S135 -> 0 | V58: 49 | W58: WI | X58: 19253.9 | Y58: 4.52056e+08 | Z58: 62538903 | AA58: 15900.211 | AB58: 4517.793 | AC58: 36178632 | AD58: 0.508 | AE58: 0.144 | AF58: 1156.996 | AG58: 0.07 | AH58: 0.072 | AI58: 0.02 | AJ58: 160.063 | AK58: 0.626 | AL58: 0.159 | AM58: 1539.845 | AN58: 0.067 | AO58: 0.017 | AP58: 163.751 | AQ58: 21086690 | AR58: 91090.97 | AS58: 25621194 | AT58: 95460.042 | AU58: 0.337 | AV58: 0.001 | AW58: 0.41 | AX58: 0.002 | AY58: 0.766 | AZ58: =Y58/Z58*1000 -> 7228.3968 | BA58: =Y58/(SUM(AQ58:AT58))*1000 -> 9639.8645 | BY58: =W59 -> WV | BZ58: =AF59 -> 1954.383 | CA58: =AE59 -> 1.498 | CB58: =AD59 -> 1.062 | CC58: =AZ59 -> 9840.3971 | CR58: West Virginia | CS58: WV | CW58: Wisconsin | CX58: Wisconsin
I59: =I58/$G52 -> -0.14547579 | K59: =K58/$G52 -> 0 | M59: =M58/$G52 -> 0 | O59: =O58/$G52 -> 0 | Q59: =Q58/$G52 -> 0 | S59: =S58/$G52 -> 0 | V59: 50 | W59: WV | X59: 15699.4 | Y59: 5.1452272e+08 | Z59: 52286784 | AA59: 27758.075 | AB59: 39162.372 | AC59: 51094199 | AD59: 1.062 | AE59: 1.498 | AF59: 1954.383 | AG59: 0.108 | AH59: 0.094 | AI59: 0.152 | AJ59: 198.608 | AK59: 1.141 | AL59: 1.609 | AM59: 2099.531 | AN59: 0.108 | AO59: 0.152 | AP59: 198.624 | AQ59: 44797569 | AR59: 162826.02 | AS59: 3679657.7 | AT59: 31967.937 | AU59: 0.857 | AV59: 0.003 | AW59: 0.07 | AX59: 0.001 | AY59: 0.931 | AZ59: =Y59/Z59*1000 -> 9840.3971 | BA59: =Y59/(SUM(AQ59:AT59))*1000 -> 10571.222 | BY59: =W60 -> WY | BZ59: =AF60 -> 1820.318 | CA59: =AE60 -> 1.113 | CB59: =AD60 -> 1.202 | CC59: =AZ60 -> 8881.9348 | CR59: Wyoming | CS59: WY | CW59: West Virginia | CX59: West Virginia
C60: Equivalent CO2 Emissions | V60: 51 | W60: WY | X60: 11105 | Y60: 3.8348954e+08 | Z60: 43176351 | AA60: 25944.44 | AB60: 24027.186 | AC60: 39297340 | AD60: 1.202 | AE60: 1.113 | AF60: 1820.318 | AG60: 0.135 | AH60: 0.13 | AI60: 0.125 | AJ60: 204.946 | AK60: 1.554 | AL60: 1.441 | AM60: 2354.401 | AN60: 0.135 | AO60: 0.125 | AP60: 204.808 | AQ60: 30844003 | AR60: 43711.743 | AS60: 2129478.2 | AT60: 352365.76 | AU60: 0.714 | AV60: 0.001 | AW60: 0.049 | AX60: 0.008 | AY60: 0.773 | AZ60: =Y60/Z60*1000 -> 8881.9348 | BA60: =Y60/(SUM(AQ60:AT60))*1000 -> 11492.197 | CR60: ASCC Alaska Grid | CS60: ASCC Alaska Grid | CW60: Wyoming | CX60: Wyoming
C61: Cars | G61: N/A | I61: =I137 -> 0.70684992 | K61: =K137 -> 0 | M61: =M137 -> 0 | O61: =O137 -> 0 | Q61: =Q137 -> 0 | S61: =S137 -> 0 | V61: 52 | W61: ASCC Alaska Grid | X61: 2194 | Y61: 34476389 | Z61: 5096872.8 | AA61: 14153.801 | AB61: 789.811 | AC61: 2292658.5 | AD61: 5.554 | AE61: 0.31 | AF61: 899.633 | AG61: 0.821 | AH61: 0.914 | AI61: 0.046 | AJ61: 132.999 | AK61: 6.631 | AL61: 0.367 | AM61: 1074.068 | AN61: 0.831 | AO61: 0.046 | AP61: 134.576 | AQ61: 730681.46 | AR61: 459495.57 | AS61: 3080066.5 | AT61: 0 | AU61: 0.143 | AV61: 0.09 | AW61: 0.604 | AX61: 0 | AY61: 0.845 | AZ61: =Y61/Z61*1000 -> 6764.224 | BA61: =Y61/(SUM(AQ61:AT61))*1000 -> 8073.6354 | BY61: US Average_Fossil | BZ61: =AM9 -> 1270.259 | CA61: =AL9 -> 0.567 | CB61: =AK9 -> 0.71 | CC61: =BA9 -> 8665.4857 | CR61: ASCC Miscellaneous | CS61: ASCC Miscellaneous
C62: Homes | G62: N/A | I62: =I138 -> 0.6776802 | K62: =K138 -> 0 | M62: =M138 -> 0 | O62: =O138 -> 0 | Q62: =Q138 -> 0 | S62: =S138 -> 0 | V62: 53 | W62: ASCC Miscellaneous | X62: 901.5 | Y62: 5457534.8 | Z62: 1582032.4 | AA62: 6438.18 | AB62: 560.168 | AC62: 411710.53 | AD62: 8.139 | AE62: 0.708 | AF62: 520.483 | AG62: 2.359 | AH62: 2.25 | AI62: 0.205 | AJ62: 150.878 | AK62: 25.854 | AL62: 2.255 | AM62: 1656.666 | AN62: 2.353 | AO62: 0.205 | AP62: 150.748 | AQ62: 0 | AR62: 389096.75 | AS62: 102340.63 | AT62: 0 | AU62: 0 | AV62: 0.246 | AW62: 0.065 | AX62: 0 | AY62: 0.311 | AZ62: =Y62/Z62*1000 -> 3449.6985 | BA62: =Y62/(SUM(AQ62:AT62))*1000 -> 11105.25 | BY62: AK_Fossil | BZ62: =AM10 -> 1134.697 | CA62: =AL10 -> 0.563 | CB62: =AK10 -> 8.631 | CC62: =BA10 -> 8386.5183 | CR62: WECC Southwest | CS62: WECC Southwest
C63: $ amount | G63: =SUM(Calc!B132:B135) -> 2194.1483 | I63: =Calc!B131 -> 1415.123 | V63: 54 | W63: WECC Southwest | X63: 54243.2 | Y63: 8.8538535e+08 | Z63: 1.7555466e+08 | AA63: 31618.223 | AB63: 9001.44 | AC63: 61769179 | AD63: 0.36 | AE63: 0.103 | AF63: 703.703 | AG63: 0.071 | AH63: 0.073 | AI63: 0.02 | AJ63: 139.531 | AK63: 0.587 | AL63: 0.169 | AM63: 1173.527 | AN63: 0.07 | AO63: 0.02 | AP63: 140.494 | AQ63: 19440367 | AR63: 34236.082 | AS63: 85450236 | AT63: 0 | AU63: 0.111 | AV63: 0 | AW63: 0.487 | AX63: 0 | AY63: 0.6 | AZ63: =Y63/Z63*1000 -> 5043.36 | BA63: =Y63/(SUM(AQ63:AT63))*1000 -> 8438.2817 | BY63: AL_Fossil | BZ63: =AM11 -> 1232.689 | CA63: =AL11 -> 0.057 | CB63: =AK11 -> 0.331 | CC63: =BA11 -> 8546.6504 | CR63: WECC California | CS63: WECC California
V64: 55 | W64: WECC California | X64: 99264.3 | Y64: 8.1826863e+08 | Z64: 2.2098698e+08 | AA64: 36695.116 | AB64: 2159.791 | AC64: 47342487 | AD64: 0.332 | AE64: 0.02 | AF64: 428.464 | AG64: 0.09 | AH64: 0.092 | AI64: 0.005 | AJ64: 115.714 | AK64: 0.603 | AL64: 0.024 | AM64: 931.576 | AN64: 0.08 | AO64: 0.003 | AP64: 123.822 | AQ64: 4645646.4 | AR64: 84833.379 | AS64: 94784061 | AT64: 1483673.2 | AU64: 0.021 | AV64: 0 | AW64: 0.429 | AX64: 0.007 | AY64: 0.479 | AZ64: =Y64/Z64*1000 -> 3702.7911 | BA64: =Y64/(SUM(AQ64:AT64))*1000 -> 8101.8129 | BY64: AR_Fossil | BZ64: =AM12 -> 1450.016 | CA64: =AL12 -> 1.201 | CB64: =AK12 -> 0.685 | CC64: =BA12 -> 8939.3114 | CR64: ERCOT All | CS64: ERCOT All
C65: Assumptions and Data Sources | V65: 56 | W65: ERCOT All | X65: 145507.7 | Y65: 2.4414583e+09 | Z65: 4.7713739e+08 | AA65: 105681.06 | AB65: 76095.39 | AC65: 1.7507653e+08 | AD65: 0.443 | AE65: 0.319 | AF65: 733.862 | AG65: 0.087 | AH65: 0.086 | AI65: 0.062 | AJ65: 143.42 | AK65: 0.713 | AL65: 0.512 | AM65: 1176.912 | AN65: 0.087 | AO65: 0.063 | AP65: 144.067 | AQ65: 60420147 | AR65: 213046.01 | AS65: 2.3689278e+08 | AT65: 1696010.2 | AU65: 0.127 | AV65: 0 | AW65: 0.496 | AX65: 0.004 | AY65: 0.629 | AZ65: =Y65/Z65*1000 -> 5116.8874 | BA65: =Y65/(SUM(AQ65:AT65))*1000 -> 8159.3545 | BY65: AZ_Fossil | BZ65: =AM13 -> 1182.581 | CA65: =AL13 -> 0.215 | CB65: =AK13 -> 0.503 | CC65: =BA13 -> 8386.1855 | CR65: FRCC All | CS65: FRCC All
V66: 57 | W66: FRCC All | X66: 72773.8 | Y66: 1.5611237e+09 | Z66: 2.5005552e+08 | AA66: 30262.334 | AB66: 15974.794 | AC66: 97804509 | AD66: 0.242 | AE66: 0.128 | AF66: 782.262 | AG66: 0.039 | AH66: 0.038 | AI66: 0.02 | AJ66: 125.3 | AK66: 0.215 | AL66: 0.11 | AM66: 945.999 | AN66: 0.029 | AO66: 0.015 | AP66: 127.009 | AQ66: 11373251 | AR66: 1197480 | AS66: 1.8875274e+08 | AT66: 1459608.8 | AU66: 0.045 | AV66: 0.005 | AW66: 0.755 | AX66: 0.006 | AY66: 0.822 | AZ66: =Y66/Z66*1000 -> 6243.1081 | BA66: =Y66/(SUM(AQ66:AT66))*1000 -> 7698.4908 | BY66: CA_Fossil | BZ66: =AM14 -> 873.41 | CA66: =AL14 -> 0.007 | CB66: =AK14 -> 0.523 | CC66: =BA14 -> 8043.2808 | CR66: HICC Miscellaneous | CS66: HICC Miscellaneous
C67: Description | E67: Value | F67: Units | I67: Source | M67: Link | V67: 58 | W67: HICC Miscellaneous | X67: 1099.2 | Y67: 19260746 | Z67: 2611613 | AA67: 9878.597 | AB67: 5862.033 | AC67: 1466905.4 | AD67: 7.565 | AE67: 4.489 | AF67: 1123.371 | AG67: 1.026 | AH67: 1.015 | AI67: 0.609 | AJ67: 152.321 | AK67: 10.903 | AL67: 6.491 | AM67: 1617.308 | AN67: 1.064 | AO67: 0.633 | AP67: 157.759 | AQ67: 0 | AR67: 1721735.7 | AS67: 0 | AT67: 0 | AU67: 0 | AV67: 0.659 | AW67: 0 | AX67: 0 | AY67: 0.707 | AZ67: =Y67/Z67*1000 -> 7375.0382 | BA67: =Y67/(SUM(AQ67:AT67))*1000 -> 11186.819 | BY67: CO_Fossil | BZ67: =AM15 -> 1732.334 | CA67: =AL15 -> 0.559 | CB67: =AK15 -> 0.86 | CC67: =BA15 -> 10110.044 | CR67: HICC Oahu | CS67: HICC Oahu
C68: Average gross (higher) heating value of natural gas | E68: 1020 | F68: Btu/scf | I68: U.S. Environmental Protection Agency, AP 42, Fifth Edition, Volume I. Chapter 1: External Combustion Sources, Section 4. Natural Gas Combustion, Final Section, Section 1.4.1. | M68: http://www.epa.gov/ttn/chief/ap42/ch01/final/c01s04.pdf | V68: 59 | W68: HICC Oahu | X68: 2352 | Y68: 61965314 | Z68: 6547004.7 | AA68: 12792.988 | AB68: 14009.869 | AC68: 4876037.8 | AD68: 3.908 | AE68: 4.28 | AF68: 1489.548 | AG68: 0.413 | AH68: 0.403 | AI68: 0.452 | AJ68: 157.38 | AK68: 4.389 | AL68: 4.971 | AM68: 1661.123 | AN68: 0.431 | AO68: 0.489 | AP68: 163.295 | AQ68: 0 | AR68: 5437720.8 | AS68: 0 | AT68: 177774.96 | AU68: 0 | AV68: 0.831 | AW68: 0 | AX68: 0.027 | AY68: 0.883 | AZ68: =Y68/Z68*1000 -> 9464.6815 | BA68: =Y68/(SUM(AQ68:AT68))*1000 -> 11034.701 | BY68: CT_Fossil | BZ68: =AM16 -> 810.03 | CA68: =AL16 -> 0.018 | CB68: =AK16 -> 0.166 | CC68: =BA16 -> 7424.2903 | CR68: MRO East | CS68: MRO East
C69: Natural Gas CO2 Emission Factor | E69: 120000 | F69: lb/106 scf | I69: U.S. Environmental Protection Agency, AP 42, Fifth Edition, Volume I. Chapter 1: External Combustion Sources, Section 4. Natural Gas Combustion, Final Section. Table 1.4-2 | M69: http://www.epa.gov/ttn/chief/ap42/ch01/final/c01s04.pdf | V69: 60 | W69: MRO East | X69: 9637.9 | Y69: 2.1586179e+08 | Z69: 24520968 | AA69: 12037.444 | AB69: 3392.311 | AC69: 17131737 | AD69: 0.982 | AE69: 0.277 | AF69: 1397.313 | AG69: 0.112 | AH69: 0.11 | AI69: 0.031 | AJ69: 158.729 | AK69: 1.139 | AL69: 0.278 | AM69: 1664.682 | AN69: 0.11 | AO69: 0.027 | AP69: 160.515 | AQ69: 9677002.2 | AR69: 73857.732 | AS69: 10519939 | AT69: 0 | AU69: 0.395 | AV69: 0.003 | AW69: 0.429 | AX69: 0 | AY69: 0.857 | AZ69: =Y69/Z69*1000 -> 8803.1514 | BA69: =Y69/(SUM(AQ69:AT69))*1000 -> 10648.904 | BY69: DC_Fossil | BZ69: =AM17 -> 758.145 | CA69: =AL17 -> 0.021 | CB69: =AK17 -> 2.658 | CC69: =BA17 -> 16693.599 | CR69: MRO West | CS69: MRO West
C70: Natural Gas SO2 Emission Factor | E70: 0.6 | F70: lb/106 scf | I70: U.S. Environmental Protection Agency, AP 42, Fifth Edition, Volume I. Chapter 1: External Combustion Sources, Section 4. Natural Gas Combustion, Final Section. Table 1.4-2 | M70: http://www.epa.gov/ttn/chief/ap42/ch01/final/c01s04.pdf | V70: 61 | W70: MRO West | X70: 77431.6 | Y70: 1.1751731e+09 | Z70: 2.4093454e+08 | AA70: 85634.381 | AB70: 107898.24 | AC70: 1.1084556e+08 | AD70: 0.711 | AE70: 0.896 | AF70: 920.13 | AG70: 0.146 | AH70: 0.143 | AI70: 0.184 | AJ70: 188.646 | AK70: 1.411 | AL70: 1.822 | AM70: 1891.086 | AN70: 0.143 | AO70: 0.184 | AP70: 191.064 | AQ70: 84747621 | AR70: 275003.2 | AS70: 31533282 | AT70: 373807.59 | AU70: 0.352 | AV70: 0.001 | AW70: 0.131 | AX70: 0.002 | AY70: 0.492 | AZ70: =Y70/Z70*1000 -> 4877.5618 | BA70: =Y70/(SUM(AQ70:AT70))*1000 -> 10050.252 | BY70: DE_Fossil | BZ70: =AM18 -> 984.537 | CA70: =AL18 -> 0.098 | CB70: =AK18 -> 0.316 | CC70: =BA18 -> 6305.115 | CR70: NPCC New England | CS70: NPCC New England
C71: Natural Gas NOX Emission Factor | E71: =AVERAGE(CH9:CH17) -> 125.88889 | F71: lb/106 scf | I71: U.S. Environmental Protection Agency, AP 42, Fifth Edition, Volume I. Chapter 1: External Combustion Sources, Section 4. Natural Gas Combustion, Background Document, Table 3.4-1. | M71: http://www.epa.gov/ttn/chief/ap42/ch01/bgdocs/b01s04.pdf | V71: 62 | W71: NPCC New England | X71: 39269.4 | Y71: 5.0235937e+08 | Z71: 1.0271686e+08 | AA71: 14961.041 | AB71: 5936.819 | AC71: 27696322 | AD71: 0.291 | AE71: 0.116 | AF71: 539.275 | AG71: 0.06 | AH71: 0.055 | AI71: 0.024 | AJ71: 110.265 | AK71: 0.227 | AL71: 0.026 | AM71: 852.011 | AN71: 0.032 | AO71: 0.004 | AP71: 119.106 | AQ71: 203345.33 | AR71: 389733.11 | AS71: 57465433 | AT71: 1594279.3 | AU71: 0.002 | AV71: 0.004 | AW71: 0.559 | AX71: 0.016 | AY71: 0.623 | AZ71: =Y71/Z71*1000 -> 4890.7196 | BA71: =Y71/(SUM(AQ71:AT71))*1000 -> 8421.3893 | BY71: FL_Fossil | BZ71: =AM19 -> 949.637 | CA71: =AL19 -> 0.107 | CB71: =AK19 -> 0.232 | CC71: =BA19 -> 7746.2677 | CR71: WECC Northwest | CS71: WECC Northwest
C72: Propane Heat Content | E72: 91.5 | F72: MMBtu/103 gal | I72: U.S. Environmental Protection Agency, AP 42, Fifth Edition, Volume I. Chapter 1: External Combustion Sources, Section 5. Liquefied Petroleum Gas Combustion, Final Document, Table 1.5-1. | M72: http://www.epa.gov/ttn/chief/ap42/ch01/final/c01s05.pdf | V72: 63 | W72: WECC Northwest | X72: 80127.8 | Y72: 1.0702793e+09 | Z72: 2.6925305e+08 | AA72: 76424.856 | AB72: 36116.134 | AC72: 85048261 | AD72: 0.568 | AE72: 0.268 | AF72: 631.735 | AG72: 0.143 | AH72: 0.139 | AI72: 0.067 | AJ72: 158.927 | AK72: 1.309 | AL72: 0.611 | AM72: 1515.272 | AN72: 0.141 | AO72: 0.066 | AP72: 162.897 | AQ72: 44073819 | AR72: 557911.31 | AS72: 66832940 | AT72: 698501.57 | AU72: 0.164 | AV72: 0.002 | AW72: 0.248 | AX72: 0.003 | AY72: 0.427 | AZ72: =Y72/Z72*1000 -> 3974.9942 | BA72: =Y72/(SUM(AQ72:AT72))*1000 -> 9542.1634 | BY72: GA_Fossil | BZ72: =AM20 -> 1194.446 | CA72: =AL20 -> 0.217 | CB72: =AK20 -> 0.395 | CC72: =BA20 -> 8768.8608 | CR72: NPCC NYC/Westchester | CS72: NPCC NYC/Westchester
C73: Propane CO2 Emission Factor | E73: 12500 | F73: lb/103 gal | I73: U.S. Environmental Protection Agency, AP 42, Fifth Edition, Volume I. Chapter 1: External Combustion Sources, Section 5. Liquefied Petroleum Gas Combustion, Final Document, Table 1.5-1. | M73: http://www.epa.gov/ttn/chief/ap42/ch01/final/c01s05.pdf | V73: 64 | W73: NPCC NYC/Westchester | X73: 12789.9 | Y73: 2.5221516e+08 | Z73: 34602268 | AA73: 4020.258 | AB73: 411.957 | AC73: 14956294 | AD73: 0.232 | AE73: 0.024 | AF73: 864.469 | AG73: 0.032 | AH73: 0.034 | AI73: 0.003 | AJ73: 118.599 | AK73: 0.204 | AL73: 0.006 | AM73: 862.98 | AN73: 0.028 | AO73: 0.001 | AP73: 118.731 | AQ73: 0 | AR73: 159815.32 | AS73: 33991491 | AT73: 248637.79 | AU73: 0 | AV73: 0.005 | AW73: 0.982 | AX73: 0.007 | AY73: 0.999 | AZ73: =Y73/Z73*1000 -> 7288.9777 | BA73: =Y73/(SUM(AQ73:AT73))*1000 -> 7331.848 | BY73: HI_Fossil | BZ73: =AM21 -> 1650.194 | CA73: =AL21 -> 5.35 | CB73: =AK21 -> 6.014 | CC73: =BA21 -> 11070.396 | CR73: NPCC Long Island | CS73: NPCC Long Island
C74: Propane SO2 Emission Factor | E74: 0.1 | F74: lb/103 gal | I74: U.S. Environmental Protection Agency, AP 42, Fifth Edition, Volume I. Chapter 1: External Combustion Sources, Section 5. Liquefied Petroleum Gas Combustion, Final Document, Table 1.5-1. | M74: http://www.epa.gov/ttn/chief/ap42/ch01/final/c01s05.pdf | V74: 65 | W74: NPCC Long Island | X74: 5832.8 | Y74: 98137990 | Z74: 9823461.8 | AA74: 4072.726 | AB74: 1624.36 | AC74: 5799143.1 | AD74: 0.829 | AE74: 0.331 | AF74: 1180.672 | AG74: 0.083 | AH74: 0.077 | AI74: 0.033 | AJ74: 118.183 | AK74: 0.542 | AL74: 0.044 | AM74: 1117.979 | AN74: 0.058 | AO74: 0.005 | AP74: 119.788 | AQ74: 0 | AR74: 148764.2 | AS74: 8563061.8 | AT74: 474533.33 | AU74: 0 | AV74: 0.015 | AW74: 0.872 | AX74: 0.048 | AY74: 0.975 | AZ74: =Y74/Z74*1000 -> 9990.1636 | BA74: =Y74/(SUM(AQ74:AT74))*1000 -> 10683.012 | BY74: IA_Fossil | BZ74: =AM22 -> 1641.065 | CA74: =AL22 -> 1.352 | CB74: =AK22 -> 1 | CC74: =BA22 -> 9226.6263 | CR74: NPCC Upstate NY | CS74: NPCC Upstate NY
C75: Propane NOX Emission Factor | E75: 13 | F75: lb/103 gal | I75: U.S. Environmental Protection Agency, AP 42, Fifth Edition, Volume I. Chapter 1: External Combustion Sources, Section 5. Liquefied Petroleum Gas Combustion, Final Document, Table 1.5-1. | M75: http://www.epa.gov/ttn/chief/ap42/ch01/final/c01s05.pdf | V75: 66 | W75: NPCC Upstate NY | X75: 26425.4 | Y75: 1.884916e+08 | Z75: 85283183 | AA75: 3545.102 | AB75: 1141.357 | AC75: 10323051 | AD75: 0.083 | AE75: 0.027 | AF75: 242.089 | AG75: 0.038 | AH75: 0.035 | AI75: 0.012 | AJ75: 109.533 | AK75: 0.219 | AL75: 0.043 | AM75: 914.088 | AN75: 0.028 | AO75: 0.006 | AP75: 115.723 | AQ75: 0 | AR75: 113096.46 | AS75: 21749608 | AT75: 269550.5 | AU75: 0 | AV75: 0.001 | AW75: 0.255 | AX75: 0.003 | AY75: 0.272 | AZ75: =Y75/Z75*1000 -> 2210.1849 | BA75: =Y75/(SUM(AQ75:AT75))*1000 -> 8516.6017 | BY75: ID_Fossil | BZ75: =AM23 -> 981.775 | CA75: =AL23 -> 0.005 | CB75: =AK23 -> 0.226 | CC75: =BA23 -> 8751.764 | CR75: RFC East | CS75: RFC East
C76: Heating Oil (No. 2) Heat Content | E76: 140 | F76: MMBtu/103 gal | I76: U.S. Environmental Protection Agency, AP 42, Fifth Edition, Volume I. Chapter 1: External Combustion Sources, Section 3. Fuel Oil Combustion, Background Document. | M76: http://www.epa.gov/ttn/chief/ap42/ch01/bgdocs/b01s03.pdf | V76: 67 | W76: RFC East | X76: 76472.9 | Y76: 1.3460056e+09 | Z76: 2.8487411e+08 | AA76: 28833.011 | AB76: 30183.773 | AC76: 85021258 | AD76: 0.202 | AE76: 0.212 | AF76: 596.904 | AG76: 0.043 | AH76: 0.042 | AI76: 0.045 | AJ76: 126.331 | AK76: 0.27 | AL76: 0.298 | AM76: 981.029 | AN76: 0.035 | AO76: 0.039 | AP76: 128.12 | AQ76: 13525528 | AR76: 161138.85 | AS76: 1.5419948e+08 | AT76: 2056177.5 | AU76: 0.047 | AV76: 0.001 | AW76: 0.541 | AX76: 0.007 | AY76: 0.605 | AZ76: =Y76/Z76*1000 -> 4724.9137 | BA76: =Y76/(SUM(AQ76:AT76))*1000 -> 7920.3671 | BY76: IL_Fossil | BZ76: =AM24 -> 1498.718 | CA76: =AL24 -> 0.855 | CB76: =AK24 -> 0.532 | CC76: =BA24 -> 9057.4138 | CR76: RFC Michigan | CS76: RFC Michigan
C77: Heating Oil (No. 2) CO2 Emission Factor | E77: 22300 | F77: lb/103 gal | I77: U.S. Environmental Protection Agency, AP 42, Fifth Edition, Volume I. Chapter 1: External Combustion Sources, Section 3. Fuel Oil Combustion, Background Document. Table 6. | M77: http://www.epa.gov/ttn/chief/ap42/ch01/bgdocs/b01s03.pdf | V77: 68 | W77: RFC Michigan | X77: 28925.4 | Y77: 6.3019707e+08 | Z77: 91629482 | AA77: 23798.386 | AB77: 25854.172 | AC77: 44468549 | AD77: 0.519 | AE77: 0.564 | AF77: 970.617 | AG77: 0.076 | AH77: 0.07 | AI77: 0.082 | AJ77: 141.126 | AK77: 0.62 | AL77: 0.704 | AM77: 1230.849 | AN77: 0.073 | AO77: 0.083 | AP77: 145.519 | AQ77: 23554195 | AR77: 1339754.1 | AS77: 45647801 | AT77: 1500003.1 | AU77: 0.257 | AV77: 0.015 | AW77: 0.498 | AX77: 0.016 | AY77: 0.801 | AZ77: =Y77/Z77*1000 -> 6877.6671 | BA77: =Y77/(SUM(AQ77:AT77))*1000 -> 8747.6643 | BY77: IN_Fossil | BZ77: =AM25 -> 1682.347 | CA77: =AL25 -> 0.655 | CB77: =AK25 -> 0.95 | CC77: =BA25 -> 9191.932 | CR77: RFC West | CS77: RFC West
C78: Heating Oil (No. 2) SO2 Emission Factor | E78: 142 | F78: lb/103 gal | I78: U.S. Environmental Protection Agency, AP 42, Fifth Edition, Volume I. Chapter 1: External Combustion Sources, Section 3. Fuel Oil Combustion, Final Document. Table 1.3-1 | M78: http://www.epa.gov/ttn/chief/ap42/ch01/bgdocs/b01s03.pdf | V78: 69 | W78: RFC West | X78: 141910.2 | Y78: 2.9444679e+09 | Z78: 5.2435208e+08 | AA78: 110512.79 | AB78: 108122.62 | AC78: 2.3895365e+08 | AD78: 0.422 | AE78: 0.412 | AF78: 911.424 | AG78: 0.075 | AH78: 0.061 | AI78: 0.073 | AJ78: 162.307 | AK78: 0.651 | AL78: 0.649 | AM78: 1426.364 | AN78: 0.074 | AO78: 0.074 | AP78: 162.577 | AQ78: 1.3118143e+08 | AR78: 1329401 | AS78: 1.9842328e+08 | AT78: 3871616.2 | AU78: 0.25 | AV78: 0.003 | AW78: 0.378 | AX78: 0.007 | AY78: 0.642 | AZ78: =Y78/Z78*1000 -> 5615.4406 | BA78: =Y78/(SUM(AQ78:AT78))*1000 -> 8794.5568 | BY78: KS_Fossil | BZ78: =AM26 -> 2054.463 | CA78: =AL26 -> 0.317 | CB78: =AK26 -> 1.398 | CC78: =BA26 -> 10839.62 | CR78: WECC Rockies | CS78: WECC Rockies
C79: Heating Oil (No. 2) NOX Emission Factor | E79: 24 | F79: lb/103 gal | I79: U.S. Environmental Protection Agency, AP 42, Fifth Edition, Volume I. Chapter 1: External Combustion Sources, Section 3. Fuel Oil Combustion, Background Document. Table 2. | M79: http://www.epa.gov/ttn/chief/ap42/ch01/bgdocs/b01s03.pdf | V79: 70 | W79: WECC Rockies | X79: 24805.7 | Y79: 4.0336346e+08 | Z79: 67674810 | AA79: 17789.061 | AB79: 11143.956 | AC79: 35075880 | AD79: 0.526 | AE79: 0.329 | AF79: 1036.601 | AG79: 0.088 | AH79: 0.086 | AI79: 0.055 | AJ79: 173.917 | AK79: 0.897 | AL79: 0.566 | AM79: 1783.758 | AN79: 0.088 | AO79: 0.055 | AP79: 174.636 | AQ79: 21439208 | AR79: 47422.454 | AS79: 17841440 | AT79: 0 | AU79: 0.317 | AV79: 0.001 | AW79: 0.264 | AX79: 0 | AY79: 0.583 | AZ79: =Y79/Z79*1000 -> 5960.3191 | BA79: =Y79/(SUM(AQ79:AT79))*1000 -> 10256.376 | BY79: KY_Fossil | BZ79: =AM27 -> 1870.359 | CA79: =AL27 -> 1.189 | CB79: =AK27 -> 1.028 | CC79: =BA27 -> 9975.3434 | CR79: SPP North | CS79: SPP North
C80: U.S. Transmission and Distribution Electricity Losses | E80: 0.053 | F80: Percent | I80: U.S. Energy Information Administration, Frequently Asked Questions, "How much electricity is lost in transmission and distribution in the United States?" | M80: http://www.eia.gov/tools/faqs/faq.cfm?id=105&t=3 | V80: 71 | W80: SPP North | X80: 27920.2 | Y80: 3.485886e+08 | Z80: 73458953 | AA80: 16956.454 | AB80: 5045.176 | AC80: 31660770 | AD80: 0.462 | AE80: 0.137 | AF80: 861.999 | AG80: 0.097 | AH80: 0.095 | AI80: 0.029 | AJ80: 181.651 | AK80: 1.007 | AL80: 0.299 | AM80: 1880.77 | AN80: 0.098 | AO80: 0.029 | AP80: 182.074 | AQ80: 23239669 | AR80: 149995.79 | AS80: 10273827 | AT80: 0 | AU80: 0.316 | AV80: 0.002 | AW80: 0.14 | AX80: 0 | AY80: 0.459 | AZ80: =Y80/Z80*1000 -> 4745.3521 | BA80: =Y80/(SUM(AQ80:AT80))*1000 -> 10355.093 | BY80: LA_Fossil | BZ80: =AM28 -> 916.522 | CA80: =AL28 -> 0.19 | CB80: =AK28 -> 0.785 | CC80: =BA28 -> 7371.8394 | CR80: SPP South | CS80: SPP South
C81: Metric Tons of CO2e per passenger vehicle per year | E81: 4.6 | F81: tonnes | I81: U.S. Environmental Protection Agency, Greenhouse Gas Equivalencies Calculator, Calculations and References, Passenger Vehicles per Year | M81: https://www.epa.gov/energy/ghg-equivalencies-calculator-calculations-and-references | V81: 72 | W81: SPP South | X81: 58598.4 | Y81: 9.453095e+08 | Z81: 1.5807496e+08 | AA81: 53225.996 | AB81: 52040.372 | AC81: 68923986 | AD81: 0.673 | AE81: 0.658 | AF81: 872.042 | AG81: 0.113 | AH81: 0.112 | AI81: 0.11 | AJ81: 145.823 | AK81: 1.035 | AL81: 1.005 | AM81: 1380.006 | AN81: 0.11 | AO81: 0.107 | AP81: 147.15 | AQ81: 25682670 | AR81: 850341.88 | AS81: 72817309 | AT81: 283095.52 | AU81: 0.162 | AV81: 0.005 | AW81: 0.461 | AX81: 0.002 | AY81: 0.643 | AZ81: =Y81/Z81*1000 -> 5980.1344 | BA81: =Y81/(SUM(AQ81:AT81))*1000 -> 9487.876 | BY81: MA_Fossil | BZ81: =AM29 -> 861.477 | CA81: =AL29 -> 0.016 | CB81: =AK29 -> 0.226 | CC81: =BA29 -> 8845.8908 | CR81: SERC Mississippi Valley | CS81: SERC Mississippi Valley
C82: Metric Tons of CO2 per home electricity usage per year | E82: 4.798 | F82: tonnes | I82: U.S. Environmental Protection Agency, Greenhouse Gas Equivalencies Calculator, Calculations and References, Home Electricity Use | M82: https://www.epa.gov/energy/ghg-equivalencies-calculator-calculations-and-references | V82: 73 | W82: SERC Mississippi Valley | X82: 48030.5 | Y82: 9.9806584e+08 | Z82: 1.7635917e+08 | AA82: 43011.014 | AB82: 30918.967 | AC82: 65228228 | AD82: 0.488 | AE82: 0.351 | AF82: 739.72 | AG82: 0.086 | AH82: 0.089 | AI82: 0.062 | AJ82: 130.709 | AK82: 0.645 | AL82: 0.452 | AM82: 1002.079 | AN82: 0.085 | AO82: 0.06 | AP82: 132.593 | AQ82: 14512734 | AR82: 261575.28 | AS82: 1.1500212e+08 | AT82: 2197986.7 | AU82: 0.082 | AV82: 0.001 | AW82: 0.652 | AX82: 0.012 | AY82: 0.758 | AZ82: =Y82/Z82*1000 -> 5659.2795 | BA82: =Y82/(SUM(AQ82:AT82))*1000 -> 7562.5705 | BY82: MD_Fossil | BZ82: =AM30 -> 1045.885 | CA82: =AL30 -> 0.172 | CB82: =AK30 -> 0.284 | CC82: =BA30 -> 8423.3432 | CR82: SERC Midwest | CS82: SERC Midwest
C83: U.S. Emissions Data (CO2, SO2, NOX) | E83: --- | F83: --- | I83: eGRID2023 (2021 data) | M83: https://www.epa.gov/energy/emissions-generation-resource-integrated-database-egrid | V83: 74 | W83: SERC Midwest | X83: 31516.4 | Y83: 6.8822494e+08 | Z83: 1.0539194e+08 | AA83: 41447.965 | AB83: 86208.355 | AC83: 65334513 | AD83: 0.787 | AE83: 1.636 | AF83: 1239.839 | AG83: 0.12 | AH83: 0.083 | AI83: 0.251 | AJ83: 189.864 | AK83: 1.149 | AL83: 2.39 | AM83: 1811.875 | AN83: 0.121 | AO83: 0.251 | AP83: 190.173 | AQ83: 53815392 | AR83: 62107.994 | AS83: 17851869 | AT83: 68113.898 | AU83: 0.511 | AV83: 0.001 | AW83: 0.169 | AX83: 0.001 | AY83: 0.683 | AZ83: =Y83/Z83*1000 -> 6530.1478 | BA83: =Y83/(SUM(AQ83:AT83))*1000 -> 9585.6417 | BY83: ME_Fossil | BZ83: =AM31 -> 847.144 | CA83: =AL31 -> 0.077 | CB83: =AK31 -> 0.146 | CC83: =BA31 -> 10396.475 | CR83: SERC South | CS83: SERC South
C84: Canada Emissions Data (CO2) | E84: --- | F84: --- | I84: Canada's Official Greenhouse Gas Inventory, 4/14/22 | M84: https://data.ec.gc.ca/data/substances/monitor/canada-s-official-greenhouse-gas-inventory/C-Tables-Electricity-Canada-Provinces-Territories/EN_Electricity_Can_Prov_Terr.xlsx | V84: 75 | W84: SERC South | X84: 73016.5 | Y84: 1.5637811e+09 | Z84: 2.561447e+08 | AA84: 44434.866 | AB84: 20764.974 | AC84: 1.0787909e+08 | AD84: 0.347 | AE84: 0.162 | AF84: 842.329 | AG84: 0.057 | AH84: 0.052 | AI84: 0.027 | AJ84: 137.972 | AK84: 0.438 | AL84: 0.121 | AM84: 1203.389 | AN84: 0.052 | AO84: 0.015 | AP84: 144.05 | AQ84: 37243402 | AR84: 266599.25 | AS84: 1.4200888e+08 | AT84: 90945.407 | AU84: 0.145 | AV84: 0.001 | AW84: 0.554 | AX84: 0 | AY84: 0.737 | AZ84: =Y84/Z84*1000 -> 6105.0693 | BA84: =Y84/(SUM(AQ84:AT84))*1000 -> 8706.5457 | BY84: MI_Fossil | BZ84: =AM32 -> 1181.814 | CA84: =AL32 -> 0.636 | CB84: =AK32 -> 0.8 | CC84: =BA32 -> 8601.315 | CR84: SERC Tennessee Valley | CS84: SERC Tennessee Valley
C85: Canada Emissions Data (SO2, NOX) | E85: --- | F85: --- | I85: National Pollutant Release Inventory (NPRI) Downloadable Datasets, 2011 Air Pollutant Emission Summaries and Trends. 2011 Emissions from Electric Power Generation (Utilities) | M85: http://www.ec.gc.ca/inrp-npri/default.asp?lang=en&n=0EC58C98-#Emission_Summaries | V85: 76 | W85: SERC Tennessee Valley | X85: 59035.5 | Y85: 1.1173249e+09 | Z85: 2.0932431e+08 | AA85: 40143.699 | AB85: 44668.688 | AC85: 93994899 | AD85: 0.384 | AE85: 0.427 | AF85: 898.079 | AG85: 0.072 | AH85: 0.065 | AI85: 0.08 | AJ85: 168.25 | AK85: 0.645 | AL85: 0.717 | AM85: 1558.384 | AN85: 0.071 | AO85: 0.078 | AP85: 170.383 | AQ85: 58936646 | AR85: 150251.51 | AS85: 62365850 | AT85: 101969.86 | AU85: 0.282 | AV85: 0.001 | AW85: 0.298 | AX85: 0 | AY85: 0.587 | AZ85: =Y85/Z85*1000 -> 5337.7694 | BA85: =Y85/(SUM(AQ85:AT85))*1000 -> 9191.9499 | BY85: MN_Fossil | BZ85: =AM33 -> 1570.972 | CA85: =AL33 -> 0.282 | CB85: =AK33 -> 0.881 | CC85: =BA33 -> 9747.6509 | CR85: SERC Virginia/Carolina | CS85: SERC Virginia/Carolina
V86: 77 | W86: SERC Virginia/Carolina | X86: 96953.9 | Y86: 1.4004122e+09 | Z86: 3.1947886e+08 | AA86: 44977.083 | AB86: 24261.313 | AC86: 94792347 | AD86: 0.282 | AE86: 0.152 | AF86: 593.419 | AG86: 0.064 | AH86: 0.067 | AI86: 0.035 | AJ86: 135.378 | AK86: 0.51 | AL86: 0.243 | AM86: 1177.409 | AN86: 0.061 | AO86: 0.029 | AP86: 141.488 | AQ86: 33607490 | AR86: 306042.27 | AS86: 1.2540548e+08 | AT86: 522985.88 | AU86: 0.105 | AV86: 0.001 | AW86: 0.393 | AX86: 0.002 | AY86: 0.521 | AZ86: =Y86/Z86*1000 -> 4383.4268 | BA86: =Y86/(SUM(AQ86:AT86))*1000 -> 8761.228 | BY86: MO_Fossil | BZ86: =AM34 -> 1934.34 | CA86: =AL34 -> 2.919 | CB86: =AK34 -> 1.418 | CC86: =BA34 -> 10002.804 | CR86: Alaska Systems Coordinating Council | CS86: Alaska Systems Coordinating Council
C87: Calculations | V87: 78 | W87: Alaska | X87: 3095.5 | Y87: 39933924 | Z87: 6678905.2 | AA87: 20591.981 | AB87: 1349.979 | AC87: 2704369 | AD87: 6.166 | AE87: 0.404 | AF87: 809.824 | AG87: 1.031 | AH87: 1.107 | AI87: 0.068 | AJ87: 135.442 | AK87: 8.631 | AL87: 0.563 | AM87: 1134.697 | AN87: 1.041 | AO87: 0.068 | AP87: 136.805 | AQ87: 730681.46 | AR87: 848592.32 | AS87: 3182407.1 | AT87: 0 | AU87: 0.109 | AV87: 0.127 | AW87: 0.476 | AX87: 0 | AY87: 0.719 | AZ87: =Y87/Z87*1000 -> 5979.1123 | BA87: =Y87/(SUM(AQ87:AT87))*1000 -> 8386.5183 | BY87: MS_Fossil | BZ87: =AM35 -> 1020.055 | CA87: =AL35 -> 0.095 | CB87: =AK35 -> 0.431 | CC87: =BA35 -> 8007.2545 | CR87: Florida Reliability Coordinating Council | CS87: Florida Reliability Coordinating Council
O88: =2650000/4.73 -> 560253.7 | V88: 79 | W88: Hawaii | X88: 3451.2 | Y88: 81226060 | Z88: 9158617.7 | AA88: 22671.585 | AB88: 19871.902 | AC88: 6342943.2 | AD88: 4.951 | AE88: 4.339 | AF88: 1385.131 | AG88: 0.558 | AH88: 0.545 | AI88: 0.489 | AJ88: 156.18 | AK88: 6.014 | AL88: 5.35 | AM88: 1650.194 | AN88: 0.59 | AO88: 0.525 | AP88: 161.906 | AQ88: 0 | AR88: 7159456.4 | AS88: 0 | AT88: 177774.96 | AU88: 0 | AV88: 0.782 | AW88: 0 | AX88: 0.019 | AY88: 0.833 | AZ88: =Y88/Z88*1000 -> 8868.8121 | BA88: =Y88/(SUM(AQ88:AT88))*1000 -> 11070.396 | BY88: MT_Fossil | BZ88: =AM36 -> 2175.868 | CA88: =AL36 -> 1.666 | CB88: =AK36 -> 1.795 | CC88: =BA36 -> 10697.13 | CR88: Hawaiian Islands Coordinating Council | CS88: Hawaiian Islands Coordinating Council
C89: Description | E89: Value | F89: Units | V89: 80 | W89: Midwest Reliability Organization | X89: 165769.9 | Y89: 2.3707716e+09 | Z89: 4.7051734e+08 | AA89: 149368.35 | AB89: 151587.22 | AC89: 2.0159035e+08 | AD89: 0.635 | AE89: 0.644 | AF89: 856.888 | AG89: 0.126 | AH89: 0.124 | AI89: 0.128 | AJ89: 170.063 | AK89: 1.206 | AL89: 1.239 | AM89: 1676.509 | AN89: 0.123 | AO89: 0.127 | AP89: 171.582 | AQ89: 1.2768807e+08 | AR89: 502523.95 | AS89: 1.1130839e+08 | AT89: 640889.69 | AU89: 0.271 | AV89: 0.001 | AW89: 0.237 | AX89: 0.001 | AY89: 0.516 | AZ89: =Y89/Z89*1000 -> 5038.6487 | BA89: =Y89/(SUM(AQ89:AT89))*1000 -> 9872.4614 | BY89: NC_Fossil | BZ89: =AM37 -> 1194.496 | CA89: =AL37 -> 0.267 | CB89: =AK37 -> 0.713 | CC89: =BA37 -> 8673.8404 | CR89: Midwest Reliability Organization | CS89: Midwest Reliability Organization
C90: User Input | E90: =E24 -> US Average | V90: 81 | W90: Northeast Power Coordinating Council | X90: 82817.8 | Y90: 1.0014695e+09 | Z90: 2.2614807e+08 | AA90: 26284.69 | AB90: 9102.769 | AC90: 56412217 | AD90: 0.232 | AE90: 0.081 | AF90: 498.896 | AG90: 0.052 | AH90: 0.05 | AI90: 0.018 | AJ90: 112.659 | AK90: 0.25 | AL90: 0.026 | AM90: 893.507 | AN90: 0.033 | AO90: 0.003 | AP90: 118.404 | AQ90: 203345.33 | AR90: 801636.13 | AS90: 1.153595e+08 | AT90: 2557654 | AU90: 0.001 | AV90: 0.004 | AW90: 0.51 | AX90: 0.011 | AY90: 0.552 | AZ90: =Y90/Z90*1000 -> 4428.3794 | BA90: =Y90/(SUM(AQ90:AT90))*1000 -> 8421.2198 | BY90: ND_Fossil | BZ90: =AM38 -> 2132.674 | CA90: =AL38 -> 2.654 | CB90: =AK38 -> 2.194 | CC90: =BA38 -> 10097.907 | CR90: No NERC region | CS90: No NERC region
C91: User Input | E91: =E22 -> eGrid Subregions Average Fossil | V91: 82 | W91: Reliability First Corporation | X91: 250781.4 | Y91: 5.0063884e+09 | Z91: 9.0911474e+08 | AA91: 166600.58 | AB91: 166349.09 | AC91: 3.751091e+08 | AD91: 0.367 | AE91: 0.366 | AF91: 825.218 | AG91: 0.067 | AH91: 0.057 | AI91: 0.066 | AJ91: 149.852 | AK91: 0.538 | AL91: 0.55 | AM91: 1269.822 | AN91: 0.064 | AO91: 0.066 | AP91: 151.297 | AQ91: 1.7175344e+08 | AR91: 2873619.1 | AS91: 4.0571477e+08 | AT91: 7457143.9 | AU91: 0.189 | AV91: 0.003 | AW91: 0.446 | AX91: 0.008 | AY91: 0.653 | AZ91: =Y91/Z91*1000 -> 5506.8829 | BA91: =Y91/(SUM(AQ91:AT91))*1000 -> 8517.1779 | BY91: NE_Fossil | BZ91: =AM39 -> 2071.345 | CA91: =AL39 -> 4.31 | CB91: =AK39 -> 1.906 | CC91: =BA39 -> 10318.823 | CR91: Northeast Power Coordinating Council | CS91: Northeast Power Coordinating Council
C92: Electricity Consumption (kWh/yr) | E92: =E13/(1-$E$80) -> 14480.915 | F92: kWh | I92: =I13/(1-$E$80) -> 0 | K92: =K13/(1-$E$80) -> 0 | M92: =M13/(1-$E$80) -> 0 | O92: =O13/(1-$E$80) -> 0 | Q92: =Q13/(1-$E$80) -> 0 | S92: =S13/(1-$E$80) -> 0 | V92: 83 | W92: SERC Reliability Corporation | X92: 385791.2 | Y92: 7.4829389e+09 | Z92: 1.3337211e+09 | AA92: 252320.02 | AB92: 229681.81 | AC92: 5.343479e+08 | AD92: 0.378 | AE92: 0.344 | AF92: 801.289 | AG92: 0.067 | AH92: 0.062 | AI92: 0.061 | AJ92: 142.818 | AK92: 0.527 | AL92: 0.471 | AM92: 1207.957 | AN92: 0.064 | AO92: 0.057 | AP92: 146.701 | AQ92: 2.0936194e+08 | AR92: 3031712.1 | AS92: 6.6836283e+08 | AT92: 4457623.9 | AU92: 0.157 | AV92: 0.002 | AW92: 0.501 | AX92: 0.003 | AY92: 0.681 | AZ92: =Y92/Z92*1000 -> 5610.5726 | BA92: =Y92/(SUM(AQ92:AT92))*1000 -> 8453.2532 | BY92: NH_Fossil | BZ92: =AM40 -> 929.248 | CA92: =AL40 -> 0.103 | CB92: =AK40 -> 0.253 | CC92: =BA40 -> 10374.524 | CR92: Reliability First Corporation | CS92: Reliability First Corporation
C93: Natural Gas Consumption (MMBtu/yr) | E93: =E15 -> 0 | F93: MMBtu | I93: =I15 -> 95.422994 | K93: =K15 -> 0 | M93: =M15 -> 0 | O93: =O15 -> 0 | Q93: =Q15 -> 0 | S93: =S15 -> 0 | V93: 84 | W93: Texas Regional Entity | X93: 144275.6 | Y93: 2.4106519e+09 | Z93: 4.7212231e+08 | AA93: 105048.88 | AB93: 76086.145 | AC93: 1.7324576e+08 | AD93: 0.445 | AE93: 0.322 | AF93: 733.902 | AG93: 0.087 | AH93: 0.086 | AI93: 0.063 | AJ93: 143.734 | AK93: 0.719 | AL93: 0.519 | AM93: 1181.206 | AN93: 0.088 | AO93: 0.063 | AP93: 144.393 | AQ93: 60420147 | AR93: 213046.01 | AS93: 2.3271882e+08 | AT93: 1696010.2 | AU93: 0.128 | AV93: 0 | AW93: 0.493 | AX93: 0.004 | AY93: 0.627 | AZ93: =Y93/Z93*1000 -> 5105.9903 | BA93: =Y93/(SUM(AQ93:AT93))*1000 -> 8170.3713 | BY93: NJ_Fossil | BZ93: =AM41 -> 837.909 | CA93: =AL41 -> 0.006 | CB93: =AK41 -> 0.194 | CC93: =BA41 -> 7636.7125 | CR93: SERC Reliability Corporation | CS93: SERC Reliability Corporation
C94: Annual Propane Consumption (gal) | E94: =E17 -> 0 | F94: gal | I94: =I17 -> 0 | K94: =K17 -> 0 | M94: =M17 -> 0 | O94: =O17 -> 0 | Q94: =Q17 -> 0 | S94: =S17 -> 0 | V94: 85 | W94: Western Electricity Coordinating Council | X94: 261053.5 | Y94: 3.3222751e+09 | Z94: 7.4600873e+08 | AA94: 170460.34 | AB94: 66157.922 | AC94: 2.4442092e+08 | AD94: 0.457 | AE94: 0.177 | AF94: 655.276 | AG94: 0.103 | AH94: 0.1 | AI94: 0.04 | AJ94: 147.141 | AK94: 0.869 | AL94: 0.346 | AM94: 1323.469 | AN94: 0.099 | AO94: 0.04 | AP94: 151.431 | AQ94: 1.0189262e+08 | AR94: 749869.96 | AS94: 2.649086e+08 | AT94: 2182174.7 | AU94: 0.137 | AV94: 0.001 | AW94: 0.355 | AX94: 0.003 | AY94: 0.507 | AZ94: =Y94/Z94*1000 -> 4453.3998 | BA94: =Y94/(SUM(AQ94:AT94))*1000 -> 8985.5995 | BY94: NM_Fossil | BZ94: =AM42 -> 1399.692 | CA94: =AL42 -> 0.192 | CB94: =AK42 -> 0.675 | CC94: =BA42 -> 9194.9452 | CR94: Southwest Power Pool | CS94: Southwest Power Pool
C95: Annual Heating Oil Consumption (gal) | E95: =E19 -> 0 | F95: gal | I95: =I19 -> 0 | K95: =K19 -> 0 | M95: =M19 -> 0 | O95: =O19 -> 0 | Q95: =Q19 -> 0 | S95: =S19 -> 0 | BY95: NV_Fossil | BZ95: =AM43 -> 1009.955 | CA95: =AL43 -> 0.215 | CB95: =AK43 -> 0.754 | CC95: =BA43 -> 7866.7869 | CR95: Texas Regional Entity | CS95: Texas Regional Entity
BY96: NY_Fossil | BZ96: =AM44 -> 933.792 | CA96: =AL44 -> 0.026 | CB96: =AK44 -> 0.272 | CC96: =BA44 -> 8413.4993 | CR96: Western Electricity Coordinating Council | CS96: Western Electricity Coordinating Council
BY97: OH_Fossil | BZ97: =AM45 -> 1261.228 | CA97: =AL45 -> 0.725 | CB97: =AK45 -> 0.403 | CC97: =BA45 -> 8392.3001 | CR97: Canada Average | CS97: =CR97 -> Canada Average
C98: State Abbrev | E98: =VLOOKUP(E90,CR:CS,2,0) -> US Average | F98: --- | BY98: OK_Fossil | BZ98: =AM46 -> 1150.225 | CA98: =AL46 -> 0.378 | CB98: =AK46 -> 0.829 | CC98: =BA46 -> 8897.7227 | CR98: Alberta | CS98: =CR98 -> Alberta
C99: U.S. State Selected? | E99: =IF(ISERROR(VLOOKUP(E98,$CS$8:$CS$59,1,0)),"No", "Yes") -> Yes | F99: Y/N | H99: *this will always be no, but the emissions are always based on eGrid subregion | BY99: OR_Fossil | BZ99: =AM47 -> 956.364 | CA99: =AL47 -> 0.006 | CB99: =AK47 -> 1.594 | CC99: =BA47 -> 8488.6679 | CR99: British Columbia | CS99: =CR99 -> British Columbia
C100: U.S. Fossil Emissions Profile? | E100: =IF(OR(E91="eGrid Subregions Average Fossil",E91="NERC Average Fossil",E91="US Average Fossil"),"Yes","No") -> Yes | F100: Y/N | H100: *this will always be no and is likely not necessary | BY100: PA_Fossil | BZ100: =AM48 -> 979.626 | CA100: =AL48 -> 0.315 | CB100: =AK48 -> 0.271 | CC100: =BA48 -> 7800.2077 | CR100: Manitoba | CS100: =CR100 -> Manitoba
C101: Heat Rate | E101: =IF($E$100="Yes",VLOOKUP($E$98&"_Fossil",$BY:$CC,5,0),VLOOKUP($E$98,$BY:$CC,5,0)) -> 8665.4857 | F101: Btu/kWh | BY101: RI_Fossil | BZ101: =AM49 -> 912.802 | CA101: =AL49 -> 0.005 | CB101: =AK49 -> 0.405 | CC101: =BA49 -> 7925.5154 | CR101: New Brunswick | CS101: =CR101 -> New Brunswick
...

Sheet Profiles
A1: Displaced Electricity
B2: =LOOKUP('User Input'!$S$5,Lists!A21:A83,Lists!C21:C83) -> US | C2: State/Province | E2: *need to keep for HSPF and heating load

Sheet Methodology
A1: Residential Energy Cost & Emissions Tool – 2025 Methodology
A48: Old tool: | B48: https://esc.energydepot.com/user-information/home
