Workbook
Name activestate: Profiles!$B$2
Name AFUE: AppTech!$B$13
Name Annual_Space_Heating_Requirements: 'User Input'!$F$25
Name avgfamsize: Factors!$A$33
Name c_AnnualCooking: 'User Input'!$F$59
Name c_AnnualDryer: 'User Input'!$F$48
Name c_AnnualHeating: 'User Input'!$F$25
Name c_AnnualWaterHeating: 'User Input'!$F$38
Name c_City: 'User Input'!$F$7
Name c_CO21: 'User Input'!$J$85
Name c_CO22: 'User Input'!$J$87
Name c_CookingEfficiency: 'User Input'!$F$61
Name c_CookingSystem: 'User Input'!$F$57
Name c_Dryer: 'User Input'!$F$44
Name c_DryerEfficiency: 'User Input'!$F$50
Name c_DryerLoads: 'User Input'!$F$46
Name c_ElectricHeating: 'User Input'!$F$23
Name c_Emission: 'User Input'!$F$9
Name c_FamilySize: 'User Input'!$F$32
Name c_GasHeating: 'User Input'!$F$27
Name c_GasWaterHeating: 'User Input'!$F$40
Name c_HeatingSource: 'User Input'!$F$21
Name c_PriceElectricity: 'User Input'!$I$12
Name c_PriceGas: 'User Input'!$F$12
Name c_PriceOil: 'User Input'!$L$12
Name c_PricePropane: 'User Input'!$O$12
Name c_Range: 'User Input'!$F$55
Name c_sqft: 'User Input'!$F$19
Name c_State: 'User Input'!$F$5
Name c_WaterHeatingSystem: 'User Input'!$F$36
Name c_WaterHeatingType: 'User Input'!$F$34
Name Canadian_Average_All_Sources: 'Carbon Calculator'!$DC$9:$DC$19
Name city: 'User Input'!$S$7
Name clothes_current: 'User Input'!$E$50
Name cookeff: AppTech!$B$21
Name cookelecuse: AppTech!$B$25
Name cooking_current1: 'User Input'!$E$59
Name cooking_current2: 'User Input'!$E$61
Name ctype: 'User Input'!$S$57
Name Current_Electric_Heating_System_Type: 'User Input'!$F$23
Name data1: 'User Input'!$E$69:$O$73
Name data2: 'User Input'!$E$79:$O$81
Name dryerloads: 'User Input'!$F$46
Name dtype: 'User Input'!$S$44
Name eGRID_Subregions_Ave_All_Sources: 'Carbon Calculator'!$CY$9:$CY$34
Name eGRID_Subregions_Average_Fossil: 'Carbon Calculator'!$CZ$9:$CZ$34
Name elecheattype: 'User Input'!#REF!
Name electric: Lists!$B$87:$B$89
Name electricity: 'User Input'!$AA$6
Name electricity2: 'User Input'!$AA$8
Name elecWHtype: 'User Input'!#REF!
Name emisProfile: 'User Input'!$S$9
Name Emissions_range: INDIRECT(SUBSTITUTE('Carbon Calculator'!$E$22," ","_"))
Name Emissions_Region: " =INDIRECT(SUBSTITUTE(TRIM(TEXT('Carbon Calculator'!E22,""""@"""")),"""" """",""""_"""")"
Name emissionscomp: 'User Input'!#REF!
Name Energy_Source_for_Current_Heating_System: 'User Input'!$F$21
Name Erates: 'User Input'!$U$12
Name familysize: #REF!
Name famsize: 'User Input'!$F$32
Name furntype: 'User Input'!$S$26

Sheet User Input
D3: Residential Energy Cost & Emissions Calculator
E5: State/Province | F5: US Average | O5: Includes eGrid 2025 update (2023 data) | S5: =IFERROR(MATCH(F5,list_States,0),1) -> 1
Z6: =IF(c_PriceGas="Enter my own NG rates",TRUE,FALSE) -> FALSE | AA6: =IF(c_PriceElectricity="Enter my own electric rates",TRUE,FALSE) -> FALSE | AB6: =IF(c_PriceOil="Enter my own oil rates",TRUE,FALSE) -> FALSE | AC6: =IF(c_PricePropane="Enter my own propane rates",TRUE,FALSE) -> FALSE
E7: City (for U.S. states) | S7: =IFERROR(MATCH(F7,list_City,0),1) -> 1
Z8: =IF(c_PriceGas="Enter my own NG rates",FALSE,TRUE) -> TRUE | AA8: =IF(c_PriceElectricity="Enter my own electric rates",FALSE,TRUE) -> TRUE | AB8: =IF(c_PriceOil="Enter my own oil rates",FALSE,TRUE) -> TRUE | AC8: =IF(c_PricePropane="Enter my own propane rates",FALSE,TRUE) -> TRUE
E9: Central Station Emissions Profile | F9: eGrid Subregions Average Fossil | I9: {=IFERROR(_xlfn.IFS(AND(state<53,emisProfile=3),"Central Station Emissions Profile does not match.",AND(state>52,emisProfile<3),"Central Station Emissions Profile does not match."),"")} | S9: =IFERROR(MATCH(F9,list_Emission,0),1) -> 2
E11: ="" | F11: Natural Gas Price | G11: ="" | I11: Electricity Price | J11: ="" | L11: Oil Price | M11: ="" | O11: Propane Price | P11: =""
E12: Fuel and Electric Prices | F12: Use default NG rates | G12: ="" | I12: Use default electric rates | J12: ="" | L12: Use default oil rates | M12: ="" | O12: Use default propane rates | P12: ="" | S12: =IFERROR(MATCH(F12,list_Naturalgas,0),1) -> 1 | U12: =IFERROR(MATCH(I12,list_Electricity,0),1) -> 1 | W12: =IFERROR(MATCH(L12,list_Oil,0),1) -> 1 | Y12: =IFERROR(MATCH(O12,list_Propane,0),1) -> 1
E13: =IF(OR(NGrates=1,Erates=1,Orates=1,Prates=1),"Default Energy Rates","") -> Default Energy Rates | F13: =IF(NGrates=1,Calc!B117,"") -> 14.83 | G13: =IF(NGrates=1,"$/MMBtu","") -> $/MMBtu | H13: =F12="Use default NG rates" -> TRUE | I13: =IF(Erates=1,Calc!B116,"") -> 16 | J13: =IF(Erates=1,"cents/kWh","") -> cents/kWh | K13: =I12="Use default electric rates" -> TRUE | L13: =IF(Orates=1,Calc!B118,"") -> 4.28 | M13: =IF(Orates=1,"$/gal","") -> $/gal | N13: =L12="Use default oil rates" -> TRUE | O13: =IF(Prates=1,Calc!B119,"") -> 2.56 | P13: =IF(Prates=1,"$/gal","") -> $/gal | Q13: =O12="Use default propane rates" -> TRUE
E14: =IF(OR(NGrates=2,Erates=2,Orates=2,Prates=2),"User Input Energy Rates","") | F14: 14.1 | G14: =IF(NGrates=2,"$/MMBtu","") | H14: =NOT(H13) -> FALSE | I14: 17 | J14: =IF(Erates=2,"cents/kWh","") | K14: =NOT(K13) -> FALSE | L14: 4.1 | M14: =IF(Orates=2,"$/gal","") | N14: =NOT(N13) -> FALSE | O14: 3 | P14: =IF(Prates=2,"$/gal","") | Q14: =NOT(Q13) -> FALSE
D17: Space Heating System
E19: Square Footage of House (between 0 and 6,000 sqft) | F19: 2000 | G19: sqft
E21: Energy Source for Current Heating System | F21: Electric | S21: =IFERROR(MATCH(F21,list_EnergySource,0),1) -> 1
E22: {=IFERROR(_xlfn.IFS(AND(heattype=1,$S$23>4),"Please select a heating system type.",AND(heattype=2,$S$23>5),"Please select a heating system type."),"")}
E23: ="Current " & _xlfn.XLOOKUP(S21,Lists!G4:G7,Lists!H4:H7)&" Heating System Type" -> Current Electric Heating System Type | F23: Standard Effic. Heat Pump - 7.5 HSPF2 | S23: =IFERROR(MATCH(F23,list_ElectricHeating,0),1) -> 2
E25: Annual Space Heating Requirements | F25: =TEXT(Calc!B9,"0.0")&" MMBtu/yr" -> 49.6 MMBtu/yr
S26: =IFERROR(MATCH(F27,list_GasHeating,0),1) -> 1
E27: Type of Natural Gas Heating System To Compare | F27: Average Furnace (AFUE 80%)
D30: Water Heating
E32: Family Size | F32: 4
E34: Type of Current Water Heating System | F34: Electric | S34: =IFERROR(MATCH(F34,list_EnergySource,0),1) -> 1
E35: {=IFERROR(_xlfn.IFS(AND(wheattype=1,$S$36>4),"Please select a water heating system type.",AND(wheattype=2,$S$36>2),"Please select a water heating system type."),"")}
E36: ="Current " & _xlfn.XLOOKUP(S34,Lists!G4:G7,Lists!H4:H7)&" Water Heating System Type" -> Current Electric Water Heating System Type | F36: Standard: UEF = 0.92 | S36: =IFERROR(MATCH(F36,list_WaterElectricSystem,0),1) -> 1
E38: Annual Water Heating Requirements | F38: =Calc!B30 -> 16.329005 | G38: MMBtu/yr
E40: Type of Natural Gas Water Heating System To Compare | F40: Standard Tank: UEF = .58 | S40: =IFERROR(MATCH(F40,list_WaterHeatingGas,0),1) -> 1
D42: Clothes Dryer
E44: Type of Current Dryer | F44: Electric | S44: =IFERROR(MATCH(F44,list_Dryer,0),1) -> 1
E46: Loads per Week (national standard is 8 loads/week) | F46: 8
E48: Annual Dryer Heating Requriements | F48: =Calc!B48 -> 3.7212524 | G48: MMBtu/yr
E50: ="Standard Efficiency - "&_xlfn.XLOOKUP(S44,Lists!I4:I6,Lists!J4:J6) &" Dryer (7lb load)" -> Standard Efficiency - Electric Dryer (7lb load) | F50: =IF(dtype=1,3.73,3.3) -> 3.73 | G50: CEF
D53: Cooking
E55: Prepare meals on a range, cook top or oven | F55: Yes
E57: Type of Current System | F57: Electric | S57: =IFERROR(MATCH(F57,list_Dryer,0),1) -> 1
E59: =IF(ctype=1,"Annual Cooking Electric Requirements","Annual Cooking Heating Requirements") -> Annual Cooking Electric Requirements | F59: =IF(ctype=1,261,1.5) -> 261 | G59: =IF(ctype=1,"kWh/yr","MMBtu/yr") -> kWh/yr
E61: ="Standard Efficiency "&_xlfn.XLOOKUP(S57,Lists!I4:I6,Lists!J4:J6)&" Range" -> Standard Efficiency Electric Range | F61: =IF(ctype=1,0.74,0.4) -> 0.74
D66: Results | F66: Current Home | I66: Proposed Gas Home | L66: Savings with Natural Gas
F67: $/Year | I67: $/Year | L67: $/Year | O67: Percentage
D68: Energy Spending | F68: Consumed at House | I68: Consumed at House | L68: Savings | O68: Of current spending
E69: Space Heating | F69: =Calc!G133 -> 1180.4986 | I69: =Calc!H133 -> 920.17607 | L69: =F69-I69 -> 260.32256 | O69: =IF(L69=0,0,L69/F69) -> 0.22051915
E70: Water Heating | F70: =Calc!G134 -> 832.30567 | I70: =Calc!H134 -> 417.51577 | L70: =F70-I70 -> 414.78991 | O70: =IF(L70=0,0,L70/F70) -> 0.49836247
...

Sheet Lists
A1: Pick list lookups | H1: *lists below update based on fuel type
A3: A1 | B3: Furnace technology | H3: Type of Heating System to Compare | J3: Dryer/Cooking Types
A4: 1 | B4: Average Furnace (AFUE 80%) | C4: 0.8 | G4: 1 | H4: Electric | I4: 1 | J4: Electric
A5: 2 | B5: High Efficiency Furnace (AFUE 92%) | C5: 0.92 | G5: 2 | H5: Oil | I5: 2 | J5: Propane
A6: 3 | B6: Ultra High Effic. Furnace (AFUE 97%) | C6: 0.97 | G6: 3 | H6: Propane | I6: 3 | J6: Gas
A7: 4 | B7: Standard Boiler (AFUE 82%) | C7: 0.82 | G7: 4 | H7: Gas
A8: 5 | B8: Condensing Boiler (AFUE 92%) | C8: 0.92 | G8: Space | H8: =CHOOSE(heattype, "Electric", "Oil", "Propane", "Gas") -> Electric
A9: 6 | B9: Wall Hung Boiler (AFUE 96%) | C9: 0.96 | G9: Water | H9: =CHOOSE(wheattype, "Electric", "Oil", "Propane", "Gas") -> Electric
A10: 7 | B10: Gas Heat Pump (COP 1.4) | C10: 1.4
A11: B8 | B11: Egrid profile | G11: ="Space "&H8& " System" -> Space Electric System | H11: {=IFERROR(INDEX(CHOOSE(heattype, $B$87:$B$90, $H$87:$H$91, $L$87:$L$93, $B$4:$B$10), ROW(1:1)), "")} -> Electric Furnace/Strip Heat - 99% AFUE
A12: 1 | B12: eGRID Average All Sources 2010 | H12: {=IFERROR(INDEX(CHOOSE(heattype, $B$87:$B$90, $H$87:$H$91, $L$87:$L$93, $B$4:$B$10), ROW(2:2)), "")} -> Standard Effic. Heat Pump - 7.5 HSPF2
A13: 2 | B13: eGRID Average Fossil 2010 | H13: {=IFERROR(INDEX(CHOOSE(heattype, $B$87:$B$90, $H$87:$H$91, $L$87:$L$93, $B$4:$B$10), ROW(3:3)), "")} -> Energy Star Heat Pump - 7.8 HSPF2
A14: 3 | B14: Canadian Average All Sources 2011 | C14: *not used for calculations | H14: {=IFERROR(INDEX(CHOOSE(heattype, $B$87:$B$90, $H$87:$H$91, $L$87:$L$93, $B$4:$B$10), ROW(4:4)), "")} -> High Efficiency Heat Pump - 9 HSPF2
A15: 4 | H15: {=IFERROR(INDEX(CHOOSE(heattype, $B$87:$B$89, $H$87:$H$91, $L$87:$L$93, $B$4:$B$10), ROW(5:5)), "")}
A16: 5 | H16: {=IFERROR(INDEX(CHOOSE(heattype, $B$87:$B$89, $H$87:$H$91, $L$87:$L$93, $B$4:$B$10), ROW(6:6)), "")}
H17: {=IFERROR(INDEX(CHOOSE(heattype, $B$87:$B$89, $H$87:$H$91, $L$87:$L$93, $B$4:$B$10), ROW(7:7)), "")}
G18: ="Water "&H9& " System" -> Water Electric System | H18: {=IFERROR(INDEX(CHOOSE(wheattype,$B$104:$B$107,$H$96:$H$97,$L$96:$L$103, $B$94:$B$101), ROW(1:1)), "")} -> Standard: UEF = 0.92
H19: {=IFERROR(INDEX(CHOOSE(wheattype,$B$104:$B$107,$H$96:$H$97,$L$96:$L$103, $B$94:$B$101), ROW(2:2)), "")} -> High-Performing: UEF = 0.93
A20: B6 | B20: State | D20: Census Region | E20: Regional Factor | H20: {=IFERROR(INDEX(CHOOSE(wheattype,$B$104:$B$107,$H$96:$H$97,$L$96:$L$103, $B$94:$B$101), ROW(3:3)), "")} -> Whole Home Electric Tankless:UE = .91
A21: 1 | B21: US Average | C21: US | D21: US | E21: 1 | F21: =A21 -> 1 | H21: {=IFERROR(INDEX(CHOOSE(wheattype,$B$104:$B$107,$H$96:$H$97,$L$96:$L$103, $B$94:$B$101), ROW(4:4)), "")} -> Elec. Heat Pump Water Heater:UEF=3.0
A22: 2 | B22: Alaska | C22: AK | D22: Pacific | E22: 1 | F22: =A22 -> 2 | H22: {=IFERROR(INDEX(CHOOSE(wheattype,$B$104:$B$107,$H$96:$H$97,$L$96:$L$103, $B$94:$B$101), ROW(5:5)), "")}
A23: 3 | B23: Alabama | C23: AL | D23: East South Central | E23: 0.92 | F23: =A23 -> 3 | H23: {=IFERROR(INDEX(CHOOSE(wheattype,$B$104:$B$107,$H$96:$H$97,$L$96:$L$103, $B$94:$B$101), ROW(6:6)), "")}
A24: 4 | B24: Arkansas | C24: AR | D24: West South Central | E24: 0.88 | F24: =A24 -> 4 | H24: {=IFERROR(INDEX(CHOOSE(wheattype,$B$104:$B$107,$H$96:$H$97,$L$96:$L$103, $B$94:$B$101), ROW(7:7)), "")}
A25: 5 | B25: Arizona | C25: AZ | D25: Mountain | E25: 0.82 | F25: =A25 -> 5 | H25: {=IFERROR(INDEX(CHOOSE(wheattype,$B$104:$B$107,$H$96:$H$97,$L$96:$L$103, $B$94:$B$101), ROW(8:8)), "")}
A26: 6 | B26: California | C26: CA | D26: Pacific | E26: 0.75 | F26: =A26 -> 6
A27: 7 | B27: Colorado | C27: CO | D27: Mountain | E27: 0.82 | F27: =A27 -> 7
A28: 8 | B28: Connecticut | C28: CT | D28: New England | E28: 1.1 | F28: =A28 -> 8
A29: 9 | B29: District of Columbia | C29: DC | D29: South Atlantic | E29: 0.75 | F29: =A29 -> 9
A30: 10 | B30: Delaware | C30: DE | D30: South Atlantic | E30: 0.75 | F30: =A30 -> 10
A31: 11 | B31: Florida | C31: FL | D31: South Atlantic | E31: 0.75 | F31: =A31 -> 11
A32: 12 | B32: Georgia | C32: GA | D32: South Atlantic | E32: 0.75 | F32: =A32 -> 12
A33: 13 | B33: Hawaii | C33: HI | D33: Pacific | E33: 0.75 | F33: =A33 -> 13
A34: 14 | B34: Iowa | C34: IA | D34: West North Central | E34: 1.06 | F34: =A34 -> 14
A35: 15 | B35: Idaho | C35: ID | D35: Mountain | E35: 0.82 | F35: =A35 -> 15
A36: 16 | B36: Illinois | C36: IL | D36: East North Central | E36: 1.03 | F36: =A36 -> 16
A37: 17 | B37: Indiana | C37: IN | D37: East North Central | E37: 1.03 | F37: =A37 -> 17
... A83: 63 | B83: Saskatchewan | C83: SK | D83: East North Central | E83: 1.03 | F83: =A83 -> 63
A86: H3 | B86: What is the Efficiency of the Electric Heating System that is Being Displaced? | H86: What is the Efficiency of the Oil Heating System that is Being Displaced? | L86: What is the Efficiency of the Propane Heating System that is Being Displaced?
A87: 1 | B87: Electric Furnace/Strip Heat - 99% AFUE | G87: 1 | H87: Furnace ,non-weatherized (78% AFUE) | I87: 0.78 | K87: 1 | L87: Average Furnace (AFUE 80%) | M87: 0.8
A88: 2 | B88: Standard Effic. Heat Pump - 7.5 HSPF2 | D88: http://www.rheem.com/products/heating_and_cooling/heat_pumps/ | G88: 2 | H88: Avg furnace, after 5/1/13 (83% AFUE) | I88: 0.83 | K88: 2 | L88: High Efficiency Furnace (AFUE 92%) | M88: 0.92
...

Sheet Heating Load
D1: Heat Load | E1: 2,000 sqft | F1: 3,000 sqft | G1: 4,000 sqft | H1: slope | I1: intercept | K1: Selected sqft
B2: =activestate -> US | C2: =LOOKUP(city,Lists!G119:G133,Lists!H119:H133) | E2: =VLOOKUP(1,B4:E243,4,0) -> 49.469595 | F2: =VLOOKUP(1,B4:F243,5,0) -> 65.263808 | G2: =VLOOKUP(1,B4:G243,6,0) -> 80.043824 | H2: =SLOPE(E2:G2,homesize) -> 0.015287114 | I2: =INTERCEPT(E2:G2,homesize) -> 19.0644 | K2: =(sqft*H2)+I2 -> 49.638628
B3: Active | C3: State | D3: City | E3: Total Heating Load MMBtu (2000 sqft) | F3: Total Heating Load MMBtu (3000 sqft) | G3: Total Heating Load MMBtu (4000 sqft)
A4: 1 | B4: =IF(C4=activestate,IF(D4=C$2,1,0),0) -> 0 | C4: AK | D4: Anchorage | E4: 89.101272 | F4: 117.4405 | G4: 144.55022
A5: 2 | B5: =IF(C5=activestate,IF(D5=C$2,1,0),0) -> 0 | C5: AK | D5: Annette | E5: 52.489176 | F5: 68.8404 | G5: 84.332808
A6: 3 | B6: =IF(C6=activestate,IF(D6=C$2,1,0),0) -> 0 | C6: AK | D6: Bethel | E6: 130.0261 | F6: 173.18316 | G6: 213.78907
A7: 4 | B7: =IF(C7=activestate,IF(D7=C$2,1,0),0) -> 0 | C7: AK | D7: Big Delta | E7: 130.79268 | F7: 173.33462 | G7: 212.44766
A8: 5 | B8: =IF(C8=activestate,IF(D8=C$2,1,0),0) -> 0 | C8: AK | D8: Cold Bay | E8: 90.59724 | F8: 119.39069 | G8: 145.48884
A9: 6 | B9: =IF(C9=activestate,IF(D9=C$2,1,0),0) -> 0 | C9: AK | D9: Fairbanks | E9: 138.52142 | F9: 182.28103 | G9: 225.53659
A10: 7 | B10: =IF(C10=activestate,IF(D10=C$2,1,0),0) -> 0 | C10: AK | D10: Gulkana | E10: 125.00849 | F10: 164.8849 | G10: 203.18772
A11: 8 | B11: =IF(C11=activestate,IF(D11=C$2,1,0),0) -> 0 | C11: AK | D11: King Salmon | E11: 103.70273 | F11: 136.59804 | G11: 168.18247
A12: 9 | B12: =IF(C12=activestate,IF(D12=C$2,1,0),0) -> 0 | C12: AK | D12: Kodiak | E12: 71.07996 | F12: 93.19812 | G12: 114.29434
A13: 10 | B13: =IF(C13=activestate,IF(D13=C$2,1,0),0) -> 0 | C13: AK | D13: McGrath | E13: 135.15578 | F13: 177.43106 | G13: 219.12886
A14: 11 | B14: =IF(C14=activestate,IF(D14=C$2,1,0),0) -> 0 | C14: AK | D14: Nome | E14: 133.41173 | F14: 176.02452 | G14: 214.98792
A15: 12 | B15: =IF(C15=activestate,IF(D15=C$2,1,0),0) -> 0 | C15: AK | D15: St Paul Island | E15: 110.81215 | F15: 146.2098 | G15: 178.37767
... A205: 202 | B205: =IF(C205=activestate,IF(D205=C$2,1,0),0) -> 0 | C205: TX | D205: Wichita Falls | E205: 38.54712 | F205: 52.163184 | G205: 64.768224
A206: 203 | B206: =IF(C206=activestate,IF(D206=C$2,1,0),0) -> 1 | C206: US | E206: 49.469595 | F206: 65.263808 | G206: 80.043824
A207: 204 | B207: =IF(C207=activestate,IF(D207=C$2,1,0),0) -> 0 | C207: UT | D207: Cedar City | E207: 43.59312 | F207: 56.616816 | G207: 68.737176
A208: 205 | B208: =IF(C208=activestate,IF(D208=C$2,1,0),0) -> 0 | C208: UT | D208: Salt Lake City | E208: 44.005344 | F208: 57.794424 | G208: 70.2642
A209: 206 | B209: =IF(C209=activestate,IF(D209=C$2,1,0),0) -> 0 | C209: VA | D209: Lynchburg | E209: 39.168864 | F209: 51.492672 | G209: 62.641344
A210: 207 | B210: =IF(C210=activestate,IF(D210=C$2,1,0),0) -> 0 | C210: VA | D210: Norfolk | E210: 32.913144 | F210: 43.402824 | G210: 52.879296
A211: 208 | B211: =IF(C211=activestate,IF(D211=C$2,1,0),0) -> 0 | C211: VA | D211: Richmond | E211: 34.488624 | F211: 45.464592 | G211: 55.407768
A212: 209 | B212: =IF(C212=activestate,IF(D212=C$2,1,0),0) -> 0 | C212: VA | D212: Roanoke | E212: 39.25704 | F212: 51.707208 | G212: 62.977488
A213: 210 | B213: =IF(C213=activestate,IF(D213=C$2,1,0),0) -> 0 | C213: VA | D213: Sterling | E213: 50.067576 | F213: 65.946408 | G213: 80.356704
A214: 211 | B214: =IF(C214=activestate,IF(D214=C$2,1,0),0) -> 0 | C214: VT | D214: Burlington | E214: 70.03296 | F214: 92.243472 | G214: 113.56759
A215: 212 | B215: =IF(C215=activestate,IF(D215=C$2,1,0),0) -> 0 | C215: WA | D215: Olympia | E215: 42.373584 | F215: 55.387536 | G215: 68.060352
A216: 213 | B216: =IF(C216=activestate,IF(D216=C$2,1,0),0) -> 0 | C216: WA | D216: Quillayute | E216: 36.172008 | F216: 47.008344 | G216: 57.478992
A217: 214 | B217: =IF(C217=activestate,IF(D217=C$2,1,0),0) -> 0 | C217: WA | D217: Seattle | E217: 37.623504 | F217: 49.476528 | G217: 60.090984
A218: 215 | B218: =IF(C218=activestate,IF(D218=C$2,1,0),0) -> 0 | C218: WA | D218: Spokane | E218: 55.130376 | F218: 72.412344 | G218: 88.054128
... A232: 229 | B232: =IF(C232=activestate,IF(D232=C$2,1,0),0) -> 0 | C232: WY | D232: Sheridan | E232: 58.832976 | F232: 77.031696 | G232: 93.517656
A233: 230 | B233: =IF(C233=activestate,IF(D233=C$2,1,0),0) -> 0 | C233: AB | E233: 60.364008 | F233: 79.090272 | G233: 97.031616 | H233: Billings, MT
A234: 231 | B234: =IF(C234=activestate,IF(D234=C$2,1,0),0) -> 0 | C234: BC | E234: 37.623504 | F234: 49.476528 | G234: 60.090984 | H234: Seattle, WA
A235: 232 | B235: =IF(C235=activestate,IF(D235=C$2,1,0),0) -> 0 | C235: MB | E235: 76.195464 | F235: 100.31606 | G235: 123.49027 | H235: Green Bay, WI
A236: 233 | B236: =IF(C236=activestate,IF(D236=C$2,1,0),0) -> 0 | C236: NB | E236: 61.914264 | F236: 81.157488 | G236: 98.565888 | H236: Portland, ME
A237: 234 | B237: =IF(C237=activestate,IF(D237=C$2,1,0),0) -> 0 | C237: NF | E237: 89.101272 | F237: 117.4405 | G237: 144.55022 | H237: Anchorage, AK
A238: 235 | B238: =IF(C238=activestate,IF(D238=C$2,1,0),0) -> 0 | C238: NS | E238: 61.914264 | F238: 81.157488 | G238: 98.565888 | H238: Portland, ME
A239: 236 | B239: =IF(C239=activestate,IF(D239=C$2,1,0),0) -> 0 | C239: ON | E239: 64.708632 | F239: 84.684768 | G239: 104.37722 | H239: Lansing, MI
A240: 237 | B240: =IF(C240=activestate,IF(D240=C$2,1,0),0) -> 0 | C240: PE | E240: 61.914264 | F240: 81.157488 | G240: 98.565888 | H240: Portland, ME
A241: 238 | B241: =IF(C241=activestate,IF(D241=C$2,1,0),0) -> 0 | C241: QB | E241: 61.914264 | F241: 81.157488 | G241: 98.565888 | H241: Portland, ME
A242: 239 | B242: =IF(C242=activestate,IF(D242=C$2,1,0),0) -> 0 | C242: SK | E242: 86.61192 | F242: 114.30542 | G242: 141.06199 | H242: Fargo, ND
...

Sheet Adjusted HSPF
D1: HSPF | E1: 7.5 HSPF2 | F1: 7.8 HSPF2 | G1: 9 HSPF2
B2: =activestate -> US | C2: =LOOKUP(city,Lists!G119:G133,Lists!H119:H133) | E2: =VLOOKUP(1,B7:E246,4,0) -> 6.7278185 | F2: =VLOOKUP(1,B7:F246,5,0) -> 6.894932 | G2: =VLOOKUP(1,B7:G246,6,0) -> 7.6689392
J3: *values in row 6 are calculated HSPF based on HSPF2 values in row 1
E4: Adjusted HSPF when
E5: rated HSPF is:
C6: State | D6: City | E6: 8.8 | F6: 9.1 | G6: 10.6 | H6: ASHRAE Design Temp | K6: HSPF2 | L6: 7.5 | M6: 7.8 | N6: 9
A7: 1 | B7: =IF(C7=activestate,IF(D7='Heating Load'!C$2,1,0),0) -> 0 | C7: AK | D7: Anchorage | E7: =+E$6-(E$6*((0.1392+(-0.00846*$H7)+(-0.0001074*$H7^2)+(0.0228*E$6)))) -> 5.15944 | F7: =+F$6-(F$6*((0.1392+(-0.00846*$H7)+(-0.0001074*$H7^2)+(0.0228*F$6)))) -> 5.273086 | G7: =+G$6-(G$6*((0.1392+(-0.00846*$H7)+(-0.0001074*$H7^2)+(0.0228*G$6)))) -> 5.779756 | H7: -10 | K7: HSPF | L7: =L6/0.85 -> 8.8235294 | M7: =M6/0.85 -> 9.1764706 | N7: =N6/0.85 -> 10.588235
A8: 2 | B8: =IF(C8=activestate,IF(D8='Heating Load'!C$2,1,0),0) -> 0 | C8: AK | D8: Annette | E8: =+E$6-(E$6*((0.1392+(-0.00846*$H8)+(-0.0001074*$H8^2)+(0.0228*E$6)))) -> 7.3481637 | F8: =+F$6-(F$6*((0.1392+(-0.00846*$H8)+(-0.0001074*$H8^2)+(0.0228*F$6)))) -> 7.5364253 | G8: =+G$6-(G$6*((0.1392+(-0.00846*$H8)+(-0.0001074*$H8^2)+(0.0228*G$6)))) -> 8.4161732 | H8: 17
A9: 3 | B9: =IF(C9=activestate,IF(D9='Heating Load'!C$2,1,0),0) -> 0 | C9: AK | D9: Bethel | E9: =+E$6-(E$6*((0.1392+(-0.00846*$H9)+(-0.0001074*$H9^2)+(0.0228*E$6)))) -> 4.5670451 | F9: =+F$6-(F$6*((0.1392+(-0.00846*$H9)+(-0.0001074*$H9^2)+(0.0228*F$6)))) -> 4.6604958 | G9: =+G$6-(G$6*((0.1392+(-0.00846*$H9)+(-0.0001074*$H9^2)+(0.0228*G$6)))) -> 5.0661894 | H9: -24
A10: 4 | B10: =IF(C10=activestate,IF(D10='Heating Load'!C$2,1,0),0) -> 0 | C10: AK | D10: Big Delta | E10: =+E$6-(E$6*((0.1392+(-0.00846*$H10)+(-0.0001074*$H10^2)+(0.0228*E$6)))) -> 4.3434635 | F10: =+F$6-(F$6*((0.1392+(-0.00846*$H10)+(-0.0001074*$H10^2)+(0.0228*F$6)))) -> 4.4292921 | G10: =+G$6-(G$6*((0.1392+(-0.00846*$H10)+(-0.0001074*$H10^2)+(0.0228*G$6)))) -> 4.7968752 | H10: -39
A11: 5 | B11: =IF(C11=activestate,IF(D11='Heating Load'!C$2,1,0),0) -> 0 | C11: AK | D11: Cold Bay | E11: =+E$6-(E$6*((0.1392+(-0.00846*$H11)+(-0.0001074*$H11^2)+(0.0228*E$6)))) -> 6.6484 | F11: =+F$6-(F$6*((0.1392+(-0.00846*$H11)+(-0.0001074*$H11^2)+(0.0228*F$6)))) -> 6.812806 | G11: =+G$6-(G$6*((0.1392+(-0.00846*$H11)+(-0.0001074*$H11^2)+(0.0228*G$6)))) -> 7.573276 | H11: 10
A12: 6 | B12: =IF(C12=activestate,IF(D12='Heating Load'!C$2,1,0),0) -> 0 | C12: AK | D12: Fairbanks | E12: =+E$6-(E$6*((0.1392+(-0.00846*$H12)+(-0.0001074*$H12^2)+(0.0228*E$6)))) -> 4.3541555 | F12: =+F$6-(F$6*((0.1392+(-0.00846*$H12)+(-0.0001074*$H12^2)+(0.0228*F$6)))) -> 4.4403486 | G12: =+G$6-(G$6*((0.1392+(-0.00846*$H12)+(-0.0001074*$H12^2)+(0.0228*G$6)))) -> 4.8097542 | H12: -36
A13: 7 | B13: =IF(C13=activestate,IF(D13='Heating Load'!C$2,1,0),0) -> 0 | C13: AK | D13: Gulkana | E13: =+E$6-(E$6*((0.1392+(-0.00846*$H13)+(-0.0001074*$H13^2)+(0.0228*E$6)))) -> 4.3434635 | F13: =+F$6-(F$6*((0.1392+(-0.00846*$H13)+(-0.0001074*$H13^2)+(0.0228*F$6)))) -> 4.4292921 | G13: =+G$6-(G$6*((0.1392+(-0.00846*$H13)+(-0.0001074*$H13^2)+(0.0228*G$6)))) -> 4.7968752 | H13: -39
A14: 8 | B14: =IF(C14=activestate,IF(D14='Heating Load'!C$2,1,0),0) -> 0 | C14: AK | D14: King Salmon | E14: =+E$6-(E$6*((0.1392+(-0.00846*$H14)+(-0.0001074*$H14^2)+(0.0228*E$6)))) -> 4.7360843 | F14: =+F$6-(F$6*((0.1392+(-0.00846*$H14)+(-0.0001074*$H14^2)+(0.0228*F$6)))) -> 4.8352977 | G14: =+G$6-(G$6*((0.1392+(-0.00846*$H14)+(-0.0001074*$H14^2)+(0.0228*G$6)))) -> 5.2698048 | H14: -19
A15: 9 | B15: =IF(C15=activestate,IF(D15='Heating Load'!C$2,1,0),0) -> 0 | C15: AK | D15: Kodiak | E15: =+E$6-(E$6*((0.1392+(-0.00846*$H15)+(-0.0001074*$H15^2)+(0.0228*E$6)))) -> 6.8388813 | F15: =+F$6-(F$6*((0.1392+(-0.00846*$H15)+(-0.0001074*$H15^2)+(0.0228*F$6)))) -> 7.009781 | G15: =+G$6-(G$6*((0.1392+(-0.00846*$H15)+(-0.0001074*$H15^2)+(0.0228*G$6)))) -> 7.8027194 | H15: 12
A16: 10 | B16: =IF(C16=activestate,IF(D16='Heating Load'!C$2,1,0),0) -> 0 | C16: AK | D16: McGrath | E16: =+E$6-(E$6*((0.1392+(-0.00846*$H16)+(-0.0001074*$H16^2)+(0.0228*E$6)))) -> 4.3497837 | F16: =+F$6-(F$6*((0.1392+(-0.00846*$H16)+(-0.0001074*$H16^2)+(0.0228*F$6)))) -> 4.4358278 | G16: =+G$6-(G$6*((0.1392+(-0.00846*$H16)+(-0.0001074*$H16^2)+(0.0228*G$6)))) -> 4.8044882 | H16: -42
A17: 11 | B17: =IF(C17=activestate,IF(D17='Heating Load'!C$2,1,0),0) -> 0 | C17: AK | D17: Nome | E17: =+E$6-(E$6*((0.1392+(-0.00846*$H17)+(-0.0001074*$H17^2)+(0.0228*E$6)))) -> 4.5126611 | F17: =+F$6-(F$6*((0.1392+(-0.00846*$H17)+(-0.0001074*$H17^2)+(0.0228*F$6)))) -> 4.6042578 | G17: =+G$6-(G$6*((0.1392+(-0.00846*$H17)+(-0.0001074*$H17^2)+(0.0228*G$6)))) -> 5.0006814 | H17: -26
A18: 12 | B18: =IF(C18=activestate,IF(D18='Heating Load'!C$2,1,0),0) -> 0 | C18: AK | D18: St Paul Island | E18: =+E$6-(E$6*((0.1392+(-0.00846*$H18)+(-0.0001074*$H18^2)+(0.0228*E$6)))) -> 6.0412581 | F18: =+F$6-(F$6*((0.1392+(-0.00846*$H18)+(-0.0001074*$H18^2)+(0.0228*F$6)))) -> 6.1849661 | G18: =+G$6-(G$6*((0.1392+(-0.00846*$H18)+(-0.0001074*$H18^2)+(0.0228*G$6)))) -> 6.841946 | H18: 3
A19: 13 | B19: =IF(C19=activestate,IF(D19='Heating Load'!C$2,1,0),0) -> 0 | C19: AK | D19: Talkeetna | E19: =+E$6-(E$6*((0.1392+(-0.00846*$H19)+(-0.0001074*$H19^2)+(0.0228*E$6)))) -> 4.6627979 | F19: =+F$6-(F$6*((0.1392+(-0.00846*$H19)+(-0.0001074*$H19^2)+(0.0228*F$6)))) -> 4.7595129 | G19: =+G$6-(G$6*((0.1392+(-0.00846*$H19)+(-0.0001074*$H19^2)+(0.0228*G$6)))) -> 5.181528 | H19: -21
... A208: 202 | B208: =IF(C208=activestate,IF(D208='Heating Load'!C$2,1,0),0) -> 0 | C208: TX | D208: Wichita Falls | E208: =+E$6-(E$6*((0.1392+(-0.00846*$H208)+(-0.0001074*$H208^2)+(0.0228*E$6)))) -> 7.5651083 | F208: =+F$6-(F$6*((0.1392+(-0.00846*$H208)+(-0.0001074*$H208^2)+(0.0228*F$6)))) -> 7.7607657 | G208: =+G$6-(G$6*((0.1392+(-0.00846*$H208)+(-0.0001074*$H208^2)+(0.0228*G$6)))) -> 8.6774928 | H208: 19
A209: 203 | B209: =IF(C209=activestate,IF(D209='Heating Load'!C$2,1,0),0) -> 1 | C209: US | E209: =+E$6-(E$6*((0.1392+(-0.00846*$H209)+(-0.0001074*$H209^2)+(0.0228*E$6)))) -> 6.7278185 | F209: =+F$6-(F$6*((0.1392+(-0.00846*$H209)+(-0.0001074*$H209^2)+(0.0228*F$6)))) -> 6.894932 | G209: =+G$6-(G$6*((0.1392+(-0.00846*$H209)+(-0.0001074*$H209^2)+(0.0228*G$6)))) -> 7.6689392 | H209: 10.843553
A210: 204 | B210: =IF(C210=activestate,IF(D210='Heating Load'!C$2,1,0),0) -> 0 | C210: UT | D210: Cedar City | E210: =+E$6-(E$6*((0.1392+(-0.00846*$H210)+(-0.0001074*$H210^2)+(0.0228*E$6)))) -> 6.4654797 | F210: =+F$6-(F$6*((0.1392+(-0.00846*$H210)+(-0.0001074*$H210^2)+(0.0228*F$6)))) -> 6.6236498 | G210: =+G$6-(G$6*((0.1392+(-0.00846*$H210)+(-0.0001074*$H210^2)+(0.0228*G$6)))) -> 7.3529402 | H210: 8
A211: 205 | B211: =IF(C211=activestate,IF(D211='Heating Load'!C$2,1,0),0) -> 0 | C211: UT | D211: Salt Lake City | E211: =+E$6-(E$6*((0.1392+(-0.00846*$H211)+(-0.0001074*$H211^2)+(0.0228*E$6)))) -> 6.7426955 | F211: =+F$6-(F$6*((0.1392+(-0.00846*$H211)+(-0.0001074*$H211^2)+(0.0228*F$6)))) -> 6.9103161 | G211: =+G$6-(G$6*((0.1392+(-0.00846*$H211)+(-0.0001074*$H211^2)+(0.0228*G$6)))) -> 7.6868592 | H211: 11
A212: 206 | B212: =IF(C212=activestate,IF(D212='Heating Load'!C$2,1,0),0) -> 0 | C212: VA | D212: Lynchburg | E212: =+E$6-(E$6*((0.1392+(-0.00846*$H212)+(-0.0001074*$H212^2)+(0.0228*E$6)))) -> 7.3481637 | F212: =+F$6-(F$6*((0.1392+(-0.00846*$H212)+(-0.0001074*$H212^2)+(0.0228*F$6)))) -> 7.5364253 | G212: =+G$6-(G$6*((0.1392+(-0.00846*$H212)+(-0.0001074*$H212^2)+(0.0228*G$6)))) -> 8.4161732 | H212: 17
A213: 207 | B213: =IF(C213=activestate,IF(D213='Heating Load'!C$2,1,0),0) -> 0 | C213: VA | D213: Norfolk | E213: =+E$6-(E$6*((0.1392+(-0.00846*$H213)+(-0.0001074*$H213^2)+(0.0228*E$6)))) -> 8.1405491 | F213: =+F$6-(F$6*((0.1392+(-0.00846*$H213)+(-0.0001074*$H213^2)+(0.0228*F$6)))) -> 8.3558238 | G213: =+G$6-(G$6*((0.1392+(-0.00846*$H213)+(-0.0001074*$H213^2)+(0.0228*G$6)))) -> 9.3706374 | H213: 24
A214: 208 | B214: =IF(C214=activestate,IF(D214='Heating Load'!C$2,1,0),0) -> 0 | C214: VA | D214: Richmond | E214: =+E$6-(E$6*((0.1392+(-0.00846*$H214)+(-0.0001074*$H214^2)+(0.0228*E$6)))) -> 7.4556909 | F214: =+F$6-(F$6*((0.1392+(-0.00846*$H214)+(-0.0001074*$H214^2)+(0.0228*F$6)))) -> 7.6476182 | G214: =+G$6-(G$6*((0.1392+(-0.00846*$H214)+(-0.0001074*$H214^2)+(0.0228*G$6)))) -> 8.5456946 | H214: 18
A215: 209 | B215: =IF(C215=activestate,IF(D215='Heating Load'!C$2,1,0),0) -> 0 | C215: VA | D215: Roanoke | E215: =+E$6-(E$6*((0.1392+(-0.00846*$H215)+(-0.0001074*$H215^2)+(0.0228*E$6)))) -> 7.3481637 | F215: =+F$6-(F$6*((0.1392+(-0.00846*$H215)+(-0.0001074*$H215^2)+(0.0228*F$6)))) -> 7.5364253 | G215: =+G$6-(G$6*((0.1392+(-0.00846*$H215)+(-0.0001074*$H215^2)+(0.0228*G$6)))) -> 8.4161732 | H215: 17
A216: 210 | B216: =IF(C216=activestate,IF(D216='Heating Load'!C$2,1,0),0) -> 0 | C216: VA | D216: Sterling | E216: =+E$6-(E$6*((0.1392+(-0.00846*$H216)+(-0.0001074*$H216^2)+(0.0228*E$6)))) -> 7.0369235 | F216: =+F$6-(F$6*((0.1392+(-0.00846*$H216)+(-0.0001074*$H216^2)+(0.0228*F$6)))) -> 7.2145746 | G216: =+G$6-(G$6*((0.1392+(-0.00846*$H216)+(-0.0001074*$H216^2)+(0.0228*G$6)))) -> 8.0412702 | H216: 14
A217: 211 | B217: =IF(C217=activestate,IF(D217='Heating Load'!C$2,1,0),0) -> 0 | C217: VT | D217: Burlington | E217: =+E$6-(E$6*((0.1392+(-0.00846*$H217)+(-0.0001074*$H217^2)+(0.0228*E$6)))) -> 5.3967443 | F217: =+F$6-(F$6*((0.1392+(-0.00846*$H217)+(-0.0001074*$H217^2)+(0.0228*F$6)))) -> 5.5184802 | G217: =+G$6-(G$6*((0.1392+(-0.00846*$H217)+(-0.0001074*$H217^2)+(0.0228*G$6)))) -> 6.0655998 | H217: -6
A218: 212 | B218: =IF(C218=activestate,IF(D218='Heating Load'!C$2,1,0),0) -> 0 | C218: WA | D218: Olympia | E218: =+E$6-(E$6*((0.1392+(-0.00846*$H218)+(-0.0001074*$H218^2)+(0.0228*E$6)))) -> 8.0216805 | F218: =+F$6-(F$6*((0.1392+(-0.00846*$H218)+(-0.0001074*$H218^2)+(0.0228*F$6)))) -> 8.2329029 | G218: =+G$6-(G$6*((0.1392+(-0.00846*$H218)+(-0.0001074*$H218^2)+(0.0228*G$6)))) -> 9.2274548 | H218: 23
A219: 213 | B219: =IF(C219=activestate,IF(D219='Heating Load'!C$2,1,0),0) -> 0 | C219: WA | D219: Quillayute | E219: =+E$6-(E$6*((0.1392+(-0.00846*$H219)+(-0.0001074*$H219^2)+(0.0228*E$6)))) -> 8.5084965 | F219: =+F$6-(F$6*((0.1392+(-0.00846*$H219)+(-0.0001074*$H219^2)+(0.0228*F$6)))) -> 8.7363149 | G219: =+G$6-(G$6*((0.1392+(-0.00846*$H219)+(-0.0001074*$H219^2)+(0.0228*G$6)))) -> 9.8138468 | H219: 27
A220: 214 | B220: =IF(C220=activestate,IF(D220='Heating Load'!C$2,1,0),0) -> 0 | C220: WA | D220: Seattle | E220: =+E$6-(E$6*((0.1392+(-0.00846*$H220)+(-0.0001074*$H220^2)+(0.0228*E$6)))) -> 8.6349261 | F220: =+F$6-(F$6*((0.1392+(-0.00846*$H220)+(-0.0001074*$H220^2)+(0.0228*F$6)))) -> 8.8670546 | G220: =+G$6-(G$6*((0.1392+(-0.00846*$H220)+(-0.0001074*$H220^2)+(0.0228*G$6)))) -> 9.966137 | H220: 28
A221: 215 | B221: =IF(C221=activestate,IF(D221='Heating Load'!C$2,1,0),0) -> 0 | C221: WA | D221: Spokane | E221: =+E$6-(E$6*((0.1392+(-0.00846*$H221)+(-0.0001074*$H221^2)+(0.0228*E$6)))) -> 6.3768549 | F221: =+F$6-(F$6*((0.1392+(-0.00846*$H221)+(-0.0001074*$H221^2)+(0.0228*F$6)))) -> 6.5320037 | G221: =+G$6-(G$6*((0.1392+(-0.00846*$H221)+(-0.0001074*$H221^2)+(0.0228*G$6)))) -> 7.2461876 | H221: 7
... A235: 229 | B235: =IF(C235=activestate,IF(D235='Heating Load'!C$2,1,0),0) -> 0 | C235: WY | D235: Sheridan | E235: =+E$6-(E$6*((0.1392+(-0.00846*$H235)+(-0.0001074*$H235^2)+(0.0228*E$6)))) -> 5.2743117 | F235: =+F$6-(F$6*((0.1392+(-0.00846*$H235)+(-0.0001074*$H235^2)+(0.0228*F$6)))) -> 5.3918738 | G235: =+G$6-(G$6*((0.1392+(-0.00846*$H235)+(-0.0001074*$H235^2)+(0.0228*G$6)))) -> 5.9181242 | H235: -8
A236: 230 | B236: =IF(C236=activestate,IF(D236='Heating Load'!C$2,1,0),0) -> 0 | C236: AB | E236: =+E$6-(E$6*((0.1392+(-0.00846*$H236)+(-0.0001074*$H236^2)+(0.0228*E$6)))) -> 5.3345829 | F236: =+F$6-(F$6*((0.1392+(-0.00846*$H236)+(-0.0001074*$H236^2)+(0.0228*F$6)))) -> 5.4541997 | G236: =+G$6-(G$6*((0.1392+(-0.00846*$H236)+(-0.0001074*$H236^2)+(0.0228*G$6)))) -> 5.9907236 | H236: -7 | I236: Billings, MT
A237: 231 | B237: =IF(C237=activestate,IF(D237='Heating Load'!C$2,1,0),0) -> 0 | C237: BC | E237: =+E$6-(E$6*((0.1392+(-0.00846*$H237)+(-0.0001074*$H237^2)+(0.0228*E$6)))) -> 8.6349261 | F237: =+F$6-(F$6*((0.1392+(-0.00846*$H237)+(-0.0001074*$H237^2)+(0.0228*F$6)))) -> 8.8670546 | G237: =+G$6-(G$6*((0.1392+(-0.00846*$H237)+(-0.0001074*$H237^2)+(0.0228*G$6)))) -> 9.966137 | H237: 28 | I237: Seattle, WA
A238: 232 | B238: =IF(C238=activestate,IF(D238='Heating Load'!C$2,1,0),0) -> 0 | C238: MB | E238: =+E$6-(E$6*((0.1392+(-0.00846*$H238)+(-0.0001074*$H238^2)+(0.0228*E$6)))) -> 5.2743117 | F238: =+F$6-(F$6*((0.1392+(-0.00846*$H238)+(-0.0001074*$H238^2)+(0.0228*F$6)))) -> 5.3918738 | G238: =+G$6-(G$6*((0.1392+(-0.00846*$H238)+(-0.0001074*$H238^2)+(0.0228*G$6)))) -> 5.9181242 | H238: -8 | I238: Green Bay, WI
A239: 233 | B239: =IF(C239=activestate,IF(D239='Heating Load'!C$2,1,0),0) -> 0 | C239: NB | E239: =+E$6-(E$6*((0.1392+(-0.00846*$H239)+(-0.0001074*$H239^2)+(0.0228*E$6)))) -> 5.9620845 | F239: =+F$6-(F$6*((0.1392+(-0.00846*$H239)+(-0.0001074*$H239^2)+(0.0228*F$6)))) -> 6.1030934 | G239: =+G$6-(G$6*((0.1392+(-0.00846*$H239)+(-0.0001074*$H239^2)+(0.0228*G$6)))) -> 6.7465778 | H239: 2 | I239: Portland, ME
A240: 234 | B240: =IF(C240=activestate,IF(D240='Heating Load'!C$2,1,0),0) -> 0 | C240: NF | E240: =+E$6-(E$6*((0.1392+(-0.00846*$H240)+(-0.0001074*$H240^2)+(0.0228*E$6)))) -> 5.15944 | F240: =+F$6-(F$6*((0.1392+(-0.00846*$H240)+(-0.0001074*$H240^2)+(0.0228*F$6)))) -> 5.273086 | G240: =+G$6-(G$6*((0.1392+(-0.00846*$H240)+(-0.0001074*$H240^2)+(0.0228*G$6)))) -> 5.779756 | H240: -10 | I240: Anchorage, AK
A241: 235 | B241: =IF(C241=activestate,IF(D241='Heating Load'!C$2,1,0),0) -> 0 | C241: NS | E241: =+E$6-(E$6*((0.1392+(-0.00846*$H241)+(-0.0001074*$H241^2)+(0.0228*E$6)))) -> 5.9620845 | F241: =+F$6-(F$6*((0.1392+(-0.00846*$H241)+(-0.0001074*$H241^2)+(0.0228*F$6)))) -> 6.1030934 | G241: =+G$6-(G$6*((0.1392+(-0.00846*$H241)+(-0.0001074*$H241^2)+(0.0228*G$6)))) -> 6.7465778 | H241: 2 | I241: Portland, ME
...

Sheet AppTech
A1: Appliance Technologies
A3: Furnace | B3: Selected
B4: Technology
B5: =furntype -> 1 | C5: 1 | D5: 2 | E5: 3 | F5: 4 | G5: 5
B6: =LOOKUP(B$5,C$5:R$5,C6:R6) -> Average Furnace | C6: Average Furnace | D6: High Efficiency Furnace | E6: Condensing Furnace | F6: Standard Boiler | G6: Condensing Boiler
A7: Capacity (RT) | B7: =LOOKUP(B$5,C$5:R$5,C7:R7) -> 0
A8: CapLow (RT) | B8: =LOOKUP(B$5,C$5:R$5,C8:R8) -> 38000 | C8: 38000 | D8: 38000 | E8: 38000 | F8: 38000 | G8: 38000
A9: CapHigh (RT) | B9: =LOOKUP(B$5,C$5:R$5,C9:R9) -> 128000 | C9: 128000 | D9: 128000 | E9: 128000 | F9: 128000 | G9: 128000
A11: Fuel | B11: Natural Gas | C11: Natural Gas | D11: Natural Gas | E11: Natural Gas | F11: Natural Gas | G11: Natural Gas
A13: AFUE | B13: =LOOKUP(B$5,C$5:R$5,C13:R13) -> 0.8 | C13: 0.8 | D13: 0.92 | E13: 0.966 | F13: 0.85 | G13: 0.92
A14: NOx lb/MMBtu | B14: =LOOKUP(B$5,C$5:R$5,C14:R14) -> 0.092 | C14: 0.092 | D14: 0.092 | E14: 0.092 | F14: 0.092 | G14: 0.092
A15: SO2 lb/MMBtu | B15: =LOOKUP(B$5,C$5:R$5,C15:R15) -> 0.000584 | C15: 0.000584 | D15: 0.000584 | E15: 0.000584 | F15: 0.000584 | G15: 0.000584
A16: CO2 lb/MMBtu | B16: =LOOKUP(B$5,C$5:R$5,C16:R16) -> 117 | C16: 117 | D16: 117 | E16: 117 | F16: 117 | G16: 117
A20: Natural Gas Cooktop Range
A21: Efficiency | B21: 0.4
A24: Electric Cooktop Range | H24: *not being used
A25: Efficiency | B25: 0.74
A32: Number in Household | B32: Hot Water Demand - Gal/day | C32: Hot Water Demand - Btu/day | D32: Hot Water Demand - MMBtu/year
A33: 0 | B33: 0 | C33: 0 | D33: 0
A34: 1 | B34: 35 | C34: =B34*77*8.3 -> 22368.5 | D34: =C34*365/1000000 -> 8.1645025
A35: 2 | B35: 47.5 | C35: =B35*77*8.3 -> 30357.25 | D35: =C35*365/1000000 -> 11.080396
A36: 3 | B36: 60 | C36: =B36*77*8.3 -> 38346 | D36: =C36*365/1000000 -> 13.99629
A37: 4 | B37: 70 | C37: =B37*77*8.3 -> 44737 | D37: =C37*365/1000000 -> 16.329005
A38: 5 | B38: 80 | C38: =B38*77*8.3 -> 51128 | D38: =C38*365/1000000 -> 18.66172
A39: 6 | B39: 90 | C39: =B39*77*8.3 -> 57519 | D39: =C39*365/1000000 -> 20.994435
A40: 7 | B40: 100 | C40: =B40*77*8.3 -> 63910 | D40: =C40*365/1000000 -> 23.32715
A41: 8 | B41: 110 | C41: =B41*77*8.3 -> 70301 | D41: =C41*365/1000000 -> 25.659865
A42: 9 | B42: 120 | C42: =B42*77*8.3 -> 76692 | D42: =C42*365/1000000 -> 27.99258
A43: 10 | B43: 130 | C43: =B43*77*8.3 -> 83083 | D43: =C43*365/1000000 -> 30.325295
A44: 11 | B44: 140 | C44: =B44*77*8.3 -> 89474 | D44: =C44*365/1000000 -> 32.65801
A45: 12 | B45: 150 | C45: =B45*77*8.3 -> 95865 | D45: =C45*365/1000000 -> 34.990725
... A53: 20 | B53: 230 | C53: =B53*77*8.3 -> 146993 | D53: =C53*365/1000000 -> 53.652445

Sheet Calc
D3: Heat Type | E3: =heattype -> 1
A4: Space Heating | D4: Water Heat Type | E4: =wheattype -> 1
A6: House Square Footage | B6: =sqft -> 2000
A7: NG Heating System Type | B7: =furntype -> 1 | C7: =LOOKUP(B7,Lists!A4:A10,Lists!B4:B10) -> Average Furnace (AFUE 80%) | F7: Current System
A8: NG Heating AFUE | B8: =_xlfn.XLOOKUP(furntype,Lists!A4:A10,Lists!C4:C10) -> 0.8 | F8: Oil Heating System Type | G8: {=_xlfn.IFS(E3=2,'User Input'!S23,E3=1,"",E3=3,"",E3=4,"")} | H8: =IFERROR(_xlfn.XLOOKUP(G8,Lists!G87:G91,Oil),"") | I8: Gas Heating System Type | J8: {=_xlfn.IFS(E3=4,'User Input'!S23,E3=1,"",E3=2,"",E3=3,"")} | K8: =IFERROR(_xlfn.XLOOKUP(J8,Lists!A4:A10,Lists!B4:B10),"")
A9: Heating Load (MMBtu) | B9: =IF(sqft=0,0,heatload) -> 49.638628 | C9: MMBtu/yr | F9: AFUE | G9: =IFERROR(_xlfn.XLOOKUP(G8,Lists!G87:G91,Lists!I87:I91),"") | I9: AFUE | J9: =IFERROR(_xlfn.XLOOKUP(J8,Lists!A4:A10,Lists!C4:C10),"")
A10: NG Consumption (MMBtu) | B10: =B9/B8 -> 62.048285 | C10: MMBtu/yr | F10: Oil Consumption (MMBtu) | G10: =IFERROR(B9/G9,"") | H10: MMBtu/yr | I10: Gas Consumption | J10: =IFERROR(B9/J9,0) -> 0 | K10: MMBtu/yr
A11: CO2 Emissions | B11: =B10*'Carbon Calculator'!E105 -> 7299.7982 | C11: lbs/yr | F11: Oil Consumption (gal) | G11: =IFERROR(G10/0.137381,0) -> 0 | H11: gal/yr | I11: CO2 Emissions | J11: =J10*'Carbon Calculator'!E105 -> 0 | K11: lbs/yr
F12: CO2 Emissions | G12: =G11*'Carbon Calculator'!E111/1000 -> 0 | H12: lbs/yr
A13: Electric Heating System Type | B13: {=_xlfn.IFS(E3=1,'User Input'!S23,E3=2,"",E3=3,"",E3=4,"")} -> 2 | C13: =IFERROR(LOOKUP(B13,Lists!A87:A90,Lists!B87:B89),"") -> Standard Effic. Heat Pump - 7.5 HSPF2
A14: Adjusted HSPF | B14: =IF(B13=2,'Adjusted HSPF'!E2,IF(B13=3,'Adjusted HSPF'!F2,IF(B13=4,'Adjusted HSPF'!G2,0))) -> 6.7278185 | F14: Propane Heating System Type | G14: {=_xlfn.IFS(E3=3,'User Input'!S23,E3=1,"",E3=2,"",E3=4,"")} | H14: =IF(E3=3,_xlfn.XLOOKUP(G14,Lists!K87:K93,Lists!L87:L93),"")
A15: Electric Resistance AFUE | B15: =IF(B13=1,0.99,0) -> 0 | F15: AFUE | G15: =IF(E3=3,_xlfn.XLOOKUP(G14,Lists!K87:K93,Lists!M87:M93),"")
F16: Propane Consumption (MMBtu) | G16: =IFERROR(B9/G15,"") | H16: MMBtu/yr
A17: Displaced Electricity (house) | B17: =IFERROR(IF(B13=1,B9/3412*1000/B15,B9/B14),0) -> 7.3781164 | C17: MWh/yr | F17: Propane Consumption (gal) | G17: =IFERROR(G16/0.0916,0) -> 0 | H17: gal/yr
A18: Displaced Electric Generation | B18: =B17/(1-'Carbon Calculator'!E80) -> 7.7910416 | C18: MWh/yr | F18: CO2 Emissions | G18: =G17*'Carbon Calculator'!E108/1000 -> 0 | H18: lbs/yr
A19: Generation Fuel Consumption | B19: =B18*'Carbon Calculator'!E101/1000 -> 67.51316 | C19: MMBtu/yr
A20: CO2 Emissions | B20: =B18*'Carbon Calculator'!E102 -> 9896.6407 | C20: lbs/yr
A23: Water Heating
A25: Family Size | B25: =famsize -> 4 | F25: Oil Water Heat Type | G25: {=_xlfn.IFS(E4=2,'User Input'!S36,E4=1,"",E4=3,"",E4=4,"")} | H25: =IFERROR(_xlfn.XLOOKUP(G25,Lists!G96,Lists!H96),"") | I25: Gas Water Heat Type | J25: {=_xlfn.IFS(E4=4,'User Input'!S36,E4=1,"",E4=3,"",E4=2,"")} | K25: =IFERROR(_xlfn.XLOOKUP(J25,Lists!A94:A101,Lists!B94:B101),"")
A26: NG Water Heat Type | B26: =gasWHtype -> 1 | C26: =LOOKUP(B26,Lists!A94:A101,Lists!B94:B101) -> Standard Tank: UEF = .58 | F26: Oil Energy Factor (UEF) | G26: =IFERROR(_xlfn.XLOOKUP(G25,Lists!G96:G97,Lists!I96:I97),"") | I26: Gas Updated Energy Factor (UEF) | J26: =IFERROR(_xlfn.XLOOKUP(J25,Lists!A94:A101,Lists!C94:C101),"")
A27: NG Updated Energy Factor (UEF) | B27: =LOOKUP(gasWHtype,Lists!A94:A101,Lists!C94:C101) -> 0.58
A28: Regional load factor | B28: =LOOKUP(state,Lists!A21:A83,Lists!E21:E83) -> 1 | F28: Oil Consumption (MMBtu) | G28: =IFERROR((B30/G26*B28),"") | H28: MMBtu/yr | I28: NG Consumption (MMBtu) | J28: =IFERROR(IF(B25=0,0,IF(B27=0,0,(B30/J26*B28))),0) -> 0 | K28: MMBtu/yr
F29: Oil Consumption (gal) | G29: =IFERROR(G28/0.137381,0) -> 0 | H29: gal/yr | I29: CO2 Emissions | J29: =J28*'Carbon Calculator'!E105 -> 0 | K29: lbs/yr
A30: Water Heating Load (MMBtu) | B30: =LOOKUP(famsize,AppTech!A33:A53,AppTech!D33:D53) -> 16.329005 | C30: MMBtu/yr | F30: CO2 Emissions | G30: =G29*'Carbon Calculator'!E111/1000 -> 0 | H30: lbs/yr
A31: NG Consumption (MMBtu) | B31: =IF(B25=0,0,IF(B27=0,0,(B30/B27*B28))) -> 28.153457 | C31: MMBtu/yr
A32: CO2 Emissions | B32: =B31*'Carbon Calculator'!E105 -> 3312.1714 | C32: lbs/yr
A34: Elec Water Heat Type | B34: {=_xlfn.IFS(E4=1,'User Input'!S36,E4=2,"",E4=3,"",E4=4,"")} -> 1 | C34: =IFERROR(LOOKUP(B34,Lists!A104:A107,Lists!B104:B107),"") -> Standard: UEF = 0.92 | F34: Propane Water Heat Type | G34: {=_xlfn.IFS(E4=3,'User Input'!S36,E4=1,"",E4=2,"",E4=4,"")} | H34: =IFERROR(_xlfn.XLOOKUP(G34,Lists!K96:K103,Lists!L96:L103),"")
A35: Updated Elec Energy Factor (UEF) | B35: =IFERROR(LOOKUP(B34,Lists!A104:A107,Lists!C104:C107),"") -> 0.92 | F35: Propane Updated Energy Factor (UEF) | G35: =IFERROR(_xlfn.XLOOKUP(G34,Lists!K96:K103,Lists!M96:M103),"")
A36: Displaced Electricity (house) | B36: =IFERROR(B30*B28/B35/3412*1000,0) -> 5.2019105 | C36: MWh/yr
A37: Displaced Electric Generation | B37: =B36/(1-'Carbon Calculator'!E80) -> 5.4930417 | C37: MWh/yr | F37: Propane Consumption (MMBtu) | G37: =IFERROR(B30/G35*B28,"") | H37: MMBtu/yr
A38: Generation Fuel Consumption | B38: =B37*'Carbon Calculator'!E101/1000 -> 47.599874 | C38: MMBtu/yr | F38: Propane Consumption (gal) | G38: =IFERROR(G37/0.0916,0) -> 0 | H38: gal/yr
A39: CO2 Emissions | B39: =B37*'Carbon Calculator'!E102 -> 6977.5856 | C39: lbs/yr | F39: CO2 Emissions | G39: =G38*'Carbon Calculator'!E108/1000 -> 0 | H39: lbs/yr
A41: Clothes Drying
A43: Dryer Loads per week | B43: =dryerloads -> 8 | F43: Propane Consumption | G43: =IF(dtype=2,B48/0.0916,0) -> 0 | H43: gal/yr
A44: Dryer Loads per year | B44: =B43*52 -> 416 | F44: CO2 Emissions | G44: =G43*'Carbon Calculator'!E108/1000 -> 0 | H44: lbs/yr
A45: NG Standard Dryer (EF) | B45: 2.67
A46: Gas Consumed per unit (MMBtu/yr) Standard | B46: =(Factors!A24/Calc!B45*Factors!A25)*3412/1000000 -> 3.7212524 | C46: MMBtu/yr (based on 416 loads/year)
A47: Gas Consumed per load (MMBtu/yr) | B47: =B46/416 -> 0.0089453184 | F47: Current NG Consumption | G47: =IF(dtype=3,B48,0) -> 0 | H47: MMBTU/yr
A48: Total Gas Consumed per unit (MMBtu/yr) | B48: =B44*B47 -> 3.7212524
A49: CO2 Emissions | B49: =B48*'Carbon Calculator'!E105 -> 437.7944 | C49: lbs/yr
...

Sheet Factors
A1: Factors
A3: General Emission Factors
A4: =12/44 -> 0.27272727 | C4: ratio of carbon to CO2
A5: =2000/2206 -> 0.90661831 | C5: ratio of tonnes to tons
A6: 4.6 | C6: metric tons of Carbon per car | G6: =A6/11500 -> 0.0004 | H6: metric tons CO2e/mile
A7: 1 | C7: metric tons of Carbon per acre of forest
A8: 2000 | C8: pounds per ton
A9: 0.0283 | C9: ratio of cubic feet to cubic meters
A11: Natural Gas
A12: 0.4238 | C12: lb/cf heat content of natural gas
A13: 1020 | C13: Btu/cf of natural gas
A14: 7.0967437e-07 | C14: sulfur content of natural gas
A15: 117 | C15: lb/MMBtu CO2 emission factor
A17: Oil
A23: Clothes Dryers
A24: 7 | C24: lbs per load | E24: (DOE test procedure)
A25: 416 | C25: loads per year | E25: (DOE test procedure)
A28: Electricity Generation
A29: 0.07 | C29: transmission losses

Sheet Residential Prices
B2: Residential Electricity, Gas, Oil, and Propane Prices
B4: Lookup | C4: State or Province | D4: Abbrev | E4: Residential Electricity Prices: Cents per Kilowatthour | F4: Residential Natural Gas Price ($/MMBtu) | G4: Oil $/gal | H4: Propane $/gal | J4: Source (US Data):
B5: =VLOOKUP(C5,Lists!$B$21:$F$83,5,0) -> 3 | C5: Alabama | D5: AL | E5: 14.63 | F5: 19.36 | G5: 4.28 | H5: 3.24 | J5: Average Retail Price of Electricity (2023 data)
B6: =VLOOKUP(C6,Lists!$B$21:$F$83,5,0) -> 2 | C6: Alaska | D6: AK | E6: 23.9 | F6: 10.97 | G6: 4.28 | H6: 2.56 | J6: Retail Sales of Electricity to Ultimate Customers: Annual Data by Sector, by State, by Provider
B7: =VLOOKUP(C7,Lists!$B$21:$F$83,5,0) -> 54 | C7: Alberta | D7: AB | E7: 19.092 | F7: 9.14 | G7: 4.16 | H7: 3.5 | J7: https://www.eia.gov/electricity/data.php
B8: =VLOOKUP(C8,Lists!$B$21:$F$83,5,0) -> 5 | C8: Arizona | D8: AZ | E8: 14.02 | F8: 18.73 | G8: 4.28 | H8: 2.56
B9: =VLOOKUP(C9,Lists!$B$21:$F$83,5,0) -> 4 | C9: Arkansas | D9: AR | E9: 12.25 | F9: 17.21 | G9: 4.28 | H9: 2.38 | J9: Residential Natural Gas Prices (2023 data)
B10: =VLOOKUP(C10,Lists!$B$21:$F$83,5,0) -> 55 | C10: British Columbia | D10: BC | E10: 8.436 | F10: 9.14 | G10: 4.16 | H10: 3.5 | J10: https://www.eia.gov/dnav/ng/ng_pri_sum_a_EPG0_PRS_DMcf_a.htm
B11: =VLOOKUP(C11,Lists!$B$21:$F$83,5,0) -> 6 | C11: California | D11: CF | E11: 29.51 | F11: 21.05 | G11: 4.28 | H11: 2.56
B12: =VLOOKUP(C12,Lists!$B$21:$F$83,5,0) -> 53 | C12: Canadian Average | D12: CA | E12: 11.47 | F12: 9.14 | G12: 4.16 | H12: 3.5 | J12: Residential Propane Prices (2023 data, applied US Average to states with no data)
B13: =VLOOKUP(C13,Lists!$B$21:$F$83,5,0) -> 7 | C13: Colorado | D13: CL | E13: 14.3 | F13: 11.45 | G13: 4.28 | H13: 2.34 | J13: https://www.eia.gov/dnav/pet/pet_pri_wfr_a_EPLLPA_PRS_dpgal_w.htm
B14: =VLOOKUP(C14,Lists!$B$21:$F$83,5,0) -> 8 | C14: Connecticut | D14: CT | E14: 29.88 | F14: 18.19 | G14: 4.16 | H14: 3.7
B15: =VLOOKUP(C15,Lists!$B$21:$F$83,5,0) -> 10 | C15: Delaware | D15: DL | E15: 15.73 | F15: 17.04 | G15: 4.67 | H15: 3.47 | J15: Residential Heating Oil Prices (2023 data, applied US Average to states with no data)
B16: =VLOOKUP(C16,Lists!$B$21:$F$83,5,0) -> 9 | C16: District of Columbia | D16: DC | E16: 16.45 | F16: 16.18 | G16: 4.28 | H16: 2.56 | J16: https://www.eia.gov/dnav/pet/pet_pri_wfr_a_EPD2F_prs_dpgal_w.htm
B17: =VLOOKUP(C17,Lists!$B$21:$F$83,5,0) -> 11 | C17: Florida | D17: FL | E17: 15.21 | F17: 24.25 | G17: 4.28 | H17: 4.72
B18: =VLOOKUP(C18,Lists!$B$21:$F$83,5,0) -> 12 | C18: Georgia | D18: GA | E18: 13.69 | F18: 18.33 | G18: 4.28 | H18: 2.98 | J18: Source (Canadian Data)
B19: =VLOOKUP(C19,Lists!$B$21:$F$83,5,0) -> 13 | C19: Hawaii | D19: HA | E19: 42.39 | F19: 51.16 | G19: 4.28 | H19: 2.56 | J19: Residential Electricity Price (2023)
B20: =VLOOKUP(C20,Lists!$B$21:$F$83,5,0) -> 15 | C20: Idaho | D20: ID | E20: 11.05 | F20: 9.39 | G20: 4.28 | H20: 2.54 | J20: Assumes 1000 kWh/yr consumption; 0.74:1 CAD/USD
B21: =VLOOKUP(C21,Lists!$B$21:$F$83,5,0) -> 16 | C21: Illinois | D21: IL | E21: 15.71 | F21: 11.15 | G21: 4.28 | H21: 1.96 | J21: https://www.energyhub.org/electricity-prices/
B22: =VLOOKUP(C22,Lists!$B$21:$F$83,5,0) -> 17 | C22: Indiana | D22: IN | E22: 14.94 | F22: 11.21 | G22: 3.9 | H22: 2.44
B23: =VLOOKUP(C23,Lists!$B$21:$F$83,5,0) -> 14 | C23: Iowa | D23: IA | E23: 13.31 | F23: 11.34 | G23: 3.56 | H23: 1.75 | J23: Natural Resources Canada
B24: =VLOOKUP(C24,Lists!$B$21:$F$83,5,0) -> 18 | C24: Kansas | D24: KA | E24: 13.38 | F24: 14.02 | G24: 4.28 | H24: 1.91 | J24: Energy Prices by Energy Source - Natural Gas (2022)
B25: =VLOOKUP(C25,Lists!$B$21:$F$83,5,0) -> 19 | C25: Kentucky | D25: KY | E25: 12.65 | F25: 14.93 | G25: 3.87 | H25: 2.53 | J25: Used 0.72 CAD/USD
B26: =VLOOKUP(C26,Lists!$B$21:$F$83,5,0) -> 20 | C26: Louisiana | D26: LA | E26: 11.55 | F26: 15.63 | G26: 4.28 | H26: 2.56 | J26: https://oee.nrcan.gc.ca/corporate/statistics/neud/dpa/showTable.cfm?type=HB&sector=res&juris=00&rn=18&page=0#sources
B27: =VLOOKUP(C27,Lists!$B$21:$F$83,5,0) -> 23 | C27: Maine | D27: ME | E27: 27.42 | F27: 18.4 | G27: 4.05 | H27: 3.16
B28: =VLOOKUP(C28,Lists!$B$21:$F$83,5,0) -> 56 | C28: Manitoba | D28: MB | E28: 7.548 | F28: 9.14 | G28: 4.16 | H28: 3.5
B29: =VLOOKUP(C29,Lists!$B$21:$F$83,5,0) -> 22 | C29: Maryland | D29: MD | E29: 16.6 | F29: 16.71 | G29: 4.46 | H29: 3.39 | J29: Weekly Average Retail Prices for Furnace Oil in 2024
B30: =VLOOKUP(C30,Lists!$B$21:$F$83,5,0) -> 21 | C30: Massachusetts | D30: MS | E30: 29.61 | F30: 20.66 | G30: 4.29 | H30: 3.47 | J30: https://www2.nrcan.gc.ca/eneene/sources/pripri/prices_bycity_e.cfm?productID=7&locationID=66&locationID=8&locationID=29&frequency=W&priceYear=2024&Redisplay=
B31: =VLOOKUP(C31,Lists!$B$21:$F$83,5,0) -> 24 | C31: Michigan | D31: MC | E31: 18.84 | F31: 11.06 | G31: 3.71 | H31: 2.3 | J31: Used 0.72 CAD/USD
B32: =VLOOKUP(C32,Lists!$B$21:$F$83,5,0) -> 25 | C32: Minnesota | D32: MN | E32: 14.73 | F32: 11.51 | G32: 4.09 | H32: 2
B33: =VLOOKUP(C33,Lists!$B$21:$F$83,5,0) -> 27 | C33: Mississippi | D33: MI | E33: 13.23 | F33: 15.07 | G33: 4.28 | H33: 2.94 | J33: Weekly Average Retail Prices for Auto Propane in 2024
B34: =VLOOKUP(C34,Lists!$B$21:$F$83,5,0) -> 26 | C34: Missouri | D34: MO | E34: 12.58 | F34: 16.54 | G34: 4.28 | H34: 2.14 | J34: https://www2.nrcan-rncan.gc.ca/eneene/sources/pripri/prices_bycity_e.cfm?productID=6&locationID=66&frequency=M&priceYear=2024&Redisplay=
B35: =VLOOKUP(C35,Lists!$B$21:$F$83,5,0) -> 28 | C35: Montana | D35: MT | E35: 12.54 | F35: 9.8 | G35: 4.28 | H35: 2.21 | J35: Used 0.72 CAD/USD
B36: =VLOOKUP(C36,Lists!$B$21:$F$83,5,0) -> 31 | C36: Nebraska | D36: NB | E36: 11.2 | F36: 12.62 | G36: 3.47 | H36: 1.72
B37: =VLOOKUP(C37,Lists!$B$21:$F$83,5,0) -> 35 | C37: Nevada | D37: NV | E37: 16.67 | F37: 16.35 | G37: 4.28 | H37: 2.56
B38: =VLOOKUP(C38,Lists!$B$21:$F$83,5,0) -> 57 | C38: New Brunswick | D38: NB | E38: 10.286 | F38: 9.14 | G38: 4.16 | H38: 3.5
B39: =VLOOKUP(C39,Lists!$B$21:$F$83,5,0) -> 32 | C39: New Hampshire | D39: NH | E39: 28.15 | F39: 20.25 | G39: 4.34 | H39: 3.54
B40: =VLOOKUP(C40,Lists!$B$21:$F$83,5,0) -> 33 | C40: New Jersey | D40: NJ | E40: 17.7 | F40: 12.73 | G40: 4.54 | H40: 3.26
B41: =VLOOKUP(C41,Lists!$B$21:$F$83,5,0) -> 34 | C41: New Mexico | D41: NM | E41: 13.85 | F41: 11.23 | G41: 4.28 | H41: 2.56
B42: =VLOOKUP(C42,Lists!$B$21:$F$83,5,0) -> 36 | C42: New York | D42: NY | E42: 22.25 | F42: 16.28 | G42: 4.53 | H42: 3.3
...

Sheet Carbon Calculator
C2: Commercial Carbon Calculator | V2: To update carbon calculator, ONLY update the table below and the table in columns BS:BW (Canada). Both are highlighted in blue
L3: Developed by:
V4: eGRID2023 (v2, 2025 Release), 2022 for Canada | BC4: Canada Data | BY4: Emissions Summary | CA4: *values in columns BZ-CC are the ones used in calculations, but they are pulled from table starting in AF | CF4: Other Data | CP4: Lists
CA5: *only blue highlighted values are used for calcilations
BC6: CO2 Emissions | BJ6: SOX and NOX Emissions | BS6: Canadian Average All Sources | BY6: eGRID2023 US, NIR (2022) and NPRI Canada (2011) | CF6: NOX Emission Factors, EPA AP-42 Section 1.4 Natural Gas Combustion, Table 3.4-1 | CL6: Unit Conversions | CP6: Consumption | CR6: Regions | CU6: Emissions Profile
V7: *update table below | BS7: *update table below
V8: eGRID2023 (2025 release) | W8: State abbreviation | X8: State nameplate capacity (MW) | Y8: State annual heat input (MMBtu) | Z8: State annual net generation (MWh) | AA8: State annual NOx emissions (tons) | AB8: State annual SO2 emissions (tons) | AC8: State annual CO2 emissions (tons) | AD8: State annual NOx total output emission rate (lb/MWh) | AE8: State annual SO2 total output emission rate (lb/MWh) | AF8: State annual CO2 total output emission rate (lb/MWh) | AG8: State annual NOx input emission rate (lb/MMBtu) | AH8: State ozone season NOx input emission rate (lb/MMBtu) | AI8: State annual SO2 input emission rate (lb/MMBtu) | AJ8: State annual CO2 input emission rate (lb/MMBtu) | AK8: State annual NOx fossil fuel output emission rate (lb/MWh) | AL8: State annual SO2 fossil fuel output emission rate (lb/MWh) | AM8: State annual CO2 fossil fuel output emission rate (lb/MWh) | AN8: State annual NOx fossil fuel input emission rate (lb/MMBtu) | AO8: State annual SO2 fossil fuel input emission rate (lb/MMBtu) | AP8: State annual CO2 fossil fuel input emission rate (lb/MMBtu) | AQ8: State annual coal net generation (MWh) | AR8: State annual oil net generation (MWh) | AS8: State annual gas net generation (MWh) | AT8: State annual other fossil net generation (MWh) | AU8: State coal generation percent (resource mix) | AV8: State oil generation percent (resource mix) | AW8: State gas generation percent (resource mix) | AX8: State other fossil generation percent (resource mix) | AY8: State total combustion generation percent (resource mix) | AZ8: Total Annual Heat Rate (Btu/kWh) | BA8: Fossil Annual Heat Rate (Btu/kWh) | BD8: CO2 - g CO2 eq/kWh | BF8: CO2 - lb CO2 eq/MWh | BK8: SOX (t)1 | BL8: NOX (t)1 | BM8: SOX (pounds) | BN8: NOX (pounds) | BO8: Generation (GWh)2 | BP8: SO2 output emission rate (lb/MWh) | BQ8: NOX output emission rate (lb/MWh) | BS8: Canada Province | BT8: 2022 CO2 Emission Rate (lb/MWh)1 | BU8: 2011 NOX Emission Rate (lb/MWh)2 | BV8: 2011 SO2 Emission Rate (lb/MWh)2,3 | BW8: Province Annual Heat Rate (Btu/kWh) | BY8: State | BZ8: CO2 Emission Rate (lb/MWh) | CA8: SO2 Emission Rate (lb/MWh) | CB8: NOX Emission Rate (lb/MWh) | CC8: Annual Heat Rate (Btu/kWh) | CF8: Pollutant | CG8: # of Tests | CH8: Emission Factor (lb/106 scf) | CI8: Relative St. Dev (%) | CL8: Value | CM8: Units | CP8: Monthly | CR8: US Average | CS8: =CR8 -> US Average | CT8: 1 | CU8: eGrid Subregions Ave All Sources | CW8: US_Average_All_Sources | CX8: US_Average_Fossil | CY8: eGrid_Subregions_Ave_All_Sources | CZ8: eGrid_Subregions_Average_Fossil | DA8: NERC_Average_All_Sources | DB8: NERC_Average_Fossil | DC8: Canadian_Average_All_Sources
C9: User Input | V9: N/A | W9: US Average | X9: 1303568.8 | Y9: 2.1889488e+10 | Z9: 4.1909709e+09 | AA9: 947487.4 | AB9: 752518.81 | AC9: 1.6076763e+09 | AD9: 0.452 | AE9: 0.359 | AF9: 767.209 | AG9: 0.087 | AH9: 0.082 | AI9: 0.069 | AJ9: 146.89 | AK9: 0.71 | AL9: 0.567 | AM9: 1270.259 | AN9: 0.084 | AO9: 0.067 | AP9: 149.906 | AQ9: 6.7470209e+08 | AR9: 23005569 | AS9: 1.8091774e+09 | AT9: 19169271 | AU9: 0.161 | AV9: 0.005 | AW9: 0.432 | AX9: 0.005 | AY9: 0.614 | AZ9: =Y9/Z9*1000 -> 5223.0111 | BA9: =Y9/(SUM(AQ9:AT9))*1000 -> 8665.4857 | BD9: Generation Intensity | BE9: Consumption Intensity | BF9: Generation Intensity | BG9: Consumption Intensity | BH9: Losses1 | BJ9: Canada Average | BK9: 294098.97 | BL9: 184706.74 | BM9: 6.4837647e+08 | BN9: 4.0720817e+08 | BO9: 568000 | BP9: =BM9/$BO9/1000 -> 1.1415079 | BQ9: =BN9/$BO9/1000 -> 0.71691578 | BS9: Canada Average | BT9: 220.46244 | BU9: 0.71691578 | BV9: 1.1415079 | BW9: 3634 | BY9: =W9 -> US Average | BZ9: =AF9 -> 767.209 | CA9: =AE9 -> 0.359 | CB9: =AD9 -> 0.452 | CC9: =AZ9 -> 5223.0111 | CF9: NOx (Small-Unc.) | CG9: 18 | CH9: 104 | CI9: 0.51 | CL9: 1.10231 | CM9: short ton/metric ton | CP9: Annual | CR9: Alaska | CS9: AK | CT9: 2 | CU9: eGrid Subregions Average Fossil | CW9: US Average | CX9: =CW9 -> US Average | CY9: ASCC Alaska Grid | CZ9: ASCC Alaska Grid | DA9: Alaska Systems Coordinating Council | DB9: Alaska Systems Coordinating Council | DC9: Canada Average
I10: Comparison Cases | V10: 1 | W10: AK | X10: 3095.5 | Y10: 39933924 | Z10: 6678905.2 | AA10: 20591.981 | AB10: 1349.979 | AC10: 2704369 | AD10: 6.166 | AE10: 0.404 | AF10: 809.824 | AG10: 1.031 | AH10: 1.107 | AI10: 0.068 | AJ10: 135.442 | AK10: 8.631 | AL10: 0.563 | AM10: 1134.697 | AN10: 1.041 | AO10: 0.068 | AP10: 136.805 | AQ10: 730681.46 | AR10: 848592.32 | AS10: 3182407.1 | AT10: 0 | AU10: 0.109 | AV10: 0.127 | AW10: 0.476 | AX10: 0 | AY10: 0.719 | AZ10: =Y10/Z10*1000 -> 5979.1123 | BA10: =Y10/(SUM(AQ10:AT10))*1000 -> 8386.5183 | BC10: Canada Average | BD10: 100 | BE10: 100 | BF10: 220.46244 | BG10: 220.46244 | BH10: =IF(BD10=0,0,BE10/BD10-1) -> 0 | BJ10: Alberta | BK10: 114491.81 | BL10: 84030.118 | BM10: 2.5241094e+08 | BN10: 1.8525448e+08 | BO10: 64600 | BP10: =BM10/$BO10/1000 -> 3.90729 | BQ10: =BN10/$BO10/1000 -> 2.8677164 | BS10: Alberta | BT10: 1036.1735 | BU10: 2.8677164 | BV10: 3.90729 | BW10: 10177 | BY10: =W10 -> AK | BZ10: =AF10 -> 809.824 | CA10: =AE10 -> 0.404 | CB10: =AD10 -> 6.166 | CC10: =AZ10 -> 5979.1123 | CF10: NOx (Small-Low NOx) | CG10: 5 | CH10: 50 | CI10: 0.54 | CL10: 0.099976 | CM10: mmbtu/therm | CR10: Alabama | CS10: AL | CT10: 3 | CU10: Canadian Average All Sources | CW10: Alaska | CX10: Alaska | CY10: ASCC Miscellaneous | CZ10: ASCC Miscellaneous | DA10: Hawaiian Islands Coordinating Council | DB10: Hawaiian Islands Coordinating Council | DC10: Alberta
C11: Description | E11: Current Home | I11: Gas Alternative | Q11: #5 | S11: #6 | V11: 2 | W11: AL | X11: 32924 | Y11: 6.8557933e+08 | Z11: 1.3859626e+08 | AA11: 14811.073 | AB11: 6423.285 | AC11: 49270108 | AD11: 0.214 | AE11: 0.093 | AF11: 710.988 | AG11: 0.043 | AH11: 0.046 | AI11: 0.019 | AJ11: 143.733 | AK11: 0.331 | AL11: 0.057 | AM11: 1232.689 | AN11: 0.04 | AO11: 0.007 | AP11: 147.885 | AQ11: 18975690 | AR11: 23792.08 | AS11: 61216629 | AT11: 31.529 | AU11: 0.137 | AV11: 0 | AW11: 0.442 | AX11: 0 | AY11: 0.602 | AZ11: =Y11/Z11*1000 -> 4946.5934 | BA11: =Y11/(SUM(AQ11:AT11))*1000 -> 8546.6504 | BC11: Alberta | BD11: 470 | BE11: 490 | BF11: 1036.1735 | BG11: 1080.266 | BH11: =IF(BD11=0,0,BE11/BD11-1) -> 0.042553191 | BJ11: British Columbia | BK11: 138.7048 | BL11: 2088.8574 | BM11: 305791.37 | BN11: 4605136.7 | BO11: 56300 | BP11: =BM11/$BO11/1000 -> 0.005431463 | BQ11: =BN11/$BO11/1000 -> 0.081796389 | BS11: British Columbia | BT11: 30.864742 | BU11: 0.081796389 | BV11: 0.005431463 | BW11: 437 | BY11: =W11 -> AL | BZ11: =AF11 -> 710.988 | CA11: =AE11 -> 0.093 | CB11: =AD11 -> 0.214 | CC11: =AZ11 -> 4946.5934 | CF11: NOx (Small-Low NOx/FGR) | CG11: 15 | CH11: 32 | CI11: 0.18 | CL11: 2000 | CM11: pounds/short ton | CR11: Arkansas | CS11: AR | CW11: Alabama | CX11: Alabama | CY11: ERCOT All | CZ11: ERCOT All | DA11: Midwest Reliability Organization | DB11: Midwest Reliability Organization | DC11: British Columbia
V12: 3 | W12: AR | X12: 17060.1 | Y12: 3.8781729e+08 | Z12: 63195647 | AA12: 15231.232 | AB12: 27092.375 | AC12: 31389682 | AD12: 0.482 | AE12: 0.857 | AF12: 993.413 | AG12: 0.079 | AH12: 0.083 | AI12: 0.14 | AJ12: 161.879 | AK12: 0.685 | AL12: 1.201 | AM12: 1450.016 | AN12: 0.077 | AO12: 0.136 | AP12: 163.683 | AQ12: 16844436 | AR12: 44534.566 | AS12: 26487467 | AT12: 6914.374 | AU12: 0.267 | AV12: 0.001 | AW12: 0.419 | AX12: 0 | AY12: 0.698 | AZ12: =Y12/Z12*1000 -> 6136.7723 | BA12: =Y12/(SUM(AQ12:AT12))*1000 -> 8939.3114 | BC12: British Columbia | BD12: 14 | BE12: 15 | BF12: 30.864742 | BG12: 33.069366 | BH12: =IF(BD12=0,0,BE12/BD12-1) -> 0.071428571 | BJ12: Manitoba | BK12: 664.74159 | BL12: 442.07568 | BM12: 1465502.6 | BN12: 974608.9 | BO12: 35100 | BP12: =BM12/$BO12/1000 -> 0.041752211 | BQ12: =BN12/$BO12/1000 -> 0.027766635 | BS12: Manitoba | BT12: 2.8660117 | BU12: 0.027766635 | BV12: 0.041752211 | BW12: 300 | BY12: =W12 -> AR | BZ12: =AF12 -> 993.413 | CA12: =AE12 -> 0.857 | CB12: =AD12 -> 0.482 | CC12: =AZ12 -> 6136.7723 | CF12: NOx (Large Wall-Fired-Low NOx) | CG12: 5 | CH12: 136 | CI12: 0.37 | CL12: 453.592 | CM12: grams/pound | CR12: Arizona | CS12: AZ | CW12: Arkansas | CX12: Arkansas | CY12: FRCC All | CZ12: FRCC All | DA12: Northeast Power Coordinating Council | DB12: Northeast Power Coordinating Council | DC12: Manitoba
